BEGIN:VCALENDAR
VERSION:2.0
PRODID:-//Play Pittsburgh - ECPv6.15.20//NONSGML v1.0//EN
CALSCALE:GREGORIAN
METHOD:PUBLISH
X-ORIGINAL-URL:https://playpittsburgh.com
X-WR-CALDESC:Events for Play Pittsburgh
REFRESH-INTERVAL;VALUE=DURATION:PT1H
X-Robots-Tag:noindex
X-PUBLISHED-TTL:PT1H
BEGIN:VTIMEZONE
TZID:America/New_York
BEGIN:DAYLIGHT
TZOFFSETFROM:-0500
TZOFFSETTO:-0400
TZNAME:EDT
DTSTART:20130310T070000
END:DAYLIGHT
BEGIN:STANDARD
TZOFFSETFROM:-0400
TZOFFSETTO:-0500
TZNAME:EST
DTSTART:20131103T060000
END:STANDARD
BEGIN:DAYLIGHT
TZOFFSETFROM:-0500
TZOFFSETTO:-0400
TZNAME:EDT
DTSTART:20140309T070000
END:DAYLIGHT
BEGIN:STANDARD
TZOFFSETFROM:-0400
TZOFFSETTO:-0500
TZNAME:EST
DTSTART:20141102T060000
END:STANDARD
BEGIN:DAYLIGHT
TZOFFSETFROM:-0500
TZOFFSETTO:-0400
TZNAME:EDT
DTSTART:20150308T070000
END:DAYLIGHT
BEGIN:STANDARD
TZOFFSETFROM:-0400
TZOFFSETTO:-0500
TZNAME:EST
DTSTART:20151101T060000
END:STANDARD
BEGIN:DAYLIGHT
TZOFFSETFROM:-0500
TZOFFSETTO:-0400
TZNAME:EDT
DTSTART:20160313T070000
END:DAYLIGHT
BEGIN:STANDARD
TZOFFSETFROM:-0400
TZOFFSETTO:-0500
TZNAME:EST
DTSTART:20161106T060000
END:STANDARD
BEGIN:DAYLIGHT
TZOFFSETFROM:-0500
TZOFFSETTO:-0400
TZNAME:EDT
DTSTART:20170312T070000
END:DAYLIGHT
BEGIN:STANDARD
TZOFFSETFROM:-0400
TZOFFSETTO:-0500
TZNAME:EST
DTSTART:20171105T060000
END:STANDARD
END:VTIMEZONE
BEGIN:VEVENT
DTSTART;TZID=America/New_York:20160710T140000
DTEND;TZID=America/New_York:20160710T160000
DTSTAMP:20260423T064919
CREATED:20160710T131722Z
LAST-MODIFIED:20160710T131722Z
UID:9691-1468159200-1468166400@playpittsburgh.com
SUMMARY:Sundays in the Park at South Shore Riverfront Park
DESCRIPTION:Free concerts from 2-4pm at South Side Works Riverfront Park all summer long\, every Sunday.  \nJuly 10 Jakobs Ferry Stragglers\nJuly 17 Cello Fury\nJuly 24 Nameless in August\nJuly 31 Boogie Hustlers\nAugust 7 Joel Lindsay Duo\nAugust 14 Reggie Watkins Band\nAugust 21 Billy the Kid & The Regulators\nAugust 28 Love Bettie Duo
URL:https://playpittsburgh.com/event/sundays-park-south-shore-riverfront-park/
LOCATION:Riverfront Park\, Art Rooney Ave\, Pittsburgh\, PA\, 15212\, United States
GEO:40.4466056;-80.0139661
X-APPLE-STRUCTURED-LOCATION;VALUE=URI;X-ADDRESS=Riverfront Park Art Rooney Ave Pittsburgh PA 15212 United States;X-APPLE-RADIUS=500;X-TITLE=Art Rooney Ave:geo:-80.0139661,40.4466056
END:VEVENT
BEGIN:VEVENT
DTSTART;TZID=America/New_York:20140724T100000
DTEND;TZID=America/New_York:20140724T113000
DTSTAMP:20260423T064919
CREATED:20140717T173532Z
LAST-MODIFIED:20140717T173532Z
UID:2697-1406196000-1406201400@playpittsburgh.com
SUMMARY:Tyke Hike @ South Side Riverfront Park
DESCRIPTION:Come and join Venture Outdoors for a Tyke Hike! They welcome parents or caregivers with children–newborn to 5 years old. Explore nature\, touch the trees and look for little critters on these easy walks in the park. Adults and children can make new play date friends! Hikes will be trail-friendly for strollers\, slings\, child-carriers or on foot. Strollers must be able to maneuver off road. Children on foot should wear tennis shoes. Craft and snacks provided after the hike! Weather permitting. Pre-registration requested. Walk-ups are welcome at $12 per child. \nRegister here. 
URL:https://playpittsburgh.com/event/tyke-hike-south-side-riverfront-park/
LOCATION:Riverfront Park\, Art Rooney Ave\, Pittsburgh\, PA\, 15212\, United States
CATEGORIES:Outdoor
GEO:40.4466056;-80.0139661
X-APPLE-STRUCTURED-LOCATION;VALUE=URI;X-ADDRESS=Riverfront Park Art Rooney Ave Pittsburgh PA 15212 United States;X-APPLE-RADIUS=500;X-TITLE=Art Rooney Ave:geo:-80.0139661,40.4466056
END:VEVENT
END:VCALENDAR