BEGIN:VCALENDAR
VERSION:2.0
PRODID:-//Play Pittsburgh - ECPv6.15.20//NONSGML v1.0//EN
CALSCALE:GREGORIAN
METHOD:PUBLISH
X-ORIGINAL-URL:https://playpittsburgh.com
X-WR-CALDESC:Events for Play Pittsburgh
REFRESH-INTERVAL;VALUE=DURATION:PT1H
X-Robots-Tag:noindex
X-PUBLISHED-TTL:PT1H
BEGIN:VTIMEZONE
TZID:America/New_York
BEGIN:DAYLIGHT
TZOFFSETFROM:-0500
TZOFFSETTO:-0400
TZNAME:EDT
DTSTART:20130310T070000
END:DAYLIGHT
BEGIN:STANDARD
TZOFFSETFROM:-0400
TZOFFSETTO:-0500
TZNAME:EST
DTSTART:20131103T060000
END:STANDARD
BEGIN:DAYLIGHT
TZOFFSETFROM:-0500
TZOFFSETTO:-0400
TZNAME:EDT
DTSTART:20140309T070000
END:DAYLIGHT
BEGIN:STANDARD
TZOFFSETFROM:-0400
TZOFFSETTO:-0500
TZNAME:EST
DTSTART:20141102T060000
END:STANDARD
BEGIN:DAYLIGHT
TZOFFSETFROM:-0500
TZOFFSETTO:-0400
TZNAME:EDT
DTSTART:20150308T070000
END:DAYLIGHT
BEGIN:STANDARD
TZOFFSETFROM:-0400
TZOFFSETTO:-0500
TZNAME:EST
DTSTART:20151101T060000
END:STANDARD
END:VTIMEZONE
BEGIN:VEVENT
DTSTART;VALUE=DATE:20140815
DTEND;VALUE=DATE:20140818
DTSTAMP:20260422T092312
CREATED:20140729T232759Z
LAST-MODIFIED:20140730T014123Z
UID:2929-1408060800-1408319999@playpittsburgh.com
SUMMARY:40th Annual Beaver County River Regatta
DESCRIPTION:Boat races\, anything that floats race\, lighted boat parade\, kayak race and children’s activities. Plenty of food vendors\, live entertainment and much more! Fireworks Sunday night. Family event. Free. \nFriday\, August 15th 6-10 P.M.; Saturday\, August 16th 9 A.M.-10 P.M.; Sunday\, August 17th Noon-10 P.M. \nQuestions? Please contact (724) 775-7066
URL:https://playpittsburgh.com/event/40th-annual-beaver-country-river-regatta/
LOCATION:River Regatta\, Riverside Drive\, Bridgewater\, 15009\, United States
CATEGORIES:Festivals,Free,Outdoor
GEO:40.7088575;-80.2974303
X-APPLE-STRUCTURED-LOCATION;VALUE=URI;X-ADDRESS=River Regatta Riverside Drive Bridgewater 15009 United States;X-APPLE-RADIUS=500;X-TITLE=Riverside Drive:geo:-80.2974303,40.7088575
END:VEVENT
END:VCALENDAR