BEGIN:VCALENDAR
VERSION:2.0
PRODID:-//Play Pittsburgh - ECPv6.15.20//NONSGML v1.0//EN
CALSCALE:GREGORIAN
METHOD:PUBLISH
X-WR-CALNAME:Play Pittsburgh
X-ORIGINAL-URL:https://playpittsburgh.com
X-WR-CALDESC:Events for Play Pittsburgh
REFRESH-INTERVAL;VALUE=DURATION:PT1H
X-Robots-Tag:noindex
X-PUBLISHED-TTL:PT1H
BEGIN:VTIMEZONE
TZID:America/New_York
BEGIN:DAYLIGHT
TZOFFSETFROM:-0500
TZOFFSETTO:-0400
TZNAME:EDT
DTSTART:20140309T070000
END:DAYLIGHT
BEGIN:STANDARD
TZOFFSETFROM:-0400
TZOFFSETTO:-0500
TZNAME:EST
DTSTART:20141102T060000
END:STANDARD
BEGIN:DAYLIGHT
TZOFFSETFROM:-0500
TZOFFSETTO:-0400
TZNAME:EDT
DTSTART:20150308T070000
END:DAYLIGHT
BEGIN:STANDARD
TZOFFSETFROM:-0400
TZOFFSETTO:-0500
TZNAME:EST
DTSTART:20151101T060000
END:STANDARD
BEGIN:DAYLIGHT
TZOFFSETFROM:-0500
TZOFFSETTO:-0400
TZNAME:EDT
DTSTART:20160313T070000
END:DAYLIGHT
BEGIN:STANDARD
TZOFFSETFROM:-0400
TZOFFSETTO:-0500
TZNAME:EST
DTSTART:20161106T060000
END:STANDARD
END:VTIMEZONE
BEGIN:VEVENT
DTSTART;TZID=America/New_York:20150328T100000
DTEND;TZID=America/New_York:20150328T110000
DTSTAMP:20260424T063023
CREATED:20150324T204930Z
LAST-MODIFIED:20150324T204930Z
UID:5559-1427536800-1427540400@playpittsburgh.com
SUMMARY:Regent Square Easter Egg Hunt
DESCRIPTION:This free\, family-fun event will take place on March 28th starting at 10am\, in parklet at the corner of Richmond Street and Sanders Avenue. Children ages 8 and under are invited to hunt for candy- and prize-filled eggs starting at 10:00am sharp! Following the egg hunt\, children and families can participate in other fun spring-themed activities. Small bags will be provided for each child to use in the egg hunt\, so please leave larger baskets at home. Please note that there are no restrooms available at the parklet.
URL:https://playpittsburgh.com/event/regent-square-easter-egg-hunt/
LOCATION:Regent Square\, Sanders Street & Richmond Street\, Pittsburgh\, PA\, 15218\, United States
GEO:40.4296724;-79.89815
X-APPLE-STRUCTURED-LOCATION;VALUE=URI;X-ADDRESS=Regent Square Sanders Street & Richmond Street Pittsburgh PA 15218 United States;X-APPLE-RADIUS=500;X-TITLE=Sanders Street & Richmond Street:geo:-79.89815,40.4296724
END:VEVENT
END:VCALENDAR