BEGIN:VCALENDAR
VERSION:2.0
PRODID:-//Play Pittsburgh - ECPv6.15.20//NONSGML v1.0//EN
CALSCALE:GREGORIAN
METHOD:PUBLISH
X-ORIGINAL-URL:https://playpittsburgh.com
X-WR-CALDESC:Events for Play Pittsburgh
REFRESH-INTERVAL;VALUE=DURATION:PT1H
X-Robots-Tag:noindex
X-PUBLISHED-TTL:PT1H
BEGIN:VTIMEZONE
TZID:America/New_York
BEGIN:DAYLIGHT
TZOFFSETFROM:-0500
TZOFFSETTO:-0400
TZNAME:EDT
DTSTART:20130310T070000
END:DAYLIGHT
BEGIN:STANDARD
TZOFFSETFROM:-0400
TZOFFSETTO:-0500
TZNAME:EST
DTSTART:20131103T060000
END:STANDARD
BEGIN:DAYLIGHT
TZOFFSETFROM:-0500
TZOFFSETTO:-0400
TZNAME:EDT
DTSTART:20140309T070000
END:DAYLIGHT
BEGIN:STANDARD
TZOFFSETFROM:-0400
TZOFFSETTO:-0500
TZNAME:EST
DTSTART:20141102T060000
END:STANDARD
BEGIN:DAYLIGHT
TZOFFSETFROM:-0500
TZOFFSETTO:-0400
TZNAME:EDT
DTSTART:20150308T070000
END:DAYLIGHT
BEGIN:STANDARD
TZOFFSETFROM:-0400
TZOFFSETTO:-0500
TZNAME:EST
DTSTART:20151101T060000
END:STANDARD
END:VTIMEZONE
BEGIN:VEVENT
DTSTART;VALUE=DATE:20140731
DTEND;VALUE=DATE:20140804
DTSTAMP:20260422T143902
CREATED:20140729T215243Z
LAST-MODIFIED:20140729T215243Z
UID:2907-1406764800-1407110399@playpittsburgh.com
SUMMARY:Portersville Steam Show
DESCRIPTION:The Portersville Steam Show provides a large variety of activities for the whole family. A vintage village\, saw mill\, cider press\, gas engines\, oil field equipment\, farm animals\, train rides\, steam engines\, flea market\, crafts\, great food\, kid’s pedal tractor pulling\, tractors\, large traction engines\, ice cream\, tractor pulls\, and steam building are some of the features you may enjoy. \nGate opens at 8:00 A.M. \nShow Admission \n\nThursday & Sunday – $2.00\nFriday & Saturday – $5.00\nChildren 11 & under Free\n\nSee event schedule. 
URL:https://playpittsburgh.com/event/portersville-steam-show/
LOCATION:Portersville Steam Show\, 1512 Perry Highway\, Portersville \, PA\, 16051\, United States
CATEGORIES:Animal Attractions,Festivals,Outdoor
GEO:40.9330362;-80.1464333
X-APPLE-STRUCTURED-LOCATION;VALUE=URI;X-ADDRESS=Portersville Steam Show 1512 Perry Highway Portersville  PA 16051 United States;X-APPLE-RADIUS=500;X-TITLE=1512 Perry Highway:geo:-80.1464333,40.9330362
END:VEVENT
END:VCALENDAR