BEGIN:VCALENDAR
VERSION:2.0
PRODID:-//Play Pittsburgh - ECPv6.15.20//NONSGML v1.0//EN
CALSCALE:GREGORIAN
METHOD:PUBLISH
X-WR-CALNAME:Play Pittsburgh
X-ORIGINAL-URL:https://playpittsburgh.com
X-WR-CALDESC:Events for Play Pittsburgh
REFRESH-INTERVAL;VALUE=DURATION:PT1H
X-Robots-Tag:noindex
X-PUBLISHED-TTL:PT1H
BEGIN:VTIMEZONE
TZID:America/New_York
BEGIN:DAYLIGHT
TZOFFSETFROM:-0500
TZOFFSETTO:-0400
TZNAME:EDT
DTSTART:20130310T070000
END:DAYLIGHT
BEGIN:STANDARD
TZOFFSETFROM:-0400
TZOFFSETTO:-0500
TZNAME:EST
DTSTART:20131103T060000
END:STANDARD
BEGIN:DAYLIGHT
TZOFFSETFROM:-0500
TZOFFSETTO:-0400
TZNAME:EDT
DTSTART:20140309T070000
END:DAYLIGHT
BEGIN:STANDARD
TZOFFSETFROM:-0400
TZOFFSETTO:-0500
TZNAME:EST
DTSTART:20141102T060000
END:STANDARD
BEGIN:DAYLIGHT
TZOFFSETFROM:-0500
TZOFFSETTO:-0400
TZNAME:EDT
DTSTART:20150308T070000
END:DAYLIGHT
BEGIN:STANDARD
TZOFFSETFROM:-0400
TZOFFSETTO:-0500
TZNAME:EST
DTSTART:20151101T060000
END:STANDARD
END:VTIMEZONE
BEGIN:VEVENT
DTSTART;TZID=America/New_York:20140503T110000
DTEND;TZID=America/New_York:20140503T170000
DTSTAMP:20260424T080014
CREATED:20140422T052506Z
LAST-MODIFIED:20140422T052506Z
UID:734-1399114800-1399136400@playpittsburgh.com
SUMMARY:Planet Bounce Grand Opening Stellarbration
DESCRIPTION:Admission to Planet Bounce is FREE for the celebration of their grand opening event! Enjoy a first look at Pittsburgh’s newest indoor inflatable bounce house. Visitors will also enjoy snacks\, crafts\, games and more!
URL:https://playpittsburgh.com/event/planet-bounce-grand-opening-stellarbration/
LOCATION:Planet Bounce\, 2560 Washington Road\, Canonsburg \, PA\, 15317\, United States
CATEGORIES:Indoor Play
GEO:40.2545585;-80.1577444
X-APPLE-STRUCTURED-LOCATION;VALUE=URI;X-ADDRESS=Planet Bounce 2560 Washington Road Canonsburg  PA 15317 United States;X-APPLE-RADIUS=500;X-TITLE=2560 Washington Road:geo:-80.1577444,40.2545585
END:VEVENT
END:VCALENDAR