BEGIN:VCALENDAR
VERSION:2.0
PRODID:-//Play Pittsburgh - ECPv6.15.20//NONSGML v1.0//EN
CALSCALE:GREGORIAN
METHOD:PUBLISH
X-ORIGINAL-URL:https://playpittsburgh.com
X-WR-CALDESC:Events for Play Pittsburgh
REFRESH-INTERVAL;VALUE=DURATION:PT1H
X-Robots-Tag:noindex
X-PUBLISHED-TTL:PT1H
BEGIN:VTIMEZONE
TZID:America/New_York
BEGIN:DAYLIGHT
TZOFFSETFROM:-0500
TZOFFSETTO:-0400
TZNAME:EDT
DTSTART:20130310T070000
END:DAYLIGHT
BEGIN:STANDARD
TZOFFSETFROM:-0400
TZOFFSETTO:-0500
TZNAME:EST
DTSTART:20131103T060000
END:STANDARD
BEGIN:DAYLIGHT
TZOFFSETFROM:-0500
TZOFFSETTO:-0400
TZNAME:EDT
DTSTART:20140309T070000
END:DAYLIGHT
BEGIN:STANDARD
TZOFFSETFROM:-0400
TZOFFSETTO:-0500
TZNAME:EST
DTSTART:20141102T060000
END:STANDARD
BEGIN:DAYLIGHT
TZOFFSETFROM:-0500
TZOFFSETTO:-0400
TZNAME:EDT
DTSTART:20150308T070000
END:DAYLIGHT
BEGIN:STANDARD
TZOFFSETFROM:-0400
TZOFFSETTO:-0500
TZNAME:EST
DTSTART:20151101T060000
END:STANDARD
END:VTIMEZONE
BEGIN:VEVENT
DTSTART;VALUE=DATE:20140830
DTEND;VALUE=DATE:20140902
DTSTAMP:20260422T083620
CREATED:20140829T141943Z
LAST-MODIFIED:20140829T141943Z
UID:3299-1409356800-1409615999@playpittsburgh.com
SUMMARY:FREE Children’s Weekend @ Pittsburgh Renaissance Festival
DESCRIPTION:Prince\, Princess & Pirate Party!\nThroughout this weekend dedicated to young lads and lasses\, children ages 12 and under experience the Festival for free with a paying adult. Special activities including the Prince\, Princess and Pirate Costume Contest\, the Royal Quest\, knighting ceremonies and photos with the King and Queen. Also\, be sure to enjoy medieval rides and games of skill!
URL:https://playpittsburgh.com/event/free-childrens-weekend-pittsburgh-renaissance-festival/
LOCATION:Pittsburgh Renaissance Festival\, 112 Renaissance Lane\, West Newton\, PA\, 15089\, United States
CATEGORIES:Festivals,Free,Outdoor
GEO:40.181835;-79.695781
X-APPLE-STRUCTURED-LOCATION;VALUE=URI;X-ADDRESS=Pittsburgh Renaissance Festival 112 Renaissance Lane West Newton PA 15089 United States;X-APPLE-RADIUS=500;X-TITLE=112 Renaissance Lane:geo:-79.695781,40.181835
END:VEVENT
BEGIN:VEVENT
DTSTART;TZID=America/New_York:20140824T103000
DTEND;TZID=America/New_York:20140824T183000
DTSTAMP:20260422T083620
CREATED:20140730T013838Z
LAST-MODIFIED:20140730T013838Z
UID:2945-1408876200-1408905000@playpittsburgh.com
SUMMARY:2014 Pittsburgh Renaissance Festival
DESCRIPTION:Featuring a cast of hundreds of authentically costumed merrymakers living and working throughout the village and performing\, continuously\, upon the Festival’s stages\, the illusion of a rollicking 16th Century festival day is created. Impromptu encounters with the royalty and peasantry of Tudor England are commonplace. \nYou’ll meet all kinds\, from jousters to jugglers to minstrels to maidens faire\, all schooled in art of interactive theater! Much new entertainment has been summoned by Good King Henry for this glorious season. For six special summer weekends enjoy family fun for children and magical times for adults. \nSaturdays\, Sundays & Labor Day Only!\nAug. 23-24\, 30-31/Sept. 1\, 6-7\, 13-14\, 20-21\, 27-28 for 2014\n10:30 am – 6:30 pm / Rain or Shine / No Pets / FREE PARKING \n  \n 
URL:https://playpittsburgh.com/event/2014-pittsburgh-renaissance-festival-2/2014-08-24/
LOCATION:Pittsburgh Renaissance Festival\, 112 Renaissance Lane\, West Newton\, PA\, 15089\, United States
CATEGORIES:Festivals,Outdoor,Performing Arts
GEO:40.181835;-79.695781
X-APPLE-STRUCTURED-LOCATION;VALUE=URI;X-ADDRESS=Pittsburgh Renaissance Festival 112 Renaissance Lane West Newton PA 15089 United States;X-APPLE-RADIUS=500;X-TITLE=112 Renaissance Lane:geo:-79.695781,40.181835
END:VEVENT
BEGIN:VEVENT
DTSTART;TZID=America/New_York:20140823T080000
DTEND;TZID=America/New_York:20140823T170000
DTSTAMP:20260422T083620
CREATED:20140730T013650Z
LAST-MODIFIED:20140730T013650Z
UID:2938-1408780800-1408813200@playpittsburgh.com
SUMMARY:2014 Pittsburgh Renaissance Festival
DESCRIPTION:Featuring a cast of hundreds of authentically costumed merrymakers living and working throughout the village and performing\, continuously\, upon the Festival’s stages\, the illusion of a rollicking 16th Century festival day is created. Impromptu encounters with the royalty and peasantry of Tudor England are commonplace. \nYou’ll meet all kinds\, from jousters to jugglers to minstrels to maidens faire\, all schooled in art of interactive theater! Much new entertainment has been summoned by Good King Henry for this glorious season. For six special summer weekends enjoy family fun for children and magical times for adults. \nSaturdays\, Sundays & Labor Day Only!\nAug. 23-24\, 30-31/Sept. 1\, 6-7\, 13-14\, 20-21\, 27-28 for 2014\n10:30 am – 6:30 pm / Rain or Shine / No Pets / FREE PARKING
URL:https://playpittsburgh.com/event/2014-pittsburgh-renaissance-festival/2014-08-23/
LOCATION:Pittsburgh Renaissance Festival\, 112 Renaissance Lane\, West Newton\, PA\, 15089\, United States
CATEGORIES:Festivals,Outdoor,Performing Arts
GEO:40.181835;-79.695781
X-APPLE-STRUCTURED-LOCATION;VALUE=URI;X-ADDRESS=Pittsburgh Renaissance Festival 112 Renaissance Lane West Newton PA 15089 United States;X-APPLE-RADIUS=500;X-TITLE=112 Renaissance Lane:geo:-79.695781,40.181835
END:VEVENT
END:VCALENDAR