BEGIN:VCALENDAR
VERSION:2.0
PRODID:-//Play Pittsburgh - ECPv6.15.20//NONSGML v1.0//EN
CALSCALE:GREGORIAN
METHOD:PUBLISH
X-WR-CALNAME:Play Pittsburgh
X-ORIGINAL-URL:https://playpittsburgh.com
X-WR-CALDESC:Events for Play Pittsburgh
REFRESH-INTERVAL;VALUE=DURATION:PT1H
X-Robots-Tag:noindex
X-PUBLISHED-TTL:PT1H
BEGIN:VTIMEZONE
TZID:America/New_York
BEGIN:DAYLIGHT
TZOFFSETFROM:-0500
TZOFFSETTO:-0400
TZNAME:EDT
DTSTART:20130310T070000
END:DAYLIGHT
BEGIN:STANDARD
TZOFFSETFROM:-0400
TZOFFSETTO:-0500
TZNAME:EST
DTSTART:20131103T060000
END:STANDARD
BEGIN:DAYLIGHT
TZOFFSETFROM:-0500
TZOFFSETTO:-0400
TZNAME:EDT
DTSTART:20140309T070000
END:DAYLIGHT
BEGIN:STANDARD
TZOFFSETFROM:-0400
TZOFFSETTO:-0500
TZNAME:EST
DTSTART:20141102T060000
END:STANDARD
BEGIN:DAYLIGHT
TZOFFSETFROM:-0500
TZOFFSETTO:-0400
TZNAME:EDT
DTSTART:20150308T070000
END:DAYLIGHT
BEGIN:STANDARD
TZOFFSETFROM:-0400
TZOFFSETTO:-0500
TZNAME:EST
DTSTART:20151101T060000
END:STANDARD
END:VTIMEZONE
BEGIN:VEVENT
DTSTART;TZID=America/New_York:20141004T193000
DTEND;TZID=America/New_York:20141004T211500
DTSTAMP:20260422T094730
CREATED:20140904T061705Z
LAST-MODIFIED:20140904T062004Z
UID:3663-1412451000-1412457300@playpittsburgh.com
SUMMARY:Ann Arbor Film Festival Touring Show
DESCRIPTION:Free admission: 7:30pm (Program B); 9:15pm (Program A) The Ann Arbor Film Festival offers several distinct programs of recent independent and experimental short films across all genres: experimental\, documentary\, animation\, narrative and hybrids. Presented by the Pittsburgh Film Makers.
URL:https://playpittsburgh.com/event/ann-harbor-film-festival-touring-show/
LOCATION:Pittsburgh Filmmakers / Melwood Screening Room\, 477 Melwood Avenue\, Pittsburgh\, PA\, 15213\, United States
CATEGORIES:Free,Performing Arts,RADical Days
GEO:40.4559706;-79.9537351
X-APPLE-STRUCTURED-LOCATION;VALUE=URI;X-ADDRESS=Pittsburgh Filmmakers / Melwood Screening Room 477 Melwood Avenue Pittsburgh PA 15213 United States;X-APPLE-RADIUS=500;X-TITLE=477 Melwood Avenue:geo:-79.9537351,40.4559706
END:VEVENT
BEGIN:VEVENT
DTSTART;TZID=America/New_York:20141003T193000
DTEND;TZID=America/New_York:20141003T213000
DTSTAMP:20260422T094730
CREATED:20140904T053952Z
LAST-MODIFIED:20140904T062033Z
UID:3654-1412364600-1412371800@playpittsburgh.com
SUMMARY:Ann Arbor Film Festival
DESCRIPTION:Free admission: 7:30 pm (Program A); 9:15pm (Program B)\nThe Ann Arbor Film Festival offers several distinct programs of recent independent and experimental short films across all genres: experimental\, documentary\, animation\, narrative and hybrids. Presented by the Pittsburgh Film Makers.
URL:https://playpittsburgh.com/event/ann-harbor-film-festival/
LOCATION:Pittsburgh Filmmakers / Melwood Screening Room\, 477 Melwood Avenue\, Pittsburgh\, PA\, 15213\, United States
CATEGORIES:Free,RADical Days
GEO:40.4559706;-79.9537351
X-APPLE-STRUCTURED-LOCATION;VALUE=URI;X-ADDRESS=Pittsburgh Filmmakers / Melwood Screening Room 477 Melwood Avenue Pittsburgh PA 15213 United States;X-APPLE-RADIUS=500;X-TITLE=477 Melwood Avenue:geo:-79.9537351,40.4559706
END:VEVENT
END:VCALENDAR