BEGIN:VCALENDAR
VERSION:2.0
PRODID:-//Play Pittsburgh - ECPv6.15.20//NONSGML v1.0//EN
CALSCALE:GREGORIAN
METHOD:PUBLISH
X-ORIGINAL-URL:https://playpittsburgh.com
X-WR-CALDESC:Events for Play Pittsburgh
REFRESH-INTERVAL;VALUE=DURATION:PT1H
X-Robots-Tag:noindex
X-PUBLISHED-TTL:PT1H
BEGIN:VTIMEZONE
TZID:America/New_York
BEGIN:DAYLIGHT
TZOFFSETFROM:-0500
TZOFFSETTO:-0400
TZNAME:EDT
DTSTART:20130310T070000
END:DAYLIGHT
BEGIN:STANDARD
TZOFFSETFROM:-0400
TZOFFSETTO:-0500
TZNAME:EST
DTSTART:20131103T060000
END:STANDARD
BEGIN:DAYLIGHT
TZOFFSETFROM:-0500
TZOFFSETTO:-0400
TZNAME:EDT
DTSTART:20140309T070000
END:DAYLIGHT
BEGIN:STANDARD
TZOFFSETFROM:-0400
TZOFFSETTO:-0500
TZNAME:EST
DTSTART:20141102T060000
END:STANDARD
BEGIN:DAYLIGHT
TZOFFSETFROM:-0500
TZOFFSETTO:-0400
TZNAME:EDT
DTSTART:20150308T070000
END:DAYLIGHT
BEGIN:STANDARD
TZOFFSETFROM:-0400
TZOFFSETTO:-0500
TZNAME:EST
DTSTART:20151101T060000
END:STANDARD
END:VTIMEZONE
BEGIN:VEVENT
DTSTART;TZID=America/New_York:20141005T100000
DTEND;TZID=America/New_York:20141005T130000
DTSTAMP:20260422T064806
CREATED:20140904T153416Z
LAST-MODIFIED:20140904T153416Z
UID:3666-1412503200-1412514000@playpittsburgh.com
SUMMARY:Pittsburgh Center for Arts
DESCRIPTION:Family-friendly art activities at the PCA School and Galleries. Free admission 10am-1pm
URL:https://playpittsburgh.com/event/pittsburgh-center-for-arts-2/
LOCATION:Pittsburgh Center for Arts\, 1047 Shady Ave\, Pittsburgh\, PA\, 15232\, United States
CATEGORIES:RADical Days
GEO:40.452305;-79.9195476
X-APPLE-STRUCTURED-LOCATION;VALUE=URI;X-ADDRESS=Pittsburgh Center for Arts 1047 Shady Ave Pittsburgh PA 15232 United States;X-APPLE-RADIUS=500;X-TITLE=1047 Shady Ave:geo:-79.9195476,40.452305
END:VEVENT
BEGIN:VEVENT
DTSTART;TZID=America/New_York:20141003T100000
DTEND;TZID=America/New_York:20141003T130000
DTSTAMP:20260422T064806
CREATED:20140904T052922Z
LAST-MODIFIED:20140904T052922Z
UID:3653-1412330400-1412341200@playpittsburgh.com
SUMMARY:Pittsburgh Center for Arts
DESCRIPTION:Free admission 10am-1pm. Gallery tours and family-friendly art activities in the Pittsburgh Center for Arts Galleries.
URL:https://playpittsburgh.com/event/pittsburgh-center-for-arts/
LOCATION:Pittsburgh Center for Arts\, 1047 Shady Ave\, Pittsburgh\, PA\, 15232\, United States
CATEGORIES:Free,Museums,RADical Days
GEO:40.452305;-79.9195476
X-APPLE-STRUCTURED-LOCATION;VALUE=URI;X-ADDRESS=Pittsburgh Center for Arts 1047 Shady Ave Pittsburgh PA 15232 United States;X-APPLE-RADIUS=500;X-TITLE=1047 Shady Ave:geo:-79.9195476,40.452305
END:VEVENT
BEGIN:VEVENT
DTSTART;TZID=America/New_York:20141001T170000
DTEND;TZID=America/New_York:20141001T190000
DTSTAMP:20260422T064806
CREATED:20140904T050630Z
LAST-MODIFIED:20140904T050630Z
UID:3646-1412182800-1412190000@playpittsburgh.com
SUMMARY:Pittsburgh Center for the Arts
DESCRIPTION:Free admission 5-7PM. Biennial Artist Talk\, in the Pittsburgh Center for the Arts Galleries.
URL:https://playpittsburgh.com/event/pittsburgh-center-for-the-arts/
LOCATION:Pittsburgh Center for Arts\, 1047 Shady Ave\, Pittsburgh\, PA\, 15232\, United States
CATEGORIES:Free,Museums,RADical Days
GEO:40.452305;-79.9195476
X-APPLE-STRUCTURED-LOCATION;VALUE=URI;X-ADDRESS=Pittsburgh Center for Arts 1047 Shady Ave Pittsburgh PA 15232 United States;X-APPLE-RADIUS=500;X-TITLE=1047 Shady Ave:geo:-79.9195476,40.452305
END:VEVENT
END:VCALENDAR