BEGIN:VCALENDAR
VERSION:2.0
PRODID:-//Play Pittsburgh - ECPv6.15.20//NONSGML v1.0//EN
CALSCALE:GREGORIAN
METHOD:PUBLISH
X-ORIGINAL-URL:https://playpittsburgh.com
X-WR-CALDESC:Events for Play Pittsburgh
REFRESH-INTERVAL;VALUE=DURATION:PT1H
X-Robots-Tag:noindex
X-PUBLISHED-TTL:PT1H
BEGIN:VTIMEZONE
TZID:America/New_York
BEGIN:DAYLIGHT
TZOFFSETFROM:-0500
TZOFFSETTO:-0400
TZNAME:EDT
DTSTART:20130310T070000
END:DAYLIGHT
BEGIN:STANDARD
TZOFFSETFROM:-0400
TZOFFSETTO:-0500
TZNAME:EST
DTSTART:20131103T060000
END:STANDARD
BEGIN:DAYLIGHT
TZOFFSETFROM:-0500
TZOFFSETTO:-0400
TZNAME:EDT
DTSTART:20140309T070000
END:DAYLIGHT
BEGIN:STANDARD
TZOFFSETFROM:-0400
TZOFFSETTO:-0500
TZNAME:EST
DTSTART:20141102T060000
END:STANDARD
BEGIN:DAYLIGHT
TZOFFSETFROM:-0500
TZOFFSETTO:-0400
TZNAME:EDT
DTSTART:20150308T070000
END:DAYLIGHT
BEGIN:STANDARD
TZOFFSETFROM:-0400
TZOFFSETTO:-0500
TZNAME:EST
DTSTART:20151101T060000
END:STANDARD
END:VTIMEZONE
BEGIN:VEVENT
DTSTART;TZID=America/New_York:20140920T130000
DTEND;TZID=America/New_York:20140920T160000
DTSTAMP:20260422T082528
CREATED:20140830T173911Z
LAST-MODIFIED:20140830T173957Z
UID:3339-1411218000-1411228800@playpittsburgh.com
SUMMARY:Kids Fish For Fun Day
DESCRIPTION:A “Kids Fish for Fun Day” is scheduled for Saturday\, September 20\, 2014\, from 1:00 p.m. to 4:00 p.m. The event will take place along Peters Creek in both South Park Township and Jefferson Hills Borough. Kids 15 years of age and younger are invited to participate but must be accompanied by an adult. The event is being sponsored by Tri-Community Anglers Association and South Park Township. Please remember that this is a catch-and-release program.  \nRegistration will be held at the intersection of Peters Creek Road and Waterman Road in Jefferson Borough on the day of the event. Please join us for an afternoon of fishing\, fun\, food and prizes! In the event of rain\, the event will be held on Saturday\, September 20\, 2014.
URL:https://playpittsburgh.com/event/kids-fish-for-fun-day/
LOCATION:Peters Creek in both South Park Township and Jefferson Hills Borough\, PA\, United States
CATEGORIES:Free,Outdoor
GEO:41.2033216;-77.1945247
END:VEVENT
END:VCALENDAR