BEGIN:VCALENDAR
VERSION:2.0
PRODID:-//Play Pittsburgh - ECPv6.15.20//NONSGML v1.0//EN
CALSCALE:GREGORIAN
METHOD:PUBLISH
X-ORIGINAL-URL:https://playpittsburgh.com
X-WR-CALDESC:Events for Play Pittsburgh
REFRESH-INTERVAL;VALUE=DURATION:PT1H
X-Robots-Tag:noindex
X-PUBLISHED-TTL:PT1H
BEGIN:VTIMEZONE
TZID:America/New_York
BEGIN:DAYLIGHT
TZOFFSETFROM:-0500
TZOFFSETTO:-0400
TZNAME:EDT
DTSTART:20130310T070000
END:DAYLIGHT
BEGIN:STANDARD
TZOFFSETFROM:-0400
TZOFFSETTO:-0500
TZNAME:EST
DTSTART:20131103T060000
END:STANDARD
BEGIN:DAYLIGHT
TZOFFSETFROM:-0500
TZOFFSETTO:-0400
TZNAME:EDT
DTSTART:20140309T070000
END:DAYLIGHT
BEGIN:STANDARD
TZOFFSETFROM:-0400
TZOFFSETTO:-0500
TZNAME:EST
DTSTART:20141102T060000
END:STANDARD
BEGIN:DAYLIGHT
TZOFFSETFROM:-0500
TZOFFSETTO:-0400
TZNAME:EDT
DTSTART:20150308T070000
END:DAYLIGHT
BEGIN:STANDARD
TZOFFSETFROM:-0400
TZOFFSETTO:-0500
TZNAME:EST
DTSTART:20151101T060000
END:STANDARD
BEGIN:DAYLIGHT
TZOFFSETFROM:-0500
TZOFFSETTO:-0400
TZNAME:EDT
DTSTART:20160313T070000
END:DAYLIGHT
BEGIN:STANDARD
TZOFFSETFROM:-0400
TZOFFSETTO:-0500
TZNAME:EST
DTSTART:20161106T060000
END:STANDARD
END:VTIMEZONE
BEGIN:VEVENT
DTSTART;TZID=America/New_York:20150404T100000
DTEND;TZID=America/New_York:20150404T170000
DTSTAMP:20260421T222014
CREATED:20150324T184612Z
LAST-MODIFIED:20150324T184612Z
UID:8236-1428141600-1428166800@playpittsburgh.com
SUMMARY:Bunny Trolley
DESCRIPTION:The Pennsylvania Trolley Museum opens for the year with Bunny Trolley. Visit the 4H Club’s live bunnies and enjoy children’s activities. Egg Hunt included in all children’s admission! \nRide a restored antique streetcar\, hunt for eggs\, see the 4-H club’s live bunnies\, and make a spring-time craft. Bring your camera for photo opportunities with the Bunny! \nMarch 27 – 29\, April 3 – 4\, 10AM – 5PM (last trolley leaves at 4PM)
URL:https://playpittsburgh.com/event/bunny-trolley-2/2015-04-04/
LOCATION:Pennsylvania Trolley Museum\, 1 Museum Rd\, Washington\, PA\, 15301\, United States
GEO:40.2072951;-80.2553464
X-APPLE-STRUCTURED-LOCATION;VALUE=URI;X-ADDRESS=Pennsylvania Trolley Museum 1 Museum Rd Washington PA 15301 United States;X-APPLE-RADIUS=500;X-TITLE=1 Museum Rd:geo:-80.2553464,40.2072951
END:VEVENT
BEGIN:VEVENT
DTSTART;TZID=America/New_York:20150403T100000
DTEND;TZID=America/New_York:20150403T170000
DTSTAMP:20260421T222014
CREATED:20150324T183642Z
LAST-MODIFIED:20150324T183642Z
UID:8235-1428055200-1428080400@playpittsburgh.com
SUMMARY:Bunny Trolley
DESCRIPTION:The Pennsylvania Trolley Museum opens for the year with Bunny Trolley. Visit the 4H Club’s live bunnies and enjoy children’s activities. Egg Hunt included in all children’s admission! \nRide a restored antique streetcar\, hunt for eggs\, see the 4-H club’s live bunnies\, and make a spring-time craft. Bring your camera for photo opportunities with the Bunny! \nMarch 27 – 29\, April 3 – 4\, 10AM – 5PM (last trolley leaves at 4PM)
URL:https://playpittsburgh.com/event/bunny-trolley/2015-04-03/
LOCATION:Pennsylvania Trolley Museum\, 1 Museum Rd\, Washington\, PA\, 15301\, United States
GEO:40.2072951;-80.2553464
X-APPLE-STRUCTURED-LOCATION;VALUE=URI;X-ADDRESS=Pennsylvania Trolley Museum 1 Museum Rd Washington PA 15301 United States;X-APPLE-RADIUS=500;X-TITLE=1 Museum Rd:geo:-80.2553464,40.2072951
END:VEVENT
BEGIN:VEVENT
DTSTART;TZID=America/New_York:20150329T100000
DTEND;TZID=America/New_York:20150329T170000
DTSTAMP:20260421T222014
CREATED:20150324T184725Z
LAST-MODIFIED:20150324T184725Z
UID:5488-1427623200-1427648400@playpittsburgh.com
SUMMARY:Bunny Trolley
DESCRIPTION:The Pennsylvania Trolley Museum opens for the year with Bunny Trolley. Visit the 4H Club’s live bunnies and enjoy children’s activities. Egg Hunt included in all children’s admission! \nRide a restored antique streetcar\, hunt for eggs\, see the 4-H club’s live bunnies\, and make a spring-time craft. Bring your camera for photo opportunities with the Bunny! \nMarch 27 – 29\, April 3 – 4\, 10AM – 5PM (last trolley leaves at 4PM)
URL:https://playpittsburgh.com/event/bunny-trolley-3/
LOCATION:Pennsylvania Trolley Museum\, 1 Museum Rd\, Washington\, PA\, 15301\, United States
GEO:40.2072951;-80.2553464
X-APPLE-STRUCTURED-LOCATION;VALUE=URI;X-ADDRESS=Pennsylvania Trolley Museum 1 Museum Rd Washington PA 15301 United States;X-APPLE-RADIUS=500;X-TITLE=1 Museum Rd:geo:-80.2553464,40.2072951
END:VEVENT
BEGIN:VEVENT
DTSTART;TZID=America/New_York:20150328T100000
DTEND;TZID=America/New_York:20150328T170000
DTSTAMP:20260421T222014
CREATED:20150324T184612Z
LAST-MODIFIED:20150324T184612Z
UID:5486-1427536800-1427562000@playpittsburgh.com
SUMMARY:Bunny Trolley
DESCRIPTION:The Pennsylvania Trolley Museum opens for the year with Bunny Trolley. Visit the 4H Club’s live bunnies and enjoy children’s activities. Egg Hunt included in all children’s admission! \nRide a restored antique streetcar\, hunt for eggs\, see the 4-H club’s live bunnies\, and make a spring-time craft. Bring your camera for photo opportunities with the Bunny! \nMarch 27 – 29\, April 3 – 4\, 10AM – 5PM (last trolley leaves at 4PM)
URL:https://playpittsburgh.com/event/bunny-trolley-2/2015-03-28/
LOCATION:Pennsylvania Trolley Museum\, 1 Museum Rd\, Washington\, PA\, 15301\, United States
GEO:40.2072951;-80.2553464
X-APPLE-STRUCTURED-LOCATION;VALUE=URI;X-ADDRESS=Pennsylvania Trolley Museum 1 Museum Rd Washington PA 15301 United States;X-APPLE-RADIUS=500;X-TITLE=1 Museum Rd:geo:-80.2553464,40.2072951
END:VEVENT
BEGIN:VEVENT
DTSTART;TZID=America/New_York:20150327T100000
DTEND;TZID=America/New_York:20150327T170000
DTSTAMP:20260421T222014
CREATED:20150324T183642Z
LAST-MODIFIED:20150324T183642Z
UID:5484-1427450400-1427475600@playpittsburgh.com
SUMMARY:Bunny Trolley
DESCRIPTION:The Pennsylvania Trolley Museum opens for the year with Bunny Trolley. Visit the 4H Club’s live bunnies and enjoy children’s activities. Egg Hunt included in all children’s admission! \nRide a restored antique streetcar\, hunt for eggs\, see the 4-H club’s live bunnies\, and make a spring-time craft. Bring your camera for photo opportunities with the Bunny! \nMarch 27 – 29\, April 3 – 4\, 10AM – 5PM (last trolley leaves at 4PM)
URL:https://playpittsburgh.com/event/bunny-trolley/2015-03-27/
LOCATION:Pennsylvania Trolley Museum\, 1 Museum Rd\, Washington\, PA\, 15301\, United States
GEO:40.2072951;-80.2553464
X-APPLE-STRUCTURED-LOCATION;VALUE=URI;X-ADDRESS=Pennsylvania Trolley Museum 1 Museum Rd Washington PA 15301 United States;X-APPLE-RADIUS=500;X-TITLE=1 Museum Rd:geo:-80.2553464,40.2072951
END:VEVENT
BEGIN:VEVENT
DTSTART;VALUE=DATE:20141214
DTEND;VALUE=DATE:20141215
DTSTAMP:20260421T222014
CREATED:20141204T024126Z
LAST-MODIFIED:20141204T024126Z
UID:8185-1418515200-1418601599@playpittsburgh.com
SUMMARY:Santa Trolley
DESCRIPTION:Celebrate the season with Santa Claus on the Trolley! See the Lionel toy train display and decorated street cars. Enjoy caroling on the trolley and a holiday craft in the Events room\, where you can enjoy the Trolley Museum’s newest addition\, Steel City LUG’s Lego® train display. Purchase tickets in advance to ride the Santa Trolley (advance purchase strongly recommended) and stop in to ride the Yuletide Shuttle. Advance sale tickets open November 1. \nAdults $10\nSeniors $9\nChildren (1-15) $7\nUnder 1 Free\nAll children receive a gift from Santa! \nYou can read more about our visit to the Trolley Museum here.
URL:https://playpittsburgh.com/event/santa-trolley-2/2014-12-14/
LOCATION:Pennsylvania Trolley Museum\, 1 Museum Rd\, Washington\, PA\, 15301\, United States
GEO:40.2072951;-80.2553464
X-APPLE-STRUCTURED-LOCATION;VALUE=URI;X-ADDRESS=Pennsylvania Trolley Museum 1 Museum Rd Washington PA 15301 United States;X-APPLE-RADIUS=500;X-TITLE=1 Museum Rd:geo:-80.2553464,40.2072951
END:VEVENT
BEGIN:VEVENT
DTSTART;VALUE=DATE:20141213
DTEND;VALUE=DATE:20141214
DTSTAMP:20260421T222014
CREATED:20141204T023825Z
LAST-MODIFIED:20141204T023825Z
UID:8184-1418428800-1418515199@playpittsburgh.com
SUMMARY:Santa Trolley
DESCRIPTION:Celebrate the season with Santa Claus on the Trolley! See the Lionel toy train display and decorated street cars. Enjoy caroling on the trolley and a holiday craft in the Events room\, where you can enjoy the Trolley Museum’s newest addition\, Steel City LUG’s Lego® train display. Purchase tickets in advance to ride the Santa Trolley (advance purchase strongly recommended) and stop in to ride the Yuletide Shuttle. Advance sale tickets open November 1. \nAdults $10\nSeniors $9\nChildren (1-15) $7\nUnder 1 Free\nAll children receive a gift from Santa! \nYou can read more about our visit to the Trolley Museum here.
URL:https://playpittsburgh.com/event/santa-trolley/2014-12-13/
LOCATION:Pennsylvania Trolley Museum\, 1 Museum Rd\, Washington\, PA\, 15301\, United States
GEO:40.2072951;-80.2553464
X-APPLE-STRUCTURED-LOCATION;VALUE=URI;X-ADDRESS=Pennsylvania Trolley Museum 1 Museum Rd Washington PA 15301 United States;X-APPLE-RADIUS=500;X-TITLE=1 Museum Rd:geo:-80.2553464,40.2072951
END:VEVENT
BEGIN:VEVENT
DTSTART;VALUE=DATE:20141207
DTEND;VALUE=DATE:20141208
DTSTAMP:20260421T222014
CREATED:20141204T024126Z
LAST-MODIFIED:20141204T024126Z
UID:5100-1417910400-1417996799@playpittsburgh.com
SUMMARY:Santa Trolley
DESCRIPTION:Celebrate the season with Santa Claus on the Trolley! See the Lionel toy train display and decorated street cars. Enjoy caroling on the trolley and a holiday craft in the Events room\, where you can enjoy the Trolley Museum’s newest addition\, Steel City LUG’s Lego® train display. Purchase tickets in advance to ride the Santa Trolley (advance purchase strongly recommended) and stop in to ride the Yuletide Shuttle. Advance sale tickets open November 1. \nAdults $10\nSeniors $9\nChildren (1-15) $7\nUnder 1 Free\nAll children receive a gift from Santa! \nYou can read more about our visit to the Trolley Museum here.
URL:https://playpittsburgh.com/event/santa-trolley-2/2014-12-07/
LOCATION:Pennsylvania Trolley Museum\, 1 Museum Rd\, Washington\, PA\, 15301\, United States
GEO:40.2072951;-80.2553464
X-APPLE-STRUCTURED-LOCATION;VALUE=URI;X-ADDRESS=Pennsylvania Trolley Museum 1 Museum Rd Washington PA 15301 United States;X-APPLE-RADIUS=500;X-TITLE=1 Museum Rd:geo:-80.2553464,40.2072951
END:VEVENT
BEGIN:VEVENT
DTSTART;VALUE=DATE:20141206
DTEND;VALUE=DATE:20141207
DTSTAMP:20260421T222014
CREATED:20141204T023825Z
LAST-MODIFIED:20141204T023825Z
UID:5098-1417824000-1417910399@playpittsburgh.com
SUMMARY:Santa Trolley
DESCRIPTION:Celebrate the season with Santa Claus on the Trolley! See the Lionel toy train display and decorated street cars. Enjoy caroling on the trolley and a holiday craft in the Events room\, where you can enjoy the Trolley Museum’s newest addition\, Steel City LUG’s Lego® train display. Purchase tickets in advance to ride the Santa Trolley (advance purchase strongly recommended) and stop in to ride the Yuletide Shuttle. Advance sale tickets open November 1. \nAdults $10\nSeniors $9\nChildren (1-15) $7\nUnder 1 Free\nAll children receive a gift from Santa! \nYou can read more about our visit to the Trolley Museum here.
URL:https://playpittsburgh.com/event/santa-trolley/2014-12-06/
LOCATION:Pennsylvania Trolley Museum\, 1 Museum Rd\, Washington\, PA\, 15301\, United States
GEO:40.2072951;-80.2553464
X-APPLE-STRUCTURED-LOCATION;VALUE=URI;X-ADDRESS=Pennsylvania Trolley Museum 1 Museum Rd Washington PA 15301 United States;X-APPLE-RADIUS=500;X-TITLE=1 Museum Rd:geo:-80.2553464,40.2072951
END:VEVENT
BEGIN:VEVENT
DTSTART;TZID=America/New_York:20141010T100000
DTEND;TZID=America/New_York:20141010T160000
DTSTAMP:20260421T222014
CREATED:20140901T213157Z
LAST-MODIFIED:20140901T213157Z
UID:3561-1412935200-1412956800@playpittsburgh.com
SUMMARY:Pumpkin Patch Trolley
DESCRIPTION:Ride the trolley to the pumpkin patch for Fall fun! Check out picture from our recent visit. \nFriday: 10 AM – 4 PM (last tour leaves at 3 PM)\nSaturday & Sunday: 10 AM – 5 PM (last tour leaves at 4 PM)
URL:https://playpittsburgh.com/event/pumpkin-patch-trolley/2014-10-10/
LOCATION:Pennsylvania Trolley Museum\, 1 Museum Rd\, Washington\, PA\, 15301\, United States
CATEGORIES:Festivals,Outdoor
GEO:40.2072951;-80.2553464
X-APPLE-STRUCTURED-LOCATION;VALUE=URI;X-ADDRESS=Pennsylvania Trolley Museum 1 Museum Rd Washington PA 15301 United States;X-APPLE-RADIUS=500;X-TITLE=1 Museum Rd:geo:-80.2553464,40.2072951
END:VEVENT
BEGIN:VEVENT
DTSTART;TZID=America/New_York:20140921T100000
DTEND;TZID=America/New_York:20140921T170000
DTSTAMP:20260421T222014
CREATED:20140901T213808Z
LAST-MODIFIED:20140901T214003Z
UID:3564-1411293600-1411318800@playpittsburgh.com
SUMMARY:Pumpkin Patch Trolley
DESCRIPTION:Ride the trolley to the pumpkin patch for Fall fun! Check out picture from our recent visit. \nFriday: 10 AM – 4 PM (last tour leaves at 3 PM)\nSaturday & Sunday: 10 AM – 5 PM (last tour leaves at 4 PM) \n 
URL:https://playpittsburgh.com/event/pumpkin-patch-trolley-2/2014-09-21/
LOCATION:Pennsylvania Trolley Museum\, 1 Museum Rd\, Washington\, PA\, 15301\, United States
CATEGORIES:Festivals,Outdoor
GEO:40.2072951;-80.2553464
X-APPLE-STRUCTURED-LOCATION;VALUE=URI;X-ADDRESS=Pennsylvania Trolley Museum 1 Museum Rd Washington PA 15301 United States;X-APPLE-RADIUS=500;X-TITLE=1 Museum Rd:geo:-80.2553464,40.2072951
END:VEVENT
BEGIN:VEVENT
DTSTART;TZID=America/New_York:20140623T080000
DTEND;TZID=America/New_York:20140623T170000
DTSTAMP:20260421T222014
CREATED:20140623T154312Z
LAST-MODIFIED:20140623T154328Z
UID:2030-1403510400-1403542800@playpittsburgh.com
SUMMARY:Mr. McFeely's Trolley Parade
DESCRIPTION:Join the Pennsylvania Trolley Museum to meet Special Guest Mr. McFeely from Mr. Roger’s Neighborhood.\nEnjoy parades of streetcars from the museum’s collection\, tours of the Trib Total Media Trolley Display Building\, children’s activities\, and Furry Friends from the Washington County Humane Society! \nAdmission is $10 for Adults\, $9 for Seniors (62+)\, $7 for Children (3 – 15)\, Children under 3 are free!
URL:https://playpittsburgh.com/event/mr-mcfeelys-trolley-parade/
LOCATION:Pennsylvania Trolley Museum\, 1 Museum Rd\, Washington\, PA\, 15301\, United States
CATEGORIES:Museums
GEO:40.2072951;-80.2553464
X-APPLE-STRUCTURED-LOCATION;VALUE=URI;X-ADDRESS=Pennsylvania Trolley Museum 1 Museum Rd Washington PA 15301 United States;X-APPLE-RADIUS=500;X-TITLE=1 Museum Rd:geo:-80.2553464,40.2072951
END:VEVENT
BEGIN:VEVENT
DTSTART;TZID=America/New_York:20140623T080000
DTEND;TZID=America/New_York:20140623T170000
DTSTAMP:20260421T222014
CREATED:20140623T154312Z
LAST-MODIFIED:20140623T154312Z
UID:6286-1403510400-1403542800@playpittsburgh.com
SUMMARY:Mr. McFeely's Trolley Parade
DESCRIPTION:Join the Pennsylvania Trolley Museum to meet Special Guest Mr. McFeely from Mr. Roger’s Neighborhood.\nEnjoy parades of streetcars from the museum’s collection\, tours of the Trib Total Media Trolley Display Building\, children’s activities\, and Furry Friends from the Washington County Humane Society! \nAdmission is $10 for Adults\, $9 for Seniors (62+)\, $7 for Children (3 – 15)\, Children under 3 are free!
URL:https://playpittsburgh.com/event/mr-mcfeelys-trolley-parade-2/
LOCATION:Pennsylvania Trolley Museum\, 1 Museum Rd\, Washington\, PA\, 15301\, United States
CATEGORIES:Museums
GEO:40.2072951;-80.2553464
X-APPLE-STRUCTURED-LOCATION;VALUE=URI;X-ADDRESS=Pennsylvania Trolley Museum 1 Museum Rd Washington PA 15301 United States;X-APPLE-RADIUS=500;X-TITLE=1 Museum Rd:geo:-80.2553464,40.2072951
END:VEVENT
END:VCALENDAR