BEGIN:VCALENDAR
VERSION:2.0
PRODID:-//Play Pittsburgh - ECPv6.15.20//NONSGML v1.0//EN
CALSCALE:GREGORIAN
METHOD:PUBLISH
X-ORIGINAL-URL:https://playpittsburgh.com
X-WR-CALDESC:Events for Play Pittsburgh
REFRESH-INTERVAL;VALUE=DURATION:PT1H
X-Robots-Tag:noindex
X-PUBLISHED-TTL:PT1H
BEGIN:VTIMEZONE
TZID:America/New_York
BEGIN:DAYLIGHT
TZOFFSETFROM:-0500
TZOFFSETTO:-0400
TZNAME:EDT
DTSTART:20130310T070000
END:DAYLIGHT
BEGIN:STANDARD
TZOFFSETFROM:-0400
TZOFFSETTO:-0500
TZNAME:EST
DTSTART:20131103T060000
END:STANDARD
BEGIN:DAYLIGHT
TZOFFSETFROM:-0500
TZOFFSETTO:-0400
TZNAME:EDT
DTSTART:20140309T070000
END:DAYLIGHT
BEGIN:STANDARD
TZOFFSETFROM:-0400
TZOFFSETTO:-0500
TZNAME:EST
DTSTART:20141102T060000
END:STANDARD
BEGIN:DAYLIGHT
TZOFFSETFROM:-0500
TZOFFSETTO:-0400
TZNAME:EDT
DTSTART:20150308T070000
END:DAYLIGHT
BEGIN:STANDARD
TZOFFSETFROM:-0400
TZOFFSETTO:-0500
TZNAME:EST
DTSTART:20151101T060000
END:STANDARD
END:VTIMEZONE
BEGIN:VEVENT
DTSTART;VALUE=DATE:20140921
DTEND;VALUE=DATE:20140922
DTSTAMP:20260422T050205
CREATED:20140901T184955Z
LAST-MODIFIED:20140901T185016Z
UID:3473-1411257600-1411343999@playpittsburgh.com
SUMMARY:Penn's Colony Festival
DESCRIPTION:When you arrive pick up the festival handbill and look at the “Diversions and Amusements” schedule.  There are three locations for the scheduled activities.  Prepare yourself to step back in time… there’s always some Colonial demonstration and event popping up on the village streets that is unscheduled.  And there are hands on children’s activities and craftsman demonstrations throughout the festival and throughout the day.
URL:https://playpittsburgh.com/event/penns-colony-festival-2/2014-09-21/
LOCATION:Penn’s Colony Village Grounds\, 365 Saxonburg Blvd.\, Saxonburg \, PA\, 16056\, United States
CATEGORIES:Festivals,Outdoor
GEO:40.7356226;-79.8186657
X-APPLE-STRUCTURED-LOCATION;VALUE=URI;X-ADDRESS=Penn’s Colony Village Grounds 365 Saxonburg Blvd. Saxonburg  PA 16056 United States;X-APPLE-RADIUS=500;X-TITLE=365 Saxonburg Blvd.:geo:-79.8186657,40.7356226
END:VEVENT
BEGIN:VEVENT
DTSTART;VALUE=DATE:20140921
DTEND;VALUE=DATE:20140922
DTSTAMP:20260422T050205
CREATED:20140901T184955Z
LAST-MODIFIED:20140901T184955Z
UID:6627-1411257600-1411343999@playpittsburgh.com
SUMMARY:Penn's Colony Festival
DESCRIPTION:When you arrive pick up the festival handbill and look at the “Diversions and Amusements” schedule.  There are three locations for the scheduled activities.  Prepare yourself to step back in time… there’s always some Colonial demonstration and event popping up on the village streets that is unscheduled.  And there are hands on children’s activities and craftsman demonstrations throughout the festival and throughout the day.
URL:https://playpittsburgh.com/event/penns-colony-festival-2-2/2014-09-21/
LOCATION:Penn’s Colony Village Grounds\, 365 Saxonburg Blvd.\, Saxonburg \, PA\, 16056\, United States
CATEGORIES:Festivals,Outdoor
GEO:40.7356226;-79.8186657
X-APPLE-STRUCTURED-LOCATION;VALUE=URI;X-ADDRESS=Penn’s Colony Village Grounds 365 Saxonburg Blvd. Saxonburg  PA 16056 United States;X-APPLE-RADIUS=500;X-TITLE=365 Saxonburg Blvd.:geo:-79.8186657,40.7356226
END:VEVENT
BEGIN:VEVENT
DTSTART;VALUE=DATE:20140920
DTEND;VALUE=DATE:20140921
DTSTAMP:20260422T050205
CREATED:20140901T184854Z
LAST-MODIFIED:20140901T184854Z
UID:3470-1411171200-1411257599@playpittsburgh.com
SUMMARY:Penn's Colony Festival
DESCRIPTION:When you arrive pick up the festival handbill and look at the “Diversions and Amusements” schedule.  There are three locations for the scheduled activities.  Prepare yourself to step back in time… there’s always some Colonial demonstration and event popping up on the village streets that is unscheduled.  And there are hands on children’s activities and craftsman demonstrations throughout the festival and throughout the day.
URL:https://playpittsburgh.com/event/penns-colony-festival/2014-09-20/
LOCATION:Penn’s Colony Village Grounds\, 365 Saxonburg Blvd.\, Saxonburg \, PA\, 16056\, United States
CATEGORIES:Festivals,Outdoor
GEO:40.7356226;-79.8186657
X-APPLE-STRUCTURED-LOCATION;VALUE=URI;X-ADDRESS=Penn’s Colony Village Grounds 365 Saxonburg Blvd. Saxonburg  PA 16056 United States;X-APPLE-RADIUS=500;X-TITLE=365 Saxonburg Blvd.:geo:-79.8186657,40.7356226
END:VEVENT
BEGIN:VEVENT
DTSTART;VALUE=DATE:20140920
DTEND;VALUE=DATE:20140921
DTSTAMP:20260422T050205
CREATED:20140901T184854Z
LAST-MODIFIED:20140901T184854Z
UID:6625-1411171200-1411257599@playpittsburgh.com
SUMMARY:Penn's Colony Festival
DESCRIPTION:When you arrive pick up the festival handbill and look at the “Diversions and Amusements” schedule.  There are three locations for the scheduled activities.  Prepare yourself to step back in time… there’s always some Colonial demonstration and event popping up on the village streets that is unscheduled.  And there are hands on children’s activities and craftsman demonstrations throughout the festival and throughout the day.
URL:https://playpittsburgh.com/event/penns-colony-festival-3/2014-09-20/
LOCATION:Penn’s Colony Village Grounds\, 365 Saxonburg Blvd.\, Saxonburg \, PA\, 16056\, United States
CATEGORIES:Festivals,Outdoor
GEO:40.7356226;-79.8186657
X-APPLE-STRUCTURED-LOCATION;VALUE=URI;X-ADDRESS=Penn’s Colony Village Grounds 365 Saxonburg Blvd. Saxonburg  PA 16056 United States;X-APPLE-RADIUS=500;X-TITLE=365 Saxonburg Blvd.:geo:-79.8186657,40.7356226
END:VEVENT
END:VCALENDAR