BEGIN:VCALENDAR
VERSION:2.0
PRODID:-//Play Pittsburgh - ECPv6.15.20//NONSGML v1.0//EN
CALSCALE:GREGORIAN
METHOD:PUBLISH
X-WR-CALNAME:Play Pittsburgh
X-ORIGINAL-URL:https://playpittsburgh.com
X-WR-CALDESC:Events for Play Pittsburgh
REFRESH-INTERVAL;VALUE=DURATION:PT1H
X-Robots-Tag:noindex
X-PUBLISHED-TTL:PT1H
BEGIN:VTIMEZONE
TZID:America/New_York
BEGIN:DAYLIGHT
TZOFFSETFROM:-0500
TZOFFSETTO:-0400
TZNAME:EDT
DTSTART:20140309T070000
END:DAYLIGHT
BEGIN:STANDARD
TZOFFSETFROM:-0400
TZOFFSETTO:-0500
TZNAME:EST
DTSTART:20141102T060000
END:STANDARD
BEGIN:DAYLIGHT
TZOFFSETFROM:-0500
TZOFFSETTO:-0400
TZNAME:EDT
DTSTART:20150308T070000
END:DAYLIGHT
BEGIN:STANDARD
TZOFFSETFROM:-0400
TZOFFSETTO:-0500
TZNAME:EST
DTSTART:20151101T060000
END:STANDARD
BEGIN:DAYLIGHT
TZOFFSETFROM:-0500
TZOFFSETTO:-0400
TZNAME:EDT
DTSTART:20160313T070000
END:DAYLIGHT
BEGIN:STANDARD
TZOFFSETFROM:-0400
TZOFFSETTO:-0500
TZNAME:EST
DTSTART:20161106T060000
END:STANDARD
END:VTIMEZONE
BEGIN:VEVENT
DTSTART;TZID=America/New_York:20150404T120000
DTEND;TZID=America/New_York:20150404T140000
DTSTAMP:20260422T071910
CREATED:20150329T003507Z
LAST-MODIFIED:20150329T003507Z
UID:5952-1428148800-1428156000@playpittsburgh.com
SUMMARY:Penn Hills Easter Egg Hunt
DESCRIPTION:Penn Hills Community Park will host the annual Easter celebration from 12:00-2:00PM. The event will feature an Easter Egg Hunt\, Arts & Crafts sponsored by The Bridge\, games and a visit from the Easter Bunny. For the Easter Egg Hunt\,children will be placed into age groups (3 & under\, 4-6\, 7-9\, 10 & above) and each egg will contain candy\, toys\, or a special prize. The event is free to all! For more information\, or to pre-register\, call Penn Hills Parks & Recreation at 412-798-2147
URL:https://playpittsburgh.com/event/penn-hills-easter-egg-hunt/
LOCATION:Penn Hills Community Park\, 120 Colorado St\, Verona\, PA\, 15147\, United States
GEO:40.511001;-79.822621
X-APPLE-STRUCTURED-LOCATION;VALUE=URI;X-ADDRESS=Penn Hills Community Park 120 Colorado St Verona PA 15147 United States;X-APPLE-RADIUS=500;X-TITLE=120 Colorado St:geo:-79.822621,40.511001
END:VEVENT
END:VCALENDAR