BEGIN:VCALENDAR
VERSION:2.0
PRODID:-//Play Pittsburgh - ECPv6.15.20//NONSGML v1.0//EN
CALSCALE:GREGORIAN
METHOD:PUBLISH
X-ORIGINAL-URL:https://playpittsburgh.com
X-WR-CALDESC:Events for Play Pittsburgh
REFRESH-INTERVAL;VALUE=DURATION:PT1H
X-Robots-Tag:noindex
X-PUBLISHED-TTL:PT1H
BEGIN:VTIMEZONE
TZID:America/New_York
BEGIN:DAYLIGHT
TZOFFSETFROM:-0500
TZOFFSETTO:-0400
TZNAME:EDT
DTSTART:20130310T070000
END:DAYLIGHT
BEGIN:STANDARD
TZOFFSETFROM:-0400
TZOFFSETTO:-0500
TZNAME:EST
DTSTART:20131103T060000
END:STANDARD
BEGIN:DAYLIGHT
TZOFFSETFROM:-0500
TZOFFSETTO:-0400
TZNAME:EDT
DTSTART:20140309T070000
END:DAYLIGHT
BEGIN:STANDARD
TZOFFSETFROM:-0400
TZOFFSETTO:-0500
TZNAME:EST
DTSTART:20141102T060000
END:STANDARD
BEGIN:DAYLIGHT
TZOFFSETFROM:-0500
TZOFFSETTO:-0400
TZNAME:EDT
DTSTART:20150308T070000
END:DAYLIGHT
BEGIN:STANDARD
TZOFFSETFROM:-0400
TZOFFSETTO:-0500
TZNAME:EST
DTSTART:20151101T060000
END:STANDARD
BEGIN:DAYLIGHT
TZOFFSETFROM:-0500
TZOFFSETTO:-0400
TZNAME:EDT
DTSTART:20160313T070000
END:DAYLIGHT
BEGIN:STANDARD
TZOFFSETFROM:-0400
TZOFFSETTO:-0500
TZNAME:EST
DTSTART:20161106T060000
END:STANDARD
END:VTIMEZONE
BEGIN:VEVENT
DTSTART;TZID=America/New_York:20150328T100000
DTEND;TZID=America/New_York:20150328T140000
DTSTAMP:20260422T100958
CREATED:20150325T135226Z
LAST-MODIFIED:20150325T135226Z
UID:5650-1427536800-1427551200@playpittsburgh.com
SUMMARY:Easter Egg Hunt at Old Economy Village
DESCRIPTION:Kids can enjoy an Easter Egg hunt at Old Economy Village Garden on March 28\, from 10:00 am – 12:00 pm
URL:https://playpittsburgh.com/event/easter-egg-hunt-at-old-economy-village/
LOCATION:Old Economy Village\, 270 16th Street\, Ambridge\, PA\, 15003\, United States
GEO:40.5985949;-80.2318745
X-APPLE-STRUCTURED-LOCATION;VALUE=URI;X-ADDRESS=Old Economy Village 270 16th Street Ambridge PA 15003 United States;X-APPLE-RADIUS=500;X-TITLE=270 16th Street:geo:-80.2318745,40.5985949
END:VEVENT
BEGIN:VEVENT
DTSTART;TZID=America/New_York:20140920T100000
DTEND;TZID=America/New_York:20140920T170000
DTSTAMP:20260422T100958
CREATED:20140901T032405Z
LAST-MODIFIED:20140901T032405Z
UID:3364-1411207200-1411232400@playpittsburgh.com
SUMMARY:Autumnfest @ Old Economy Villiage
DESCRIPTION:Come celebrate the Autumn harvest at Old Economy Village. This is a new event! The Village will be full of 19th century artisans demonstrating meat smoking\, coopering\, blacksmithing\, broom making\, wine making\, and beer brewing. Visitors are invited to churn butter\, press apples and grapes\, make rope\, try bread from the bake oven\, and enjoy homemade grape pies from the grapes harvested from the historic buildings and garden. There will be music from Burke’s Bavarian Brass\, Daniels & McClain\, and Koni Ostertag to entertain you\, as well as German food and cider! There will also be plenty of children’s games and fun! \n 
URL:https://playpittsburgh.com/event/autumnfest-old-economy-villiage/
LOCATION:Old Economy Village\, 270 16th Street\, Ambridge\, PA\, 15003\, United States
CATEGORIES:Festivals,Outdoor
GEO:40.5985949;-80.2318745
X-APPLE-STRUCTURED-LOCATION;VALUE=URI;X-ADDRESS=Old Economy Village 270 16th Street Ambridge PA 15003 United States;X-APPLE-RADIUS=500;X-TITLE=270 16th Street:geo:-80.2318745,40.5985949
END:VEVENT
END:VCALENDAR