BEGIN:VCALENDAR
VERSION:2.0
PRODID:-//Play Pittsburgh - ECPv6.15.20//NONSGML v1.0//EN
CALSCALE:GREGORIAN
METHOD:PUBLISH
X-ORIGINAL-URL:https://playpittsburgh.com
X-WR-CALDESC:Events for Play Pittsburgh
REFRESH-INTERVAL;VALUE=DURATION:PT1H
X-Robots-Tag:noindex
X-PUBLISHED-TTL:PT1H
BEGIN:VTIMEZONE
TZID:America/New_York
BEGIN:DAYLIGHT
TZOFFSETFROM:-0500
TZOFFSETTO:-0400
TZNAME:EDT
DTSTART:20130310T070000
END:DAYLIGHT
BEGIN:STANDARD
TZOFFSETFROM:-0400
TZOFFSETTO:-0500
TZNAME:EST
DTSTART:20131103T060000
END:STANDARD
BEGIN:DAYLIGHT
TZOFFSETFROM:-0500
TZOFFSETTO:-0400
TZNAME:EDT
DTSTART:20140309T070000
END:DAYLIGHT
BEGIN:STANDARD
TZOFFSETFROM:-0400
TZOFFSETTO:-0500
TZNAME:EST
DTSTART:20141102T060000
END:STANDARD
BEGIN:DAYLIGHT
TZOFFSETFROM:-0500
TZOFFSETTO:-0400
TZNAME:EDT
DTSTART:20150308T070000
END:DAYLIGHT
BEGIN:STANDARD
TZOFFSETFROM:-0400
TZOFFSETTO:-0500
TZNAME:EST
DTSTART:20151101T060000
END:STANDARD
BEGIN:DAYLIGHT
TZOFFSETFROM:-0500
TZOFFSETTO:-0400
TZNAME:EDT
DTSTART:20160313T070000
END:DAYLIGHT
BEGIN:STANDARD
TZOFFSETFROM:-0400
TZOFFSETTO:-0500
TZNAME:EST
DTSTART:20161106T060000
END:STANDARD
END:VTIMEZONE
BEGIN:VEVENT
DTSTART;TZID=America/New_York:20150515T150000
DTEND;TZID=America/New_York:20150515T180000
DTSTAMP:20260424T045239
CREATED:20150515T163308Z
LAST-MODIFIED:20150515T163308Z
UID:6965-1431702000-1431712800@playpittsburgh.com
SUMMARY:Food Revolution Day
DESCRIPTION:Food Revolution Day is a global day of action for people to make a stand for good food and essential cooking skills. It’s a chance for people to come together within their homes\, schools\, workplaces and communities to cook and share their kitchen skills\, food knowledge and resources. Food Revolution Day aims to raise awareness about the importance of good food and better food education for everyone by focusing on three simple actions – cook it\, share it\, live it. \nIn Pittsburgh\, Food Revolution Day hosted by the Pittsburgh Cooking Club at Obama Academy celebrates two things: access to real food and the ideas that result when we’re eating well as a community.
URL:https://playpittsburgh.com/event/food-revolution-day-2/
LOCATION:Obama Academy\, 515 N. Highland Avenue\, Pittsburgh\, PA\, 15206\, United States
GEO:40.46705;-79.9230494
X-APPLE-STRUCTURED-LOCATION;VALUE=URI;X-ADDRESS=Obama Academy 515 N. Highland Avenue Pittsburgh PA 15206 United States;X-APPLE-RADIUS=500;X-TITLE=515 N. Highland Avenue:geo:-79.9230494,40.46705
END:VEVENT
BEGIN:VEVENT
DTSTART;TZID=America/New_York:20140516T150000
DTEND;TZID=America/New_York:20140516T180000
DTSTAMP:20260424T045239
CREATED:20140515T212854Z
LAST-MODIFIED:20140515T212949Z
UID:1441-1400252400-1400263200@playpittsburgh.com
SUMMARY:Food Revolution Day
DESCRIPTION:The Food Revolution team\, in partnership with chef Jamie Oliver\, is presenting the 2nd annual Food Revolution day at the Obama Academy. It’s the largest Food Revolution Day events globally with attendance of over 5\,000. This event is free and includes 85+ exhibitors\, 20+ chefs\, a petting zoo\, dunk tank\, live mural\, and soccer tournament so bring the whole family and enjoy free food and entertainment while supporting a great cause!
URL:https://playpittsburgh.com/event/food-revolution-day/
LOCATION:Obama Academy\, 515 N. Highland Avenue\, Pittsburgh\, PA\, 15206\, United States
CATEGORIES:Festivals,Free,Outdoor
ORGANIZER;CN="Food Revolution Pittsburgh":MAILTO:robert@barmarcopgh.com
GEO:40.46705;-79.9230494
X-APPLE-STRUCTURED-LOCATION;VALUE=URI;X-ADDRESS=Obama Academy 515 N. Highland Avenue Pittsburgh PA 15206 United States;X-APPLE-RADIUS=500;X-TITLE=515 N. Highland Avenue:geo:-79.9230494,40.46705
END:VEVENT
END:VCALENDAR