BEGIN:VCALENDAR
VERSION:2.0
PRODID:-//Play Pittsburgh - ECPv6.15.20//NONSGML v1.0//EN
CALSCALE:GREGORIAN
METHOD:PUBLISH
X-WR-CALNAME:Play Pittsburgh
X-ORIGINAL-URL:https://playpittsburgh.com
X-WR-CALDESC:Events for Play Pittsburgh
REFRESH-INTERVAL;VALUE=DURATION:PT1H
X-Robots-Tag:noindex
X-PUBLISHED-TTL:PT1H
BEGIN:VTIMEZONE
TZID:America/New_York
BEGIN:DAYLIGHT
TZOFFSETFROM:-0500
TZOFFSETTO:-0400
TZNAME:EDT
DTSTART:20130310T070000
END:DAYLIGHT
BEGIN:STANDARD
TZOFFSETFROM:-0400
TZOFFSETTO:-0500
TZNAME:EST
DTSTART:20131103T060000
END:STANDARD
BEGIN:DAYLIGHT
TZOFFSETFROM:-0500
TZOFFSETTO:-0400
TZNAME:EDT
DTSTART:20140309T070000
END:DAYLIGHT
BEGIN:STANDARD
TZOFFSETFROM:-0400
TZOFFSETTO:-0500
TZNAME:EST
DTSTART:20141102T060000
END:STANDARD
BEGIN:DAYLIGHT
TZOFFSETFROM:-0500
TZOFFSETTO:-0400
TZNAME:EDT
DTSTART:20150308T070000
END:DAYLIGHT
BEGIN:STANDARD
TZOFFSETFROM:-0400
TZOFFSETTO:-0500
TZNAME:EST
DTSTART:20151101T060000
END:STANDARD
END:VTIMEZONE
BEGIN:VEVENT
DTSTART;TZID=America/New_York:20141101T130000
DTEND;TZID=America/New_York:20141101T150000
DTSTAMP:20260422T051358
CREATED:20141030T194901Z
LAST-MODIFIED:20141030T194901Z
UID:4128-1414846800-1414854000@playpittsburgh.com
SUMMARY:Star Wars Days at Northland Public Library
DESCRIPTION:Star Wars Day at the Northland Public Library! Come meet Imperial Storm Troopers from the “Fighting 501st”. No registration required.
URL:https://playpittsburgh.com/event/star-wars-days-at-northland-public-library/
LOCATION:Northland Library\, 300 Cumberland Rd\, Pittsburgh\, PA\, 15237\, United States
ATTACH;FMTTYPE=:
GEO:40.5710674;-80.0347198
X-APPLE-STRUCTURED-LOCATION;VALUE=URI;X-ADDRESS=Northland Library 300 Cumberland Rd Pittsburgh PA 15237 United States;X-APPLE-RADIUS=500;X-TITLE=300 Cumberland Rd:geo:-80.0347198,40.5710674
END:VEVENT
BEGIN:VEVENT
DTSTART;TZID=America/New_York:20141008T133000
DTEND;TZID=America/New_York:20141008T153000
DTSTAMP:20260422T051358
CREATED:20140904T164703Z
LAST-MODIFIED:20140904T164703Z
UID:3676-1412775000-1412782200@playpittsburgh.com
SUMMARY:Northland Public Library: Foreign Film Presentation
DESCRIPTION:Adults are invited to come to the library and enjoy a foreign film presentation.  No reservation is required and refreshments will be served.
URL:https://playpittsburgh.com/event/northland-public-library-foreign-film-presentation/
LOCATION:Northland Library\, 300 Cumberland Rd\, Pittsburgh\, PA\, 15237\, United States
CATEGORIES:Free,Performing Arts,RADical Days
GEO:40.5710674;-80.0347198
X-APPLE-STRUCTURED-LOCATION;VALUE=URI;X-ADDRESS=Northland Library 300 Cumberland Rd Pittsburgh PA 15237 United States;X-APPLE-RADIUS=500;X-TITLE=300 Cumberland Rd:geo:-80.0347198,40.5710674
END:VEVENT
BEGIN:VEVENT
DTSTART;TZID=America/New_York:20140816T150000
DTEND;TZID=America/New_York:20140816T160000
DTSTAMP:20260422T051358
CREATED:20140729T235555Z
LAST-MODIFIED:20140729T235555Z
UID:2936-1408201200-1408204800@playpittsburgh.com
SUMMARY:Stuffed Animal Sleepover @ Northland Library
DESCRIPTION:Stuffed Animals just wanna have fun. Bring your favorite stuffed animal to the Northland for some crafts and hi-jinx for the Stuffed Animal Sleepover. We will make a craft for our stuffies and have a story or two. Then you will say goodbye to your friend so they can have their very own sleepover weekend at the library. You will be amazed at what they will get to do while you are not there to watch over them. Your friend can be picked up any time Monday\, August 18. They may even have a little souvenir for you to enjoy at home. \nPlease register in person at the Children/Young Adult Desk.\nContact the Children’s/Young Adult Desk @ 412-366-8100×123
URL:https://playpittsburgh.com/event/stuffed-animal-sleepover-northland-library/
LOCATION:Northland Library\, 300 Cumberland Rd\, Pittsburgh\, PA\, 15237\, United States
GEO:40.5710674;-80.0347198
X-APPLE-STRUCTURED-LOCATION;VALUE=URI;X-ADDRESS=Northland Library 300 Cumberland Rd Pittsburgh PA 15237 United States;X-APPLE-RADIUS=500;X-TITLE=300 Cumberland Rd:geo:-80.0347198,40.5710674
END:VEVENT
BEGIN:VEVENT
DTSTART;TZID=America/New_York:20140811T100000
DTEND;TZID=America/New_York:20140811T110000
DTSTAMP:20260422T051358
CREATED:20140729T234957Z
LAST-MODIFIED:20140729T235234Z
UID:2932-1407751200-1407754800@playpittsburgh.com
SUMMARY:Kindergarten Boot Camp @ Northland Library
DESCRIPTION:Three mornings of games & stories to teach school skills and help with first-day jitters. Open to children entering Kindergarten this fall. Early registration for residents of Bradford Woods\, Franklin Park\, Marshall\, McCandless and Ross begins July 21st. Open registration begins August 4th. Please register in person at the Children’s desk.\nDate / Time:: Monday Aug 11 – Wednesday\, Aug 13\, 2014 / 10:00 AM – 11:00 AM\nContact: Children & Young Adult Department 412-366-8100×123
URL:https://playpittsburgh.com/event/kindergarten-boot-camp-northland-library/2014-08-11/
LOCATION:Northland Library\, 300 Cumberland Rd\, Pittsburgh\, PA\, 15237\, United States
CATEGORIES:Free
GEO:40.5710674;-80.0347198
X-APPLE-STRUCTURED-LOCATION;VALUE=URI;X-ADDRESS=Northland Library 300 Cumberland Rd Pittsburgh PA 15237 United States;X-APPLE-RADIUS=500;X-TITLE=300 Cumberland Rd:geo:-80.0347198,40.5710674
END:VEVENT
END:VCALENDAR