BEGIN:VCALENDAR
VERSION:2.0
PRODID:-//Play Pittsburgh - ECPv6.15.20//NONSGML v1.0//EN
CALSCALE:GREGORIAN
METHOD:PUBLISH
X-WR-CALNAME:Play Pittsburgh
X-ORIGINAL-URL:https://playpittsburgh.com
X-WR-CALDESC:Events for Play Pittsburgh
REFRESH-INTERVAL;VALUE=DURATION:PT1H
X-Robots-Tag:noindex
X-PUBLISHED-TTL:PT1H
BEGIN:VTIMEZONE
TZID:America/New_York
BEGIN:DAYLIGHT
TZOFFSETFROM:-0500
TZOFFSETTO:-0400
TZNAME:EDT
DTSTART:20130310T070000
END:DAYLIGHT
BEGIN:STANDARD
TZOFFSETFROM:-0400
TZOFFSETTO:-0500
TZNAME:EST
DTSTART:20131103T060000
END:STANDARD
BEGIN:DAYLIGHT
TZOFFSETFROM:-0500
TZOFFSETTO:-0400
TZNAME:EDT
DTSTART:20140309T070000
END:DAYLIGHT
BEGIN:STANDARD
TZOFFSETFROM:-0400
TZOFFSETTO:-0500
TZNAME:EST
DTSTART:20141102T060000
END:STANDARD
BEGIN:DAYLIGHT
TZOFFSETFROM:-0500
TZOFFSETTO:-0400
TZNAME:EDT
DTSTART:20150308T070000
END:DAYLIGHT
BEGIN:STANDARD
TZOFFSETFROM:-0400
TZOFFSETTO:-0500
TZNAME:EST
DTSTART:20151101T060000
END:STANDARD
END:VTIMEZONE
BEGIN:VEVENT
DTSTART;TZID=America/New_York:20141213T190000
DTEND;TZID=America/New_York:20141213T200000
DTSTAMP:20260422T145540
CREATED:20141205T030536Z
LAST-MODIFIED:20141205T030536Z
UID:5175-1418497200-1418500800@playpittsburgh.com
SUMMARY:Pittsburgh Philharmonics at Northgate Senior High School
DESCRIPTION:Enjoy a Holiday Pops concert from Pittsburgh Philharmonic on Saturday\, December 13 at Northgate Senior High School.
URL:https://playpittsburgh.com/event/pittsburgh-philharmonics-at-northgate-senior-high-school/
LOCATION:Northgate MSHS\, 589 Union Ave\, Pittsburgh\, PA\, 15202\, United States
GEO:40.5062691;-80.0566943
X-APPLE-STRUCTURED-LOCATION;VALUE=URI;X-ADDRESS=Northgate MSHS 589 Union Ave Pittsburgh PA 15202 United States;X-APPLE-RADIUS=500;X-TITLE=589 Union Ave:geo:-80.0566943,40.5062691
END:VEVENT
END:VCALENDAR