BEGIN:VCALENDAR
VERSION:2.0
PRODID:-//Play Pittsburgh - ECPv6.15.20//NONSGML v1.0//EN
CALSCALE:GREGORIAN
METHOD:PUBLISH
X-WR-CALNAME:Play Pittsburgh
X-ORIGINAL-URL:https://playpittsburgh.com
X-WR-CALDESC:Events for Play Pittsburgh
REFRESH-INTERVAL;VALUE=DURATION:PT1H
X-Robots-Tag:noindex
X-PUBLISHED-TTL:PT1H
BEGIN:VTIMEZONE
TZID:America/New_York
BEGIN:DAYLIGHT
TZOFFSETFROM:-0500
TZOFFSETTO:-0400
TZNAME:EDT
DTSTART:20140309T070000
END:DAYLIGHT
BEGIN:STANDARD
TZOFFSETFROM:-0400
TZOFFSETTO:-0500
TZNAME:EST
DTSTART:20141102T060000
END:STANDARD
BEGIN:DAYLIGHT
TZOFFSETFROM:-0500
TZOFFSETTO:-0400
TZNAME:EDT
DTSTART:20150308T070000
END:DAYLIGHT
BEGIN:STANDARD
TZOFFSETFROM:-0400
TZOFFSETTO:-0500
TZNAME:EST
DTSTART:20151101T060000
END:STANDARD
BEGIN:DAYLIGHT
TZOFFSETFROM:-0500
TZOFFSETTO:-0400
TZNAME:EDT
DTSTART:20160313T070000
END:DAYLIGHT
BEGIN:STANDARD
TZOFFSETFROM:-0400
TZOFFSETTO:-0500
TZNAME:EST
DTSTART:20161106T060000
END:STANDARD
BEGIN:DAYLIGHT
TZOFFSETFROM:-0500
TZOFFSETTO:-0400
TZNAME:EDT
DTSTART:20170312T070000
END:DAYLIGHT
BEGIN:STANDARD
TZOFFSETFROM:-0400
TZOFFSETTO:-0500
TZNAME:EST
DTSTART:20171105T060000
END:STANDARD
END:VTIMEZONE
BEGIN:VEVENT
DTSTART;TZID=America/New_York:20160705T090000
DTEND;TZID=America/New_York:20160705T110000
DTSTAMP:20260424T063223
CREATED:20160704T181103Z
LAST-MODIFIED:20160704T182932Z
UID:9516-1467709200-1467716400@playpittsburgh.com
SUMMARY:Free Summer Movie Series at North Versailles 18
DESCRIPTION:Free family-friendly movies at 10am every Tuesday\, Wednesday & Thursday! \nDifferent G- and PG-rated films for 10 weeks over the summer \n• FREE Admission • All Ages & Groups welcome • \n• Doors open at 9:00 AM • Special Kiddie Meal available • \nSeating Limited to Auditorium Capacity – No Purchase Necessary \nCurrent feature films not included in free admission. \nAll titles rated PG unless otherwise noted. Participating locations and show schedules below. \n  \n07/05 – 07/07 : Night at the Museum: Secret of the Tomb\, Cloudy With A Chance Of Meatballs 2\n07/12 – 07/14 : Home\, The Lego Movie\n07/19 – 07/21 : The Croods\, Horton Hears A Who (G)\n07/26 – 07/28 : How To Train Your Dragon 2\, Book of Life\n08/02 – 08/04 : Alvin & The Chipmunks: The Road Chip\, The Peanuts Movie (G)\n08/09 – 08/11 : Turbo\, Epic\n08/16 – 08/18 : Madagascar 3: Europe’s Most Wanted\, Puss In Boots
URL:https://playpittsburgh.com/event/free-summer-movie-series-north-versailles-18/2016-07-05/
LOCATION:North Versailles Stadium 18\, 1701 Lincoln Highway\, North Versailles\, 15137
GEO:40.3714501;-79.7855224
X-APPLE-STRUCTURED-LOCATION;VALUE=URI;X-ADDRESS=North Versailles Stadium 18 1701 Lincoln Highway North Versailles 15137;X-APPLE-RADIUS=500;X-TITLE=1701 Lincoln Highway:geo:-79.7855224,40.3714501
END:VEVENT
BEGIN:VEVENT
DTSTART;TZID=America/New_York:20150618T100000
DTEND;TZID=America/New_York:20150618T113000
DTSTAMP:20260424T063223
CREATED:20150531T004242Z
LAST-MODIFIED:20150531T004242Z
UID:8832-1434621600-1434627000@playpittsburgh.com
SUMMARY:FREE Family Movie Series at North Versailles Stadium 18
DESCRIPTION:Free family friendly movies at 10am every Tuesday\, Wednesday & Thursday. Different G and PG rated films for 10 weeks over the summer. FREE Admission. All Ages & Groups Welcome. Doors open at 9:00 AM. Special Snack Packs Available. Seating Limited to Auditorium Capacity – No Purchase Necessary. Current Feature Films Not Included in Free Admission. \n\nJune 16 – 18 : Epic / Wallace & Gromit: Curse of the Were-Rabbit\nJune 23 – 25 : Mr. Peabody & Sherman / Ramona & Beezus\nJune 30 – July 2 : Penguins of Madagascar / Chicken Run\nJuly 7 – 9 : Madagascar 3 Europe’s Most Wanted / Rio\nJuly 14 – 16 : Puss in Boots / Rio 2\nJuly 21 – 23 : The Croods / Dr. Seuss’ Horton Hears a Who\nJuly 28 – 30 : How To Train Your Dragon 2 / Alvin & the Chipmunks: Chipwrecked\nAugust 4 – 6 : Ice Age 4: Continental Drift / Everyone’s Hero\nAugust 11 – 13 : Turbo / Mr. Magorium’s Wonder Emporium\nAugust 18 – 20 : Night at the Museum Secret of the Tomb / Space Chimps
URL:https://playpittsburgh.com/event/free-family-movie-series-at-north-versailles-stadium-18-3/2015-06-18/
LOCATION:North Versailles Stadium 18\, 1701 Lincoln Highway\, North Versailles\, 15137
GEO:40.3714501;-79.7855224
X-APPLE-STRUCTURED-LOCATION;VALUE=URI;X-ADDRESS=North Versailles Stadium 18 1701 Lincoln Highway North Versailles 15137;X-APPLE-RADIUS=500;X-TITLE=1701 Lincoln Highway:geo:-79.7855224,40.3714501
END:VEVENT
BEGIN:VEVENT
DTSTART;TZID=America/New_York:20150617T100000
DTEND;TZID=America/New_York:20150617T113000
DTSTAMP:20260424T063223
CREATED:20150531T004049Z
LAST-MODIFIED:20150531T004049Z
UID:8822-1434535200-1434540600@playpittsburgh.com
SUMMARY:FREE Family Movie Series at North Versailles Stadium 18
DESCRIPTION:Free family friendly movies at 10am every Tuesday\, Wednesday & Thursday. Different G and PG rated films for 10 weeks over the summer. FREE Admission. All Ages & Groups Welcome. Doors open at 9:00 AM. Special Snack Packs Available. Seating Limited to Auditorium Capacity – No Purchase Necessary. Current Feature Films Not Included in Free Admission. \nJune 16 – 18 : Epic / Wallace & Gromit: Curse of the Were-Rabbit\nJune 23 – 25 : Mr. Peabody & Sherman / Ramona & Beezus\nJune 30 – July 2 : Penguins of Madagascar / Chicken Run\nJuly 7 – 9 : Madagascar 3 Europe’s Most Wanted / Rio\nJuly 14 – 16 : Puss in Boots / Rio 2\nJuly 21 – 23 : The Croods / Dr. Seuss’ Horton Hears a Who\nJuly 28 – 30 : How To Train Your Dragon 2 / Alvin & the Chipmunks: Chipwrecked\nAugust 4 – 6 : Ice Age 4: Continental Drift / Everyone’s Hero\nAugust 11 – 13 : Turbo / Mr. Magorium’s Wonder Emporium\nAugust 18 – 20 : Night at the Museum Secret of the Tomb / Space Chimps
URL:https://playpittsburgh.com/event/free-family-movie-series-at-north-versailles-stadium-18-2/2015-06-17/
LOCATION:North Versailles Stadium 18\, 1701 Lincoln Highway\, North Versailles\, 15137
GEO:40.3714501;-79.7855224
X-APPLE-STRUCTURED-LOCATION;VALUE=URI;X-ADDRESS=North Versailles Stadium 18 1701 Lincoln Highway North Versailles 15137;X-APPLE-RADIUS=500;X-TITLE=1701 Lincoln Highway:geo:-79.7855224,40.3714501
END:VEVENT
BEGIN:VEVENT
DTSTART;TZID=America/New_York:20150616T100000
DTEND;TZID=America/New_York:20150616T113000
DTSTAMP:20260424T063223
CREATED:20150531T003913Z
LAST-MODIFIED:20150531T003913Z
UID:8812-1434448800-1434454200@playpittsburgh.com
SUMMARY:FREE Family Movie Series at North Versailles Stadium 18
DESCRIPTION:Free family friendly movies at 10am every Tuesday\, Wednesday & Thursday. Different G and PG rated films for 10 weeks over the summer. FREE Admission. All Ages & Groups Welcome. Doors open at 9:00 AM. Special Snack Packs Available. Seating Limited to Auditorium Capacity – No Purchase Necessary. Current Feature Films Not Included in Free Admission. \n\nJune 16 – 18 : Epic / Wallace & Gromit: Curse of the Were-Rabbit\nJune 23 – 25 : Mr. Peabody & Sherman / Ramona & Beezus\nJune 30 – July 2 : Penguins of Madagascar / Chicken Run\nJuly 7 – 9 : Madagascar 3 Europe’s Most Wanted / Rio\nJuly 14 – 16 : Puss in Boots / Rio 2\nJuly 21 – 23 : The Croods / Dr. Seuss’ Horton Hears a Who\nJuly 28 – 30 : How To Train Your Dragon 2 / Alvin & the Chipmunks: Chipwrecked\nAugust 4 – 6 : Ice Age 4: Continental Drift / Everyone’s Hero\nAugust 11 – 13 : Turbo / Mr. Magorium’s Wonder Emporium\nAugust 18 – 20 : Night at the Museum Secret of the Tomb / Space Chimps
URL:https://playpittsburgh.com/event/free-family-movie-series-at-north-versailles-stadium-18/2015-06-16/
LOCATION:North Versailles Stadium 18\, 1701 Lincoln Highway\, North Versailles\, 15137
GEO:40.3714501;-79.7855224
X-APPLE-STRUCTURED-LOCATION;VALUE=URI;X-ADDRESS=North Versailles Stadium 18 1701 Lincoln Highway North Versailles 15137;X-APPLE-RADIUS=500;X-TITLE=1701 Lincoln Highway:geo:-79.7855224,40.3714501
END:VEVENT
BEGIN:VEVENT
DTSTART;VALUE=DATE:20150331
DTEND;VALUE=DATE:20150401
DTSTAMP:20260424T063223
CREATED:20150326T180839Z
LAST-MODIFIED:20150326T180839Z
UID:5766-1427760000-1427846399@playpittsburgh.com
SUMMARY:Bargain Movie Tuesday at North Versailles Stadium 18
DESCRIPTION:Take advantage of the best movie prices in Pittsburgh! $4 movie tickets all day!
URL:https://playpittsburgh.com/event/bargain-movie-tuesday-at-north-versailles-stadium-18/2015-03-31/
LOCATION:North Versailles Stadium 18\, 1701 Lincoln Highway\, North Versailles\, 15137
GEO:40.3714501;-79.7855224
X-APPLE-STRUCTURED-LOCATION;VALUE=URI;X-ADDRESS=North Versailles Stadium 18 1701 Lincoln Highway North Versailles 15137;X-APPLE-RADIUS=500;X-TITLE=1701 Lincoln Highway:geo:-79.7855224,40.3714501
END:VEVENT
END:VCALENDAR