BEGIN:VCALENDAR
VERSION:2.0
PRODID:-//Play Pittsburgh - ECPv6.15.20//NONSGML v1.0//EN
CALSCALE:GREGORIAN
METHOD:PUBLISH
X-WR-CALNAME:Play Pittsburgh
X-ORIGINAL-URL:https://playpittsburgh.com
X-WR-CALDESC:Events for Play Pittsburgh
REFRESH-INTERVAL;VALUE=DURATION:PT1H
X-Robots-Tag:noindex
X-PUBLISHED-TTL:PT1H
BEGIN:VTIMEZONE
TZID:America/New_York
BEGIN:DAYLIGHT
TZOFFSETFROM:-0500
TZOFFSETTO:-0400
TZNAME:EDT
DTSTART:20150308T070000
END:DAYLIGHT
BEGIN:STANDARD
TZOFFSETFROM:-0400
TZOFFSETTO:-0500
TZNAME:EST
DTSTART:20151101T060000
END:STANDARD
BEGIN:DAYLIGHT
TZOFFSETFROM:-0500
TZOFFSETTO:-0400
TZNAME:EDT
DTSTART:20160313T070000
END:DAYLIGHT
BEGIN:STANDARD
TZOFFSETFROM:-0400
TZOFFSETTO:-0500
TZNAME:EST
DTSTART:20161106T060000
END:STANDARD
BEGIN:DAYLIGHT
TZOFFSETFROM:-0500
TZOFFSETTO:-0400
TZNAME:EDT
DTSTART:20170312T070000
END:DAYLIGHT
BEGIN:STANDARD
TZOFFSETFROM:-0400
TZOFFSETTO:-0500
TZNAME:EST
DTSTART:20171105T060000
END:STANDARD
END:VTIMEZONE
BEGIN:VEVENT
DTSTART;TZID=America/New_York:20160712T120000
DTEND;TZID=America/New_York:20160712T150000
DTSTAMP:20260421T224254
CREATED:20160712T121040Z
LAST-MODIFIED:20160712T121040Z
UID:9789-1468324800-1468335600@playpittsburgh.com
SUMMARY:Family Fun Day at North Park Swimming Pool
DESCRIPTION:Enjoy a free photo booth\, face painting\, magician and giveaways\, as well as a meet-and-greet with the Little Mermaid and Flounder! Regular pool admission fees apply.
URL:https://playpittsburgh.com/event/family-fun-day-north-park-swimming-pool/
LOCATION:North Park Swimming Pool\, S Ridge Dr\, Allison Park\, PA\, 15101\, United States
GEO:40.5877642;-79.9892594
X-APPLE-STRUCTURED-LOCATION;VALUE=URI;X-ADDRESS=North Park Swimming Pool S Ridge Dr Allison Park PA 15101 United States;X-APPLE-RADIUS=500;X-TITLE=S Ridge Dr:geo:-79.9892594,40.5877642
END:VEVENT
END:VCALENDAR