BEGIN:VCALENDAR
VERSION:2.0
PRODID:-//Play Pittsburgh - ECPv6.15.20//NONSGML v1.0//EN
CALSCALE:GREGORIAN
METHOD:PUBLISH
X-WR-CALNAME:Play Pittsburgh
X-ORIGINAL-URL:https://playpittsburgh.com
X-WR-CALDESC:Events for Play Pittsburgh
REFRESH-INTERVAL;VALUE=DURATION:PT1H
X-Robots-Tag:noindex
X-PUBLISHED-TTL:PT1H
BEGIN:VTIMEZONE
TZID:America/New_York
BEGIN:DAYLIGHT
TZOFFSETFROM:-0500
TZOFFSETTO:-0400
TZNAME:EDT
DTSTART:20140309T070000
END:DAYLIGHT
BEGIN:STANDARD
TZOFFSETFROM:-0400
TZOFFSETTO:-0500
TZNAME:EST
DTSTART:20141102T060000
END:STANDARD
BEGIN:DAYLIGHT
TZOFFSETFROM:-0500
TZOFFSETTO:-0400
TZNAME:EDT
DTSTART:20150308T070000
END:DAYLIGHT
BEGIN:STANDARD
TZOFFSETFROM:-0400
TZOFFSETTO:-0500
TZNAME:EST
DTSTART:20151101T060000
END:STANDARD
BEGIN:DAYLIGHT
TZOFFSETFROM:-0500
TZOFFSETTO:-0400
TZNAME:EDT
DTSTART:20160313T070000
END:DAYLIGHT
BEGIN:STANDARD
TZOFFSETFROM:-0400
TZOFFSETTO:-0500
TZNAME:EST
DTSTART:20161106T060000
END:STANDARD
END:VTIMEZONE
BEGIN:VEVENT
DTSTART;TZID=America/New_York:20150329T090000
DTEND;TZID=America/New_York:20150329T150000
DTSTAMP:20260422T163013
CREATED:20150325T150755Z
LAST-MODIFIED:20150325T150755Z
UID:5661-1427619600-1427641200@playpittsburgh.com
SUMMARY:New Horizons Bunny Brunch
DESCRIPTION:Come with the family and enjoy lots of fun activities… \n\nFace Painting\nCrafts\nDye eggs\nPictures with the Easter bunny\nand much more!\n\nTicket cost $6 for adults\, $5 for children tickets can be purchased at the door \nActivities are not included in the price of the meal tickets.
URL:https://playpittsburgh.com/event/new-horizons-bunny-brunch/
LOCATION:New Horizons Majorettes in the Old Lutheran Church\, 320 Walnut Ave\, Clairton\, PA\, 15025\, United States
GEO:40.3070229;-79.8905931
X-APPLE-STRUCTURED-LOCATION;VALUE=URI;X-ADDRESS=New Horizons Majorettes in the Old Lutheran Church 320 Walnut Ave Clairton PA 15025 United States;X-APPLE-RADIUS=500;X-TITLE=320 Walnut Ave:geo:-79.8905931,40.3070229
END:VEVENT
END:VCALENDAR