BEGIN:VCALENDAR
VERSION:2.0
PRODID:-//Play Pittsburgh - ECPv6.15.20//NONSGML v1.0//EN
CALSCALE:GREGORIAN
METHOD:PUBLISH
X-ORIGINAL-URL:https://playpittsburgh.com
X-WR-CALDESC:Events for Play Pittsburgh
REFRESH-INTERVAL;VALUE=DURATION:PT1H
X-Robots-Tag:noindex
X-PUBLISHED-TTL:PT1H
BEGIN:VTIMEZONE
TZID:America/New_York
BEGIN:DAYLIGHT
TZOFFSETFROM:-0500
TZOFFSETTO:-0400
TZNAME:EDT
DTSTART:20130310T070000
END:DAYLIGHT
BEGIN:STANDARD
TZOFFSETFROM:-0400
TZOFFSETTO:-0500
TZNAME:EST
DTSTART:20131103T060000
END:STANDARD
BEGIN:DAYLIGHT
TZOFFSETFROM:-0500
TZOFFSETTO:-0400
TZNAME:EDT
DTSTART:20140309T070000
END:DAYLIGHT
BEGIN:STANDARD
TZOFFSETFROM:-0400
TZOFFSETTO:-0500
TZNAME:EST
DTSTART:20141102T060000
END:STANDARD
BEGIN:DAYLIGHT
TZOFFSETFROM:-0500
TZOFFSETTO:-0400
TZNAME:EDT
DTSTART:20150308T070000
END:DAYLIGHT
BEGIN:STANDARD
TZOFFSETFROM:-0400
TZOFFSETTO:-0500
TZNAME:EST
DTSTART:20151101T060000
END:STANDARD
END:VTIMEZONE
BEGIN:VEVENT
DTSTART;TZID=America/New_York:20141109T090000
DTEND;TZID=America/New_York:20141109T103000
DTSTAMP:20260421T184817
CREATED:20141031T021236Z
LAST-MODIFIED:20141031T021236Z
UID:6893-1415523600-1415529000@playpittsburgh.com
SUMMARY:Breakfast w Santa at Neshannock Creek Inn
DESCRIPTION:Breakfast w Santa at Neshannock Creek Inn- call 724-533-2233. 9:00 A.M. BUFFET STYLE. NO RESERVATIONS. First come\, first serve.\n$8.00 ADULTS\n$6.50 CHILDREN
URL:https://playpittsburgh.com/event/breakfast-w-santa-at-neshannock-creek-inn/
LOCATION:Neshannock Creek Inn\, 1 W Main St\, Volant\, PA\, United States
ATTACH;FMTTYPE=:
GEO:41.112972;-80.2578459
X-APPLE-STRUCTURED-LOCATION;VALUE=URI;X-ADDRESS=Neshannock Creek Inn 1 W Main St Volant PA United States;X-APPLE-RADIUS=500;X-TITLE=1 W Main St:geo:-80.2578459,41.112972
END:VEVENT
END:VCALENDAR