BEGIN:VCALENDAR
VERSION:2.0
PRODID:-//Play Pittsburgh - ECPv6.15.20//NONSGML v1.0//EN
CALSCALE:GREGORIAN
METHOD:PUBLISH
X-ORIGINAL-URL:https://playpittsburgh.com
X-WR-CALDESC:Events for Play Pittsburgh
REFRESH-INTERVAL;VALUE=DURATION:PT1H
X-Robots-Tag:noindex
X-PUBLISHED-TTL:PT1H
BEGIN:VTIMEZONE
TZID:America/New_York
BEGIN:DAYLIGHT
TZOFFSETFROM:-0500
TZOFFSETTO:-0400
TZNAME:EDT
DTSTART:20130310T070000
END:DAYLIGHT
BEGIN:STANDARD
TZOFFSETFROM:-0400
TZOFFSETTO:-0500
TZNAME:EST
DTSTART:20131103T060000
END:STANDARD
BEGIN:DAYLIGHT
TZOFFSETFROM:-0500
TZOFFSETTO:-0400
TZNAME:EDT
DTSTART:20140309T070000
END:DAYLIGHT
BEGIN:STANDARD
TZOFFSETFROM:-0400
TZOFFSETTO:-0500
TZNAME:EST
DTSTART:20141102T060000
END:STANDARD
BEGIN:DAYLIGHT
TZOFFSETFROM:-0500
TZOFFSETTO:-0400
TZNAME:EDT
DTSTART:20150308T070000
END:DAYLIGHT
BEGIN:STANDARD
TZOFFSETFROM:-0400
TZOFFSETTO:-0500
TZNAME:EST
DTSTART:20151101T060000
END:STANDARD
END:VTIMEZONE
BEGIN:VEVENT
DTSTART;VALUE=DATE:20140704
DTEND;VALUE=DATE:20140705
DTSTAMP:20260421T140103
CREATED:20140626T033829Z
LAST-MODIFIED:20140626T034443Z
UID:2148-1404432000-1404518399@playpittsburgh.com
SUMMARY:4th of July @ Nemacolin Resort
DESCRIPTION:Join Nemacolin for festivities all day long on 4th of July! Parade beings at 5pm through Chateau to Sundial Lodge. Watch as the parade travels through the resort! Kidz Carnival from 5:30 pm – 7:30 pm. Includes Carnival Games\, Bounce House\, Face Painting\, Spin Art\, Sno Cones & more! Fireworks and live music at 9:30pm.
URL:https://playpittsburgh.com/event/4th-of-july-nemacolin-resort/
LOCATION:Nemacolin Resort\, 1001 Lafayette Dr\, Farmington\, PA\, 15437\, United States
GEO:39.8063305;-79.5516741
X-APPLE-STRUCTURED-LOCATION;VALUE=URI;X-ADDRESS=Nemacolin Resort 1001 Lafayette Dr Farmington PA 15437 United States;X-APPLE-RADIUS=500;X-TITLE=1001 Lafayette Dr:geo:-79.5516741,39.8063305
END:VEVENT
END:VCALENDAR