BEGIN:VCALENDAR
VERSION:2.0
PRODID:-//Play Pittsburgh - ECPv6.15.20//NONSGML v1.0//EN
CALSCALE:GREGORIAN
METHOD:PUBLISH
X-ORIGINAL-URL:https://playpittsburgh.com
X-WR-CALDESC:Events for Play Pittsburgh
REFRESH-INTERVAL;VALUE=DURATION:PT1H
X-Robots-Tag:noindex
X-PUBLISHED-TTL:PT1H
BEGIN:VTIMEZONE
TZID:America/New_York
BEGIN:DAYLIGHT
TZOFFSETFROM:-0500
TZOFFSETTO:-0400
TZNAME:EDT
DTSTART:20140309T070000
END:DAYLIGHT
BEGIN:STANDARD
TZOFFSETFROM:-0400
TZOFFSETTO:-0500
TZNAME:EST
DTSTART:20141102T060000
END:STANDARD
BEGIN:DAYLIGHT
TZOFFSETFROM:-0500
TZOFFSETTO:-0400
TZNAME:EDT
DTSTART:20150308T070000
END:DAYLIGHT
BEGIN:STANDARD
TZOFFSETFROM:-0400
TZOFFSETTO:-0500
TZNAME:EST
DTSTART:20151101T060000
END:STANDARD
BEGIN:DAYLIGHT
TZOFFSETFROM:-0500
TZOFFSETTO:-0400
TZNAME:EDT
DTSTART:20160313T070000
END:DAYLIGHT
BEGIN:STANDARD
TZOFFSETFROM:-0400
TZOFFSETTO:-0500
TZNAME:EST
DTSTART:20161106T060000
END:STANDARD
END:VTIMEZONE
BEGIN:VEVENT
DTSTART;TZID=America/New_York:20150327T190000
DTEND;TZID=America/New_York:20150327T200000
DTSTAMP:20260422T100952
CREATED:20150324T193559Z
LAST-MODIFIED:20150324T193559Z
UID:5541-1427482800-1427486400@playpittsburgh.com
SUMMARY:Murrysville Flashlight Egg Hunt
DESCRIPTION:This year’s Spring Egg Hunt will be a Flashlight Egg Hunt and a special Doggie Egg Hunt\, too\, Friday March 27 at Murrysville Community Park at 7:00 p.m. \nFido and Rover will hunt first (on a leash and current on all shots) to find dog-treat filled eggs\, then our youngest kiddos will find their eggs\, followed by our most experienced\, oldest egg-hunters; all with the challenge of using flashlights to help find the eggs! \nAfter the hunt\, kids and dogs alike will exchange their eggs for a bag of goodies (and prizes for those who find the special eggs.) Bring a basket or bag for each child (and dog!) Refreshments will be available and free photos with the Easter Bunny and Yellow Chick. \nEnjoy an evening in the park\, celebrate man’s best friend and celebrate spring; feel free to wear some glow-gear\, too! \nThis free event is open to the public and no registration is required. Bring a basket\, a flashlight and don’t forget a camera. Sponsored by Standard Bank\, Moe’s Southwest Grill\, 380 Auction\, Walker’s Pet Hotail\, Drs. Abraham and Gill and Dunkin Donuts. Please call the Recreation Department at 724-327-2100 x115 for more information
URL:https://playpittsburgh.com/event/murrysville-flashlight-egg-hunt/
LOCATION:Murrysville Community Park\, 4056 Wiestertown Road\, Export \, PA\, 15632\, United States
GEO:40.4535736;-79.6224591
X-APPLE-STRUCTURED-LOCATION;VALUE=URI;X-ADDRESS=Murrysville Community Park 4056 Wiestertown Road Export  PA 15632 United States;X-APPLE-RADIUS=500;X-TITLE=4056 Wiestertown Road:geo:-79.6224591,40.4535736
END:VEVENT
END:VCALENDAR