BEGIN:VCALENDAR
VERSION:2.0
PRODID:-//Play Pittsburgh - ECPv6.15.20//NONSGML v1.0//EN
CALSCALE:GREGORIAN
METHOD:PUBLISH
X-WR-CALNAME:Play Pittsburgh
X-ORIGINAL-URL:https://playpittsburgh.com
X-WR-CALDESC:Events for Play Pittsburgh
REFRESH-INTERVAL;VALUE=DURATION:PT1H
X-Robots-Tag:noindex
X-PUBLISHED-TTL:PT1H
BEGIN:VTIMEZONE
TZID:America/New_York
BEGIN:DAYLIGHT
TZOFFSETFROM:-0500
TZOFFSETTO:-0400
TZNAME:EDT
DTSTART:20130310T070000
END:DAYLIGHT
BEGIN:STANDARD
TZOFFSETFROM:-0400
TZOFFSETTO:-0500
TZNAME:EST
DTSTART:20131103T060000
END:STANDARD
BEGIN:DAYLIGHT
TZOFFSETFROM:-0500
TZOFFSETTO:-0400
TZNAME:EDT
DTSTART:20140309T070000
END:DAYLIGHT
BEGIN:STANDARD
TZOFFSETFROM:-0400
TZOFFSETTO:-0500
TZNAME:EST
DTSTART:20141102T060000
END:STANDARD
BEGIN:DAYLIGHT
TZOFFSETFROM:-0500
TZOFFSETTO:-0400
TZNAME:EDT
DTSTART:20150308T070000
END:DAYLIGHT
BEGIN:STANDARD
TZOFFSETFROM:-0400
TZOFFSETTO:-0500
TZNAME:EST
DTSTART:20151101T060000
END:STANDARD
END:VTIMEZONE
BEGIN:VEVENT
DTSTART;TZID=America/New_York:20141025T150000
DTEND;TZID=America/New_York:20141025T180000
DTSTAMP:20260422T124130
CREATED:20140929T225003Z
LAST-MODIFIED:20140929T225003Z
UID:3901-1414249200-1414260000@playpittsburgh.com
SUMMARY:Trunk-or-Treat at Mt. Nebo Pointe
DESCRIPTION:What is Trunk or Treat?  It’s a spooky good time for the whole family at Mt. Nebo Pointe! \nBring your kids\, park your car at Mt. Nebo Pointe\, decorate your trunk Halloween-style\, and stroll from trunk to trunk collecting candy and prizes– it’s Trunk or Treat! It’s safe\, different and fun! And you can win prizes for your decorated trunk! \nCotton candy\, video games\, live DJ\, craft tent\, petting zoo\, food\, cider\, coffee and more!
URL:https://playpittsburgh.com/event/trunk-or-treat-at-mt-nebo-pointe/
LOCATION:Mt. Nebo Pionte\, 250 Mt Nebo Pointe Dr\, Pittsburgh\, 15237
CATEGORIES:Outdoor
GEO:40.5341683;-80.0679857
X-APPLE-STRUCTURED-LOCATION;VALUE=URI;X-ADDRESS=Mt. Nebo Pionte 250 Mt Nebo Pointe Dr Pittsburgh 15237;X-APPLE-RADIUS=500;X-TITLE=250 Mt Nebo Pointe Dr:geo:-80.0679857,40.5341683
END:VEVENT
END:VCALENDAR