BEGIN:VCALENDAR
VERSION:2.0
PRODID:-//Play Pittsburgh - ECPv6.15.20//NONSGML v1.0//EN
CALSCALE:GREGORIAN
METHOD:PUBLISH
X-WR-CALNAME:Play Pittsburgh
X-ORIGINAL-URL:https://playpittsburgh.com
X-WR-CALDESC:Events for Play Pittsburgh
REFRESH-INTERVAL;VALUE=DURATION:PT1H
X-Robots-Tag:noindex
X-PUBLISHED-TTL:PT1H
BEGIN:VTIMEZONE
TZID:America/New_York
BEGIN:DAYLIGHT
TZOFFSETFROM:-0500
TZOFFSETTO:-0400
TZNAME:EDT
DTSTART:20130310T070000
END:DAYLIGHT
BEGIN:STANDARD
TZOFFSETFROM:-0400
TZOFFSETTO:-0500
TZNAME:EST
DTSTART:20131103T060000
END:STANDARD
BEGIN:DAYLIGHT
TZOFFSETFROM:-0500
TZOFFSETTO:-0400
TZNAME:EDT
DTSTART:20140309T070000
END:DAYLIGHT
BEGIN:STANDARD
TZOFFSETFROM:-0400
TZOFFSETTO:-0500
TZNAME:EST
DTSTART:20141102T060000
END:STANDARD
BEGIN:DAYLIGHT
TZOFFSETFROM:-0500
TZOFFSETTO:-0400
TZNAME:EDT
DTSTART:20150308T070000
END:DAYLIGHT
BEGIN:STANDARD
TZOFFSETFROM:-0400
TZOFFSETTO:-0500
TZNAME:EST
DTSTART:20151101T060000
END:STANDARD
END:VTIMEZONE
BEGIN:VEVENT
DTSTART;TZID=America/New_York:20140709T180000
DTEND;TZID=America/New_York:20140709T200000
DTSTAMP:20260422T094114
CREATED:20140625T034918Z
LAST-MODIFIED:20140625T034918Z
UID:2050-1404928800-1404936000@playpittsburgh.com
SUMMARY:Photography for Kids
DESCRIPTION:Join Nick Vargas from East End Studios for a two-part photographic adventure for kids entering grades 4-6. In part 1\, kids will learn about their cameras\, as well as different compositional concepts.  In part 2\, they return review their printed photos and use them to create imaginative artwork. Don’t miss out on the fun! \nPre-registration required. Must be able to attend both sessions in order to register. \nParticipants must provide their own digital cameras.
URL:https://playpittsburgh.com/event/photography-for-kids-2/
LOCATION:Mount Lebanon Library\, 16 Castle Shannon Blvd\, Pittsburgh\, PA\, 15228\, United States
GEO:40.377009;-80.045264
X-APPLE-STRUCTURED-LOCATION;VALUE=URI;X-ADDRESS=Mount Lebanon Library 16 Castle Shannon Blvd Pittsburgh PA 15228 United States;X-APPLE-RADIUS=500;X-TITLE=16 Castle Shannon Blvd:geo:-80.045264,40.377009
END:VEVENT
BEGIN:VEVENT
DTSTART;TZID=America/New_York:20140706T133000
DTEND;TZID=America/New_York:20140706T150000
DTSTAMP:20260422T094114
CREATED:20140625T035812Z
LAST-MODIFIED:20140703T174155Z
UID:2051-1404653400-1404658800@playpittsburgh.com
SUMMARY:Touch-a-Truck Event
DESCRIPTION:Visit the Mt. Lebanon parking lot to see different kinds of trucks up close! For truck lovers of all ages. There will be tons of trucks\, fire engines\, motorcycles\, and other types of vehicles for children to climb on.
URL:https://playpittsburgh.com/event/touch-a-truck-event/
LOCATION:Mount Lebanon Library\, 16 Castle Shannon Blvd\, Pittsburgh\, PA\, 15228\, United States
GEO:40.377009;-80.045264
X-APPLE-STRUCTURED-LOCATION;VALUE=URI;X-ADDRESS=Mount Lebanon Library 16 Castle Shannon Blvd Pittsburgh PA 15228 United States;X-APPLE-RADIUS=500;X-TITLE=16 Castle Shannon Blvd:geo:-80.045264,40.377009
END:VEVENT
BEGIN:VEVENT
DTSTART;TZID=America/New_York:20140702T180000
DTEND;TZID=America/New_York:20140702T200000
DTSTAMP:20260422T094114
CREATED:20140625T034737Z
LAST-MODIFIED:20140625T034737Z
UID:2048-1404324000-1404331200@playpittsburgh.com
SUMMARY:Photography for Kids
DESCRIPTION:Join Nick Vargas from East End Studios for a two-part photographic adventure for kids entering grades 4-6. In part 1\, kids will learn about their cameras\, as well as different compositional concepts.  In part 2\, they return review their printed photos and use them to create imaginative artwork. Don’t miss out on the fun! \nPre-registration required. Must be able to attend both sessions in order to register. \nParticipants must provide their own digital cameras.
URL:https://playpittsburgh.com/event/photography-for-kids/
LOCATION:Mount Lebanon Library\, 16 Castle Shannon Blvd\, Pittsburgh\, PA\, 15228\, United States
GEO:40.377009;-80.045264
X-APPLE-STRUCTURED-LOCATION;VALUE=URI;X-ADDRESS=Mount Lebanon Library 16 Castle Shannon Blvd Pittsburgh PA 15228 United States;X-APPLE-RADIUS=500;X-TITLE=16 Castle Shannon Blvd:geo:-80.045264,40.377009
END:VEVENT
END:VCALENDAR