BEGIN:VCALENDAR
VERSION:2.0
PRODID:-//Play Pittsburgh - ECPv6.15.20//NONSGML v1.0//EN
CALSCALE:GREGORIAN
METHOD:PUBLISH
X-ORIGINAL-URL:https://playpittsburgh.com
X-WR-CALDESC:Events for Play Pittsburgh
REFRESH-INTERVAL;VALUE=DURATION:PT1H
X-Robots-Tag:noindex
X-PUBLISHED-TTL:PT1H
BEGIN:VTIMEZONE
TZID:America/New_York
BEGIN:DAYLIGHT
TZOFFSETFROM:-0500
TZOFFSETTO:-0400
TZNAME:EDT
DTSTART:20130310T070000
END:DAYLIGHT
BEGIN:STANDARD
TZOFFSETFROM:-0400
TZOFFSETTO:-0500
TZNAME:EST
DTSTART:20131103T060000
END:STANDARD
BEGIN:DAYLIGHT
TZOFFSETFROM:-0500
TZOFFSETTO:-0400
TZNAME:EDT
DTSTART:20140309T070000
END:DAYLIGHT
BEGIN:STANDARD
TZOFFSETFROM:-0400
TZOFFSETTO:-0500
TZNAME:EST
DTSTART:20141102T060000
END:STANDARD
BEGIN:DAYLIGHT
TZOFFSETFROM:-0500
TZOFFSETTO:-0400
TZNAME:EDT
DTSTART:20150308T070000
END:DAYLIGHT
BEGIN:STANDARD
TZOFFSETFROM:-0400
TZOFFSETTO:-0500
TZNAME:EST
DTSTART:20151101T060000
END:STANDARD
END:VTIMEZONE
BEGIN:VEVENT
DTSTART;TZID=America/New_York:20141231T110000
DTEND;TZID=America/New_York:20141231T120000
DTSTAMP:20260422T075943
CREATED:20141205T081224Z
LAST-MODIFIED:20141205T081224Z
UID:5214-1420023600-1420027200@playpittsburgh.com
SUMMARY:Happy Noon Year! at Mount Lebanon Library
DESCRIPTION:New Year’s celebration for the younger crowd– at noon instead of midnight! Share stories\, songs\, & a craft\, and toast the new year with some bubbly and treats! For families of all ages.
URL:https://playpittsburgh.com/event/happy-noon-year-at-mount-lebanon-library/
LOCATION:Mount Lebanon Library\, 16 Castle Shannon Blvd\, Pittsburgh\, PA\, 15228\, United States
GEO:40.377009;-80.045264
X-APPLE-STRUCTURED-LOCATION;VALUE=URI;X-ADDRESS=Mount Lebanon Library 16 Castle Shannon Blvd Pittsburgh PA 15228 United States;X-APPLE-RADIUS=500;X-TITLE=16 Castle Shannon Blvd:geo:-80.045264,40.377009
END:VEVENT
BEGIN:VEVENT
DTSTART;TZID=America/New_York:20141206T100000
DTEND;TZID=America/New_York:20141206T110000
DTSTAMP:20260422T075943
CREATED:20141204T014427Z
LAST-MODIFIED:20141204T014427Z
UID:5086-1417860000-1417863600@playpittsburgh.com
SUMMARY:Holiday for the Birds! at Mt. Lebanon Library
DESCRIPTION:Kids ages 3-6 are invited to “Holiday for the Birds” this Saturday\, Dec 6 @10am @ the library. Register 412-341-7307 or chrisgphillips@verizon.net. The kids will make a biodegradable bird feeder\, share a story and learn about local birds and wild animals with naturalist Verna McGinley.
URL:https://playpittsburgh.com/event/holiday-for-the-birds-at-mt-lebanon-library/
LOCATION:Mount Lebanon Library\, 16 Castle Shannon Blvd\, Pittsburgh\, PA\, 15228\, United States
GEO:40.377009;-80.045264
X-APPLE-STRUCTURED-LOCATION;VALUE=URI;X-ADDRESS=Mount Lebanon Library 16 Castle Shannon Blvd Pittsburgh PA 15228 United States;X-APPLE-RADIUS=500;X-TITLE=16 Castle Shannon Blvd:geo:-80.045264,40.377009
END:VEVENT
BEGIN:VEVENT
DTSTART;TZID=America/New_York:20141104T160000
DTEND;TZID=America/New_York:20141104T170000
DTSTAMP:20260422T075943
CREATED:20141030T214119Z
LAST-MODIFIED:20141030T214119Z
UID:6870-1415116800-1415120400@playpittsburgh.com
SUMMARY:Tuesday Crafternoons at Mt. Lebanon Library
DESCRIPTION:A different fun craft each Tuesday afternoon at 4pm for children ages 4-8.
URL:https://playpittsburgh.com/event/tuesday-crafternoons-at-mt-lebanon-library/2014-11-04/
LOCATION:Mount Lebanon Library\, 16 Castle Shannon Blvd\, Pittsburgh\, PA\, 15228\, United States
ATTACH;FMTTYPE=:
GEO:40.377009;-80.045264
X-APPLE-STRUCTURED-LOCATION;VALUE=URI;X-ADDRESS=Mount Lebanon Library 16 Castle Shannon Blvd Pittsburgh PA 15228 United States;X-APPLE-RADIUS=500;X-TITLE=16 Castle Shannon Blvd:geo:-80.045264,40.377009
END:VEVENT
BEGIN:VEVENT
DTSTART;TZID=America/New_York:20140827T160000
DTEND;TZID=America/New_York:20140827T170000
DTSTAMP:20260422T075943
CREATED:20140729T210012Z
LAST-MODIFIED:20140729T210012Z
UID:2900-1409155200-1409158800@playpittsburgh.com
SUMMARY:Lego Club @ Mt. Lebanon Library
DESCRIPTION:Have fun building things with Legos!\nKids must pre-register. For kids ages 7 – 12. \nContact: Children’s Library 412.531.1912 childrenslibrary@einetwork.net
URL:https://playpittsburgh.com/event/lego-club-mt-lebanon-library/
LOCATION:Mount Lebanon Library\, 16 Castle Shannon Blvd\, Pittsburgh\, PA\, 15228\, United States
CATEGORIES:Indoor Play
GEO:40.377009;-80.045264
X-APPLE-STRUCTURED-LOCATION;VALUE=URI;X-ADDRESS=Mount Lebanon Library 16 Castle Shannon Blvd Pittsburgh PA 15228 United States;X-APPLE-RADIUS=500;X-TITLE=16 Castle Shannon Blvd:geo:-80.045264,40.377009
END:VEVENT
BEGIN:VEVENT
DTSTART;TZID=America/New_York:20140816T133000
DTEND;TZID=America/New_York:20140816T150000
DTSTAMP:20260422T075943
CREATED:20140729T205742Z
LAST-MODIFIED:20140729T205742Z
UID:2899-1408195800-1408201200@playpittsburgh.com
SUMMARY:Star Wars Day @ Mt. Lebanon Library
DESCRIPTION:Join us for our third annual Star Wars Day on Saturday\, August 16th from 1:00-3:30PM. For children and their families. This is a free program\, no registration required. \nEvent Schedule: \n\n1:00 – 2:00 PM: Build your own lightsaber and other themed crafts in Meeting Room A and the Children’s Library. Enjoy refreshments in Admiral Ackbar’s Snackbar in Meeting Room B.\n2:00 – 3:00 PM: Join the costumed Star Wars villains of the 501st Legion’s Garrison Carida for a trivia contest with prizes! In Meeting Room A.\n3:00 – 3:30PM: Photo opportunities with Star Wars villains.\n\n 
URL:https://playpittsburgh.com/event/star-wars-day-mt-lebanon-library/
LOCATION:Mount Lebanon Library\, 16 Castle Shannon Blvd\, Pittsburgh\, PA\, 15228\, United States
CATEGORIES:Free,Indoor Play
GEO:40.377009;-80.045264
X-APPLE-STRUCTURED-LOCATION;VALUE=URI;X-ADDRESS=Mount Lebanon Library 16 Castle Shannon Blvd Pittsburgh PA 15228 United States;X-APPLE-RADIUS=500;X-TITLE=16 Castle Shannon Blvd:geo:-80.045264,40.377009
END:VEVENT
BEGIN:VEVENT
DTSTART;TZID=America/New_York:20140807T190000
DTEND;TZID=America/New_York:20140807T200000
DTSTAMP:20260422T075943
CREATED:20140729T204832Z
LAST-MODIFIED:20140729T204832Z
UID:2892-1407438000-1407441600@playpittsburgh.com
SUMMARY:14th Annual Concerts in the Courtyard
DESCRIPTION:Join us for our popular series of Concerts in the Courtyard every Thursday evening in August. No reservations or tickets required! \nSave these dates to enjoy some al fresco entertainment brought to you by Mt. Lebanon Public Library! \nAug 7 — The Boilermaker Jazz Band swinging renditions of jazz classics and rarities through superb instrumentals and heartfelt vocals\nAug 14 — The Tumblers hand-crafted Rock and Roll — songs you’ve never heard before\, but you’ve known all your life\nAug 21 — David Manchester a unique and gorgeous twist on modern American alt-folk with mellow song stylings\nAug 28 — Mt. Lebanon High School String Quartet light classics and music from movies\, Broadway\, & more \nContact:   Mt. Lebanon Public Library   412-531-1912   events@mtlebanonlibrary.org
URL:https://playpittsburgh.com/event/14th-annual-concerts-in-the-courtyard/2014-08-07/
LOCATION:Mount Lebanon Library\, 16 Castle Shannon Blvd\, Pittsburgh\, PA\, 15228\, United States
CATEGORIES:Free,Outdoor,Performing Arts
GEO:40.377009;-80.045264
X-APPLE-STRUCTURED-LOCATION;VALUE=URI;X-ADDRESS=Mount Lebanon Library 16 Castle Shannon Blvd Pittsburgh PA 15228 United States;X-APPLE-RADIUS=500;X-TITLE=16 Castle Shannon Blvd:geo:-80.045264,40.377009
END:VEVENT
BEGIN:VEVENT
DTSTART;TZID=America/New_York:20140807T103000
DTEND;TZID=America/New_York:20140807T113000
DTSTAMP:20260422T075943
CREATED:20140729T204302Z
LAST-MODIFIED:20140729T210111Z
UID:2891-1407407400-1407411000@playpittsburgh.com
SUMMARY:Fun with Nature @ Mt. Lebanon Library
DESCRIPTION:Join naturalist Verna McGinley for stories about our backyard friends. Some storytimes include a visit with a live animal too! For children ages 3 – 6 & their families.\nContact: Children’s Library   412.531.1912   childrenslibrary@einetwork.net
URL:https://playpittsburgh.com/event/fun-with-nature-mt-lebanon-library/2014-08-07/
LOCATION:Mount Lebanon Library\, 16 Castle Shannon Blvd\, Pittsburgh\, PA\, 15228\, United States
GEO:40.377009;-80.045264
X-APPLE-STRUCTURED-LOCATION;VALUE=URI;X-ADDRESS=Mount Lebanon Library 16 Castle Shannon Blvd Pittsburgh PA 15228 United States;X-APPLE-RADIUS=500;X-TITLE=16 Castle Shannon Blvd:geo:-80.045264,40.377009
END:VEVENT
BEGIN:VEVENT
DTSTART;TZID=America/New_York:20140804T183000
DTEND;TZID=America/New_York:20140804T193000
DTSTAMP:20260422T075943
CREATED:20140729T202459Z
LAST-MODIFIED:20140729T202459Z
UID:6463-1407177000-1407180600@playpittsburgh.com
SUMMARY:Madcap Puppet Show: Twain's Twisted Tales
DESCRIPTION:Don’t miss this awesome Madcap Puppet performance of “Twain’s Twisted Tales.” Giant puppets\, Mark Twain’s most entertaining and funny stories\, and the participation of audience members will make this a night to remember. \nFor families of all ages. Weather permitting\, this performance will be outdoors on the Southminster House lawn.
URL:https://playpittsburgh.com/event/madcap-puppet-show-twains-twisted-tales-2/
LOCATION:Mount Lebanon Library\, 16 Castle Shannon Blvd\, Pittsburgh\, PA\, 15228\, United States
CATEGORIES:Outdoor,Performing Arts
GEO:40.377009;-80.045264
X-APPLE-STRUCTURED-LOCATION;VALUE=URI;X-ADDRESS=Mount Lebanon Library 16 Castle Shannon Blvd Pittsburgh PA 15228 United States;X-APPLE-RADIUS=500;X-TITLE=16 Castle Shannon Blvd:geo:-80.045264,40.377009
END:VEVENT
BEGIN:VEVENT
DTSTART;TZID=America/New_York:20140804T183000
DTEND;TZID=America/New_York:20140804T193000
DTSTAMP:20260422T075943
CREATED:20140729T202459Z
LAST-MODIFIED:20140729T202459Z
UID:2889-1407177000-1407180600@playpittsburgh.com
SUMMARY:Madcap Puppet Show: Twain's Twisted Tales
DESCRIPTION:Don’t miss this awesome Madcap Puppet performance of “Twain’s Twisted Tales.” Giant puppets\, Mark Twain’s most entertaining and funny stories\, and the participation of audience members will make this a night to remember. \nFor families of all ages. Weather permitting\, this performance will be outdoors on the Southminster House lawn.
URL:https://playpittsburgh.com/event/madcap-puppet-show-twains-twisted-tales/
LOCATION:Mount Lebanon Library\, 16 Castle Shannon Blvd\, Pittsburgh\, PA\, 15228\, United States
CATEGORIES:Outdoor,Performing Arts
GEO:40.377009;-80.045264
X-APPLE-STRUCTURED-LOCATION;VALUE=URI;X-ADDRESS=Mount Lebanon Library 16 Castle Shannon Blvd Pittsburgh PA 15228 United States;X-APPLE-RADIUS=500;X-TITLE=16 Castle Shannon Blvd:geo:-80.045264,40.377009
END:VEVENT
BEGIN:VEVENT
DTSTART;TZID=America/New_York:20140802T163000
DTEND;TZID=America/New_York:20140802T170000
DTSTAMP:20260422T075943
CREATED:20140729T203032Z
LAST-MODIFIED:20140729T203032Z
UID:2890-1406997000-1406998800@playpittsburgh.com
SUMMARY:Family Fort Night! @ Mt. Lebanon Library
DESCRIPTION:Bring a blanket\, pillows\, and flashlight and build a fort in the library after everyone else has gone home. Next\, get comfortable inside and read some books together! Storytime and s’mores too! We’ll end the night with a game of Hide and Seek! Program begins promptly at 4:30.\nFor children ages 3 – 8 and their families. Families must pre-register. \nContact: Children’s Library:  412.531.1912 | childrenslibrary@einetwork.net
URL:https://playpittsburgh.com/event/family-fort-night-mt-lebanon-library/
LOCATION:Mount Lebanon Library\, 16 Castle Shannon Blvd\, Pittsburgh\, PA\, 15228\, United States
CATEGORIES:Indoor Play
GEO:40.377009;-80.045264
X-APPLE-STRUCTURED-LOCATION;VALUE=URI;X-ADDRESS=Mount Lebanon Library 16 Castle Shannon Blvd Pittsburgh PA 15228 United States;X-APPLE-RADIUS=500;X-TITLE=16 Castle Shannon Blvd:geo:-80.045264,40.377009
END:VEVENT
BEGIN:VEVENT
DTSTART;TZID=America/New_York:20140709T180000
DTEND;TZID=America/New_York:20140709T200000
DTSTAMP:20260422T075943
CREATED:20140625T034918Z
LAST-MODIFIED:20140625T034918Z
UID:2050-1404928800-1404936000@playpittsburgh.com
SUMMARY:Photography for Kids
DESCRIPTION:Join Nick Vargas from East End Studios for a two-part photographic adventure for kids entering grades 4-6. In part 1\, kids will learn about their cameras\, as well as different compositional concepts.  In part 2\, they return review their printed photos and use them to create imaginative artwork. Don’t miss out on the fun! \nPre-registration required. Must be able to attend both sessions in order to register. \nParticipants must provide their own digital cameras.
URL:https://playpittsburgh.com/event/photography-for-kids-2/
LOCATION:Mount Lebanon Library\, 16 Castle Shannon Blvd\, Pittsburgh\, PA\, 15228\, United States
GEO:40.377009;-80.045264
X-APPLE-STRUCTURED-LOCATION;VALUE=URI;X-ADDRESS=Mount Lebanon Library 16 Castle Shannon Blvd Pittsburgh PA 15228 United States;X-APPLE-RADIUS=500;X-TITLE=16 Castle Shannon Blvd:geo:-80.045264,40.377009
END:VEVENT
BEGIN:VEVENT
DTSTART;TZID=America/New_York:20140706T133000
DTEND;TZID=America/New_York:20140706T150000
DTSTAMP:20260422T075943
CREATED:20140625T035812Z
LAST-MODIFIED:20140703T174155Z
UID:2051-1404653400-1404658800@playpittsburgh.com
SUMMARY:Touch-a-Truck Event
DESCRIPTION:Visit the Mt. Lebanon parking lot to see different kinds of trucks up close! For truck lovers of all ages. There will be tons of trucks\, fire engines\, motorcycles\, and other types of vehicles for children to climb on.
URL:https://playpittsburgh.com/event/touch-a-truck-event/
LOCATION:Mount Lebanon Library\, 16 Castle Shannon Blvd\, Pittsburgh\, PA\, 15228\, United States
GEO:40.377009;-80.045264
X-APPLE-STRUCTURED-LOCATION;VALUE=URI;X-ADDRESS=Mount Lebanon Library 16 Castle Shannon Blvd Pittsburgh PA 15228 United States;X-APPLE-RADIUS=500;X-TITLE=16 Castle Shannon Blvd:geo:-80.045264,40.377009
END:VEVENT
BEGIN:VEVENT
DTSTART;TZID=America/New_York:20140702T180000
DTEND;TZID=America/New_York:20140702T200000
DTSTAMP:20260422T075943
CREATED:20140625T034737Z
LAST-MODIFIED:20140625T034737Z
UID:2048-1404324000-1404331200@playpittsburgh.com
SUMMARY:Photography for Kids
DESCRIPTION:Join Nick Vargas from East End Studios for a two-part photographic adventure for kids entering grades 4-6. In part 1\, kids will learn about their cameras\, as well as different compositional concepts.  In part 2\, they return review their printed photos and use them to create imaginative artwork. Don’t miss out on the fun! \nPre-registration required. Must be able to attend both sessions in order to register. \nParticipants must provide their own digital cameras.
URL:https://playpittsburgh.com/event/photography-for-kids/
LOCATION:Mount Lebanon Library\, 16 Castle Shannon Blvd\, Pittsburgh\, PA\, 15228\, United States
GEO:40.377009;-80.045264
X-APPLE-STRUCTURED-LOCATION;VALUE=URI;X-ADDRESS=Mount Lebanon Library 16 Castle Shannon Blvd Pittsburgh PA 15228 United States;X-APPLE-RADIUS=500;X-TITLE=16 Castle Shannon Blvd:geo:-80.045264,40.377009
END:VEVENT
END:VCALENDAR