BEGIN:VCALENDAR
VERSION:2.0
PRODID:-//Play Pittsburgh - ECPv6.15.20//NONSGML v1.0//EN
CALSCALE:GREGORIAN
METHOD:PUBLISH
X-ORIGINAL-URL:https://playpittsburgh.com
X-WR-CALDESC:Events for Play Pittsburgh
REFRESH-INTERVAL;VALUE=DURATION:PT1H
X-Robots-Tag:noindex
X-PUBLISHED-TTL:PT1H
BEGIN:VTIMEZONE
TZID:America/New_York
BEGIN:DAYLIGHT
TZOFFSETFROM:-0500
TZOFFSETTO:-0400
TZNAME:EDT
DTSTART:20130310T070000
END:DAYLIGHT
BEGIN:STANDARD
TZOFFSETFROM:-0400
TZOFFSETTO:-0500
TZNAME:EST
DTSTART:20131103T060000
END:STANDARD
BEGIN:DAYLIGHT
TZOFFSETFROM:-0500
TZOFFSETTO:-0400
TZNAME:EDT
DTSTART:20140309T070000
END:DAYLIGHT
BEGIN:STANDARD
TZOFFSETFROM:-0400
TZOFFSETTO:-0500
TZNAME:EST
DTSTART:20141102T060000
END:STANDARD
BEGIN:DAYLIGHT
TZOFFSETFROM:-0500
TZOFFSETTO:-0400
TZNAME:EDT
DTSTART:20150308T070000
END:DAYLIGHT
BEGIN:STANDARD
TZOFFSETFROM:-0400
TZOFFSETTO:-0500
TZNAME:EST
DTSTART:20151101T060000
END:STANDARD
END:VTIMEZONE
BEGIN:VEVENT
DTSTART;TZID=America/New_York:20140526T100000
DTEND;TZID=America/New_York:20140526T180000
DTSTAMP:20260422T181444
CREATED:20140523T012951Z
LAST-MODIFIED:20140523T012951Z
UID:1558-1401098400-1401127200@playpittsburgh.com
SUMMARY:South Hills Memorial Day Parade
DESCRIPTION:The parade begins at 10 a.m. in Brookline\, proceeds along Brookline Boulevard\, Pioneer Avenue\, West Liberty Avenue\, Washington Road and ends with services at Mount Lebanon Cemetery. \nMemorial Day service honoring all veterans next Monday\, May 26\, at 6 pm at the Veterans Memorial in Mt. Lebanon Park. This year\, the names of Mt Lebanon service members killed in action will be read out loud. 
URL:https://playpittsburgh.com/event/south-hills-memorial-day-parade/
LOCATION:Mount Lebanon Park\, 900 Cedar Blvd\, Pittsburgh\, PA\, 15228\, United States
CATEGORIES:Festivals,Free,Outdoor
GEO:40.3742132;-80.0546587
X-APPLE-STRUCTURED-LOCATION;VALUE=URI;X-ADDRESS=Mount Lebanon Park 900 Cedar Blvd Pittsburgh PA 15228 United States;X-APPLE-RADIUS=500;X-TITLE=900 Cedar Blvd:geo:-80.0546587,40.3742132
END:VEVENT
END:VCALENDAR