BEGIN:VCALENDAR
VERSION:2.0
PRODID:-//Play Pittsburgh - ECPv6.15.20//NONSGML v1.0//EN
CALSCALE:GREGORIAN
METHOD:PUBLISH
X-ORIGINAL-URL:https://playpittsburgh.com
X-WR-CALDESC:Events for Play Pittsburgh
REFRESH-INTERVAL;VALUE=DURATION:PT1H
X-Robots-Tag:noindex
X-PUBLISHED-TTL:PT1H
BEGIN:VTIMEZONE
TZID:America/New_York
BEGIN:DAYLIGHT
TZOFFSETFROM:-0500
TZOFFSETTO:-0400
TZNAME:EDT
DTSTART:20130310T070000
END:DAYLIGHT
BEGIN:STANDARD
TZOFFSETFROM:-0400
TZOFFSETTO:-0500
TZNAME:EST
DTSTART:20131103T060000
END:STANDARD
BEGIN:DAYLIGHT
TZOFFSETFROM:-0500
TZOFFSETTO:-0400
TZNAME:EDT
DTSTART:20140309T070000
END:DAYLIGHT
BEGIN:STANDARD
TZOFFSETFROM:-0400
TZOFFSETTO:-0500
TZNAME:EST
DTSTART:20141102T060000
END:STANDARD
BEGIN:DAYLIGHT
TZOFFSETFROM:-0500
TZOFFSETTO:-0400
TZNAME:EDT
DTSTART:20150308T070000
END:DAYLIGHT
BEGIN:STANDARD
TZOFFSETFROM:-0400
TZOFFSETTO:-0500
TZNAME:EST
DTSTART:20151101T060000
END:STANDARD
END:VTIMEZONE
BEGIN:VEVENT
DTSTART;VALUE=DATE:20140802
DTEND;VALUE=DATE:20140804
DTSTAMP:20260422T162500
CREATED:20140729T043310Z
LAST-MODIFIED:20140729T043310Z
UID:2887-1406937600-1407110399@playpittsburgh.com
SUMMARY:2014 Regatta at Lake Arthur
DESCRIPTION:Live entertainment\, water\, air\, and land events\, craft and food vendors\, children’s activities\, Smokey Bear and sailboat races are just of few of the fun activities to experience at this year’s Regatta. There are even Saturday night fireworks over the lake! Music performances both afternoons. Admission and parking are FREE. \nWEEKEND TIMELINE\nWe are excited to welcome you to the 2014 Regatta at Lake Arthur\, taking place on the Moraine State Park South Shore. Our current schedule of events will continue to be updated. Please check back for the most current information! \nSaturday\, August 2 Events \n\n\n10:00 AM Welcome from the 16th Annual Regatta at Lake Arthur (Main Stage)\nSummersCool Instruction & Walk-Ins until 3:00 PM (SummersCool Tent)\nMarketplace of Vendors until Dusk\nLake Arthur Lily Pad Children’s Area\, including:\nThe Home Depot Kids Workshop\nHula Hoop Instruction\nK-LOVE Radio Family Activities & Cornhole\n$ Bob’s CHS Express Barrell Train\n$ EuroBungy Trampoline & Rock Wall\n10:30 AM Storytelling by Pittsburgh International Children’s Theater (Main Stage)\nCranberry VFD Fire Extinguisher Simulator Demos until 2:00 PM (South Shore)\n11:00 AM “Round the Buoys” Sailing Races (South Shore)\n$ Nautical Nature Cruise Mini Tours until 5:00PM (South Shore)\nYOLA with LA Finfinger (Main Stage)\n11:30 AM Catamaran Races (South Shore)\n12:00 PM I Made It! Market until 6:00 PM (Marketplace)\n12:30 PM The Rock Shop (Main Stage)\nMSC Youth Sail Camp Picnic & Awards Ceremony (Baierl Automotive Tent)\n1:30 PM SummersCool Instruction & Walk-Ins Continue until 3:00 PM (SummersCool Tent)\n2:00 PM 2014 North American Puddle Duck Championship Races (South Shore)\n2:30 PM Map & Compass Geocache Competition (Main Stage)\n3:00 PM Baierl Automotive Car Cruise until 6:00 PM (South Shore)\nResonance (Main Stage)\nStandup Paddleboard Race Prep (SummersCool Tent)\n3:30 PM Sunfish Sailing Race (South Shore)\n4:00 PM $ Standup Paddleboard Race (SummersCool Tent)\n5:00 PM Nameless in August (Main Stage)\nCapsize & Recovery Sunfish/Optimist Drills (South Shore)\n5:30 PM Standup Paddleboard Awards Presentation (SummersCool Tent)\n6:00 PM Master Connell’s ATA Taekwondo (Main Stage)\nPortersville VFD Touch a Firetruck until 10:00 PM (South Shore)\n7:00 PM NOMaD (Main Stage)\n7:30 PM $ Venture Outdoors Fireworks Paddle (South Shore)\n7:45 PM $ Nautical Nature Fireworks Dinner Cruise (McDanels Launch\, North Shore)\n8:30 PM Sirkus Dayz Fire Hula Hooping (Beach)\n9:00 PM Light Up the Night Fireworks Finale (South Shore)\n9:30 PM Conclusion\n*Schedule subject to change.\n$ Indicates fee-based events.\n\n\n Sunday\, August 3 Events \n\n\n7:45 AM MECA Race Check-In (Lakeview\, North Shore)\n9:00 AM MECA Race Start (North Shore)\nU.S. Coast Guard Auxiliary Vessel Inspection (Bear Run Boat Launch)\n10:00 AM Non-denominational Worship Service (Main Stage)\nSummersCool Instruction until 3:00 PM (SummersCool Tent)\nMarketplace of Vendors until 6:30 PM (South Shore)\nLake Arthur Lily Pad Children’s Area\, including:\nThe Home Depot Kids Workshop\n$ Bob’s CHS Express Barrell Train\n$ EuroBungy Trampoline & Rock Wall\n10:30 AM MECA Race Conclusion Estimated (Beach)\n11:00 AM YOLA with Dani Carlson\, Focused Fitness (Main Stage)\n“Bridge-to-Bridge” Sailing Race (South Shore)\n$ Nautical Nature Cruise Mini Tours until 5:00PM (South Shore)\nMECA Race Awards & Pizza Party (Awards Tent)\n11:30 AM School of Rock: Wexford (Main Stage)\nCatamaran Races (South Shore)\n12:00 PM I Made It! Market until 6:00 PM (Marketplace)\n12:30 PM Storytelling by Pittsburgh International Children’s Theater (Main Stage)\nRC Boat Demo – Moraine Model Mariners (South Shore)\n1:00 PM Rising Regina (Main Stage)\nFroggy 104.3 Live Action Broadcast (Lily Pad)\n1:30 PM SummersCool Instruction & Walk-Ins Continue until 3:00 PM (SummersCool Tent)\n2:00 PM 2014 North American Puddle Duck Championship Races (South Shore)\n2:30 PM Corned Beef & Curry Band (Main Stage)\nMap & Compass Geocache Competition (Main Stage)\n3:00 PM Baierl Automotive Car Cruise until 6:00 PM (South Shore)\n3:30 PM 2014 North American Puddle Duck Championship Awards (Awards Tent)\n4:00 PM Good Brother Earl (Main Stage)\nSunfish Sailing Race (South Shore to Watts Bay)\n5:30 PM Butler County Symphony Orchestra – NKC Trio (Main Stage)\n$ Butterfly Pickup Station Opens (Welcome Tent)\n6:00 PM Native Butterfly Release & Memorial Finale (Main Stage)\n6:30 PM Conclusion\n*Schedule subject to change.\n$ Indicates fee-based events.\n\n\nThe Regatta will stay true to its mission to be “the premiere\, all-ages\, eco-recreational event in the region” by providing entertainment opportunities specifically for our younger audience! Children’s activities will include: \n\nBob’s CHS Express barrell train rides – $3 per ride\nEuroBungy Trampoline & Rock Wall – $7 to jump\, $5 to climb or $10 for both!\nFroggy 104.3 Live Action Broadcast – featuring a birthday wheel\, coloring pages\, prizes and Mr. Froggy mascot\nKid’s craft area provided by The Home Depot – free boat building\, supplies & instruction\nK-LOVE Radio Family Activities & Cornhole\nMusic for a Lifetime:  Kindermusik by Lynda with organized “Circle Dance”\nNative Butterfly Release & Memorial Finale\nNautical Nature Cruises – $5 per ride; tours leave on the hour from 11am-5pm on both days\nPittsburgh International Children’s Theater crafts & storytelling\nPlay area/playground\nPublic beach area – bring your suit and a beach chair!\nPuddle Duck Races – come watch the 2014 North American Puddle Duck Championship Race\nSchool of Rock Drum Circle (ages 6-17)\nSirkus Dayz Hula Hoop Instruction – learn the ropes & purchase your very own hula hoop!\nAnd much more\n\n  \nMoraine State Park: 225 Pleasant Valley Road; Portersville\, PA 16051
URL:https://playpittsburgh.com/event/2014-regatta-at-lake-arthur/
LOCATION:Moraine State Park\, 225 Pleasant Valley Rd\, Portersville\, PA\, 16051\, United States
CATEGORIES:Festivals,Free,Outdoor
GEO:40.9383679;-80.0975927
X-APPLE-STRUCTURED-LOCATION;VALUE=URI;X-ADDRESS=Moraine State Park 225 Pleasant Valley Rd Portersville PA 16051 United States;X-APPLE-RADIUS=500;X-TITLE=225 Pleasant Valley Rd:geo:-80.0975927,40.9383679
END:VEVENT
BEGIN:VEVENT
DTSTART;TZID=America/New_York:20140614T110000
DTEND;TZID=America/New_York:20140614T160000
DTSTAMP:20260422T162500
CREATED:20140528T165548Z
LAST-MODIFIED:20140528T165548Z
UID:1849-1402743600-1402761600@playpittsburgh.com
SUMMARY:National Get Outdoors Day at Moraine
DESCRIPTION:Moraine State Park is proud to participate in this years National Get Outdoors Day. The mission of Get Outdoors Day is to provide opportunities for children and their families to enjoy the healthy\, active outdoors. Free activities offered include kayaking\, biking\, fishing\, disc golf\, children’s activities and more! Come to Lakeview Beach\, North Shore\, and plan to spend the day at the park. FREE admission. 
URL:https://playpittsburgh.com/event/national-get-outdoors-day-at-moraine/
LOCATION:Moraine State Park\, 225 Pleasant Valley Rd\, Portersville\, PA\, 16051\, United States
CATEGORIES:Festivals,Free,Outdoor
GEO:40.9383679;-80.0975927
X-APPLE-STRUCTURED-LOCATION;VALUE=URI;X-ADDRESS=Moraine State Park 225 Pleasant Valley Rd Portersville PA 16051 United States;X-APPLE-RADIUS=500;X-TITLE=225 Pleasant Valley Rd:geo:-80.0975927,40.9383679
END:VEVENT
END:VCALENDAR