BEGIN:VCALENDAR
VERSION:2.0
PRODID:-//Play Pittsburgh - ECPv6.15.20//NONSGML v1.0//EN
CALSCALE:GREGORIAN
METHOD:PUBLISH
X-WR-CALNAME:Play Pittsburgh
X-ORIGINAL-URL:https://playpittsburgh.com
X-WR-CALDESC:Events for Play Pittsburgh
REFRESH-INTERVAL;VALUE=DURATION:PT1H
X-Robots-Tag:noindex
X-PUBLISHED-TTL:PT1H
BEGIN:VTIMEZONE
TZID:America/New_York
BEGIN:DAYLIGHT
TZOFFSETFROM:-0500
TZOFFSETTO:-0400
TZNAME:EDT
DTSTART:20130310T070000
END:DAYLIGHT
BEGIN:STANDARD
TZOFFSETFROM:-0400
TZOFFSETTO:-0500
TZNAME:EST
DTSTART:20131103T060000
END:STANDARD
BEGIN:DAYLIGHT
TZOFFSETFROM:-0500
TZOFFSETTO:-0400
TZNAME:EDT
DTSTART:20140309T070000
END:DAYLIGHT
BEGIN:STANDARD
TZOFFSETFROM:-0400
TZOFFSETTO:-0500
TZNAME:EST
DTSTART:20141102T060000
END:STANDARD
BEGIN:DAYLIGHT
TZOFFSETFROM:-0500
TZOFFSETTO:-0400
TZNAME:EDT
DTSTART:20150308T070000
END:DAYLIGHT
BEGIN:STANDARD
TZOFFSETFROM:-0400
TZOFFSETTO:-0500
TZNAME:EST
DTSTART:20151101T060000
END:STANDARD
END:VTIMEZONE
BEGIN:VEVENT
DTSTART;TZID=America/New_York:20140704T160000
DTEND;TZID=America/New_York:20140704T220000
DTSTAMP:20260421T211920
CREATED:20140626T001824Z
LAST-MODIFIED:20140626T001824Z
UID:2125-1404489600-1404511200@playpittsburgh.com
SUMMARY:Moon Township July 4th Celebration
DESCRIPTION:Beginning at 4:00pm\, Moon Township will feature the following: \n\nSinger RaeLynn\nKid’s Activities & Food Vendors\nArena’s Performing Arts Centre\nFrank Vieria – Country Music\nStoney River Boys\nSarah Marince\nMilitary Recognition\nFireworks by Zambelli Internationale
URL:https://playpittsburgh.com/event/moon-township-july-4th-celebration/
LOCATION:Moon Park\, 1350 Ewing Rd\, Moon\, PA\, 15108\, United States
CATEGORIES:Festivals,Free,Outdoor
GEO:40.491129;-80.180305
X-APPLE-STRUCTURED-LOCATION;VALUE=URI;X-ADDRESS=Moon Park 1350 Ewing Rd Moon PA 15108 United States;X-APPLE-RADIUS=500;X-TITLE=1350 Ewing Rd:geo:-80.180305,40.491129
END:VEVENT
END:VCALENDAR