BEGIN:VCALENDAR
VERSION:2.0
PRODID:-//Play Pittsburgh - ECPv6.15.20//NONSGML v1.0//EN
CALSCALE:GREGORIAN
METHOD:PUBLISH
X-ORIGINAL-URL:https://playpittsburgh.com
X-WR-CALDESC:Events for Play Pittsburgh
REFRESH-INTERVAL;VALUE=DURATION:PT1H
X-Robots-Tag:noindex
X-PUBLISHED-TTL:PT1H
BEGIN:VTIMEZONE
TZID:America/New_York
BEGIN:DAYLIGHT
TZOFFSETFROM:-0500
TZOFFSETTO:-0400
TZNAME:EDT
DTSTART:20140309T070000
END:DAYLIGHT
BEGIN:STANDARD
TZOFFSETFROM:-0400
TZOFFSETTO:-0500
TZNAME:EST
DTSTART:20141102T060000
END:STANDARD
BEGIN:DAYLIGHT
TZOFFSETFROM:-0500
TZOFFSETTO:-0400
TZNAME:EDT
DTSTART:20150308T070000
END:DAYLIGHT
BEGIN:STANDARD
TZOFFSETFROM:-0400
TZOFFSETTO:-0500
TZNAME:EST
DTSTART:20151101T060000
END:STANDARD
BEGIN:DAYLIGHT
TZOFFSETFROM:-0500
TZOFFSETTO:-0400
TZNAME:EDT
DTSTART:20160313T070000
END:DAYLIGHT
BEGIN:STANDARD
TZOFFSETFROM:-0400
TZOFFSETTO:-0500
TZNAME:EST
DTSTART:20161106T060000
END:STANDARD
END:VTIMEZONE
BEGIN:VEVENT
DTSTART;TZID=America/New_York:20150425T193000
DTEND;TZID=America/New_York:20150425T220000
DTSTAMP:20260422T082954
CREATED:20150324T202843Z
LAST-MODIFIED:20150324T202843Z
UID:5556-1429990200-1429999200@playpittsburgh.com
SUMMARY:Star Party at Mingo State Park
DESCRIPTION:A star party is an invitation to anyone wishing to enjoy and learn more about the splendors of the sky. At a star party\, AAAP [Amateur Astronomer Association of Pittsburgh] members set up a wide variety of telescopes (basic and advanced models) and offer visitors stunning close-ups of celestial objects. Many visitors bring their own telescopes to take advantage of viewing conditions at the site. Others use the occasion simply to view the stars and planets with their own eyes. \nBefore departing for an AAAP star party\, check the sky conditions. If the sky is overcast or the forecast suggests rain\, consider postponing your visit until the next event. If there are just a few scattered clouds (with the Moon and stars visible in between)\, the star party will be “go.” \nObserving conditions at the Mingo State Park can be confirmed on star party nights by calling 724-348-6150. \nAll AAAP star parties are free to the public.
URL:https://playpittsburgh.com/event/star-party-at-mingo-state-park-2/
LOCATION:Mingo State Park\, 3111 Route 136\, Finleyville\, PA\, 15332\, United States
GEO:40.1913237;-80.0277913
X-APPLE-STRUCTURED-LOCATION;VALUE=URI;X-ADDRESS=Mingo State Park 3111 Route 136 Finleyville PA 15332 United States;X-APPLE-RADIUS=500;X-TITLE=3111 Route 136:geo:-80.0277913,40.1913237
END:VEVENT
BEGIN:VEVENT
DTSTART;TZID=America/New_York:20150424T193000
DTEND;TZID=America/New_York:20150424T220000
DTSTAMP:20260422T082954
CREATED:20150324T202117Z
LAST-MODIFIED:20150324T202117Z
UID:5554-1429903800-1429912800@playpittsburgh.com
SUMMARY:Star Party at Mingo State Park
DESCRIPTION:A star party is an invitation to anyone wishing to enjoy and learn more about the splendors of the sky. At a star party\, AAAP [Amateur Astronomer Association of Pittsburgh] members set up a wide variety of telescopes (basic and advanced models) and offer visitors stunning close-ups of celestial objects. Many visitors bring their own telescopes to take advantage of viewing conditions at the site. Others use the occasion simply to view the stars and planets with their own eyes. \nBefore departing for an AAAP star party\, check the sky conditions. If the sky is overcast or the forecast suggests rain\, consider postponing your visit until the next event. If there are just a few scattered clouds (with the Moon and stars visible in between)\, the star party will be “go.” \nObserving conditions at the Mingo State Park can be confirmed on star party nights by calling 724-348-6150. \nAll AAAP star parties are free to the public.
URL:https://playpittsburgh.com/event/star-party-at-mingo-state-park/
LOCATION:Mingo State Park\, 3111 Route 136\, Finleyville\, PA\, 15332\, United States
GEO:40.1913237;-80.0277913
X-APPLE-STRUCTURED-LOCATION;VALUE=URI;X-ADDRESS=Mingo State Park 3111 Route 136 Finleyville PA 15332 United States;X-APPLE-RADIUS=500;X-TITLE=3111 Route 136:geo:-80.0277913,40.1913237
END:VEVENT
END:VCALENDAR