BEGIN:VCALENDAR
VERSION:2.0
PRODID:-//Play Pittsburgh - ECPv6.15.20//NONSGML v1.0//EN
CALSCALE:GREGORIAN
METHOD:PUBLISH
X-ORIGINAL-URL:https://playpittsburgh.com
X-WR-CALDESC:Events for Play Pittsburgh
REFRESH-INTERVAL;VALUE=DURATION:PT1H
X-Robots-Tag:noindex
X-PUBLISHED-TTL:PT1H
BEGIN:VTIMEZONE
TZID:America/New_York
BEGIN:DAYLIGHT
TZOFFSETFROM:-0500
TZOFFSETTO:-0400
TZNAME:EDT
DTSTART:20130310T070000
END:DAYLIGHT
BEGIN:STANDARD
TZOFFSETFROM:-0400
TZOFFSETTO:-0500
TZNAME:EST
DTSTART:20131103T060000
END:STANDARD
BEGIN:DAYLIGHT
TZOFFSETFROM:-0500
TZOFFSETTO:-0400
TZNAME:EDT
DTSTART:20140309T070000
END:DAYLIGHT
BEGIN:STANDARD
TZOFFSETFROM:-0400
TZOFFSETTO:-0500
TZNAME:EST
DTSTART:20141102T060000
END:STANDARD
BEGIN:DAYLIGHT
TZOFFSETFROM:-0500
TZOFFSETTO:-0400
TZNAME:EDT
DTSTART:20150308T070000
END:DAYLIGHT
BEGIN:STANDARD
TZOFFSETFROM:-0400
TZOFFSETTO:-0500
TZNAME:EST
DTSTART:20151101T060000
END:STANDARD
BEGIN:DAYLIGHT
TZOFFSETFROM:-0500
TZOFFSETTO:-0400
TZNAME:EDT
DTSTART:20160313T070000
END:DAYLIGHT
BEGIN:STANDARD
TZOFFSETFROM:-0400
TZOFFSETTO:-0500
TZNAME:EST
DTSTART:20161106T060000
END:STANDARD
BEGIN:DAYLIGHT
TZOFFSETFROM:-0500
TZOFFSETTO:-0400
TZNAME:EDT
DTSTART:20170312T070000
END:DAYLIGHT
BEGIN:STANDARD
TZOFFSETFROM:-0400
TZOFFSETTO:-0500
TZNAME:EST
DTSTART:20171105T060000
END:STANDARD
END:VTIMEZONE
BEGIN:VEVENT
DTSTART;TZID=America/New_York:20160909T100000
DTEND;TZID=America/New_York:20160909T140000
DTSTAMP:20260421T191939
CREATED:20160729T141303Z
LAST-MODIFIED:20160729T141303Z
UID:10063-1473415200-1473429600@playpittsburgh.com
SUMMARY:Mellon Park Farmers Market
DESCRIPTION:Wide variety of farm-fresh fruits\, vegetables\, meats\, cheese and baked goods conveniently located in the city! Visit the Farmers Market every Friday morning and afternoon in Mellon Park through November 18th.
URL:https://playpittsburgh.com/event/mellon-park-farmers-market/2016-09-09/
LOCATION:Mellon Square\, 6300 Fifth Ave\, Pittsburgh\, PA\, 15232\, United States
GEO:40.4528685;-79.9207289
X-APPLE-STRUCTURED-LOCATION;VALUE=URI;X-ADDRESS=Mellon Square 6300 Fifth Ave Pittsburgh PA 15232 United States;X-APPLE-RADIUS=500;X-TITLE=6300 Fifth Ave:geo:-79.9207289,40.4528685
END:VEVENT
BEGIN:VEVENT
DTSTART;TZID=America/New_York:20160902T100000
DTEND;TZID=America/New_York:20160902T140000
DTSTAMP:20260421T191939
CREATED:20160729T141303Z
LAST-MODIFIED:20160729T141303Z
UID:10062-1472810400-1472824800@playpittsburgh.com
SUMMARY:Mellon Park Farmers Market
DESCRIPTION:Wide variety of farm-fresh fruits\, vegetables\, meats\, cheese and baked goods conveniently located in the city! Visit the Farmers Market every Friday morning and afternoon in Mellon Park through November 18th.
URL:https://playpittsburgh.com/event/mellon-park-farmers-market/2016-09-02/
LOCATION:Mellon Square\, 6300 Fifth Ave\, Pittsburgh\, PA\, 15232\, United States
GEO:40.4528685;-79.9207289
X-APPLE-STRUCTURED-LOCATION;VALUE=URI;X-ADDRESS=Mellon Square 6300 Fifth Ave Pittsburgh PA 15232 United States;X-APPLE-RADIUS=500;X-TITLE=6300 Fifth Ave:geo:-79.9207289,40.4528685
END:VEVENT
BEGIN:VEVENT
DTSTART;TZID=America/New_York:20160826T100000
DTEND;TZID=America/New_York:20160826T140000
DTSTAMP:20260421T191939
CREATED:20160729T141303Z
LAST-MODIFIED:20160729T141303Z
UID:10061-1472205600-1472220000@playpittsburgh.com
SUMMARY:Mellon Park Farmers Market
DESCRIPTION:Wide variety of farm-fresh fruits\, vegetables\, meats\, cheese and baked goods conveniently located in the city! Visit the Farmers Market every Friday morning and afternoon in Mellon Park through November 18th.
URL:https://playpittsburgh.com/event/mellon-park-farmers-market/2016-08-26/
LOCATION:Mellon Square\, 6300 Fifth Ave\, Pittsburgh\, PA\, 15232\, United States
GEO:40.4528685;-79.9207289
X-APPLE-STRUCTURED-LOCATION;VALUE=URI;X-ADDRESS=Mellon Square 6300 Fifth Ave Pittsburgh PA 15232 United States;X-APPLE-RADIUS=500;X-TITLE=6300 Fifth Ave:geo:-79.9207289,40.4528685
END:VEVENT
BEGIN:VEVENT
DTSTART;TZID=America/New_York:20160819T100000
DTEND;TZID=America/New_York:20160819T140000
DTSTAMP:20260421T191939
CREATED:20160729T141303Z
LAST-MODIFIED:20160729T141303Z
UID:10060-1471600800-1471615200@playpittsburgh.com
SUMMARY:Mellon Park Farmers Market
DESCRIPTION:Wide variety of farm-fresh fruits\, vegetables\, meats\, cheese and baked goods conveniently located in the city! Visit the Farmers Market every Friday morning and afternoon in Mellon Park through November 18th.
URL:https://playpittsburgh.com/event/mellon-park-farmers-market/2016-08-19/
LOCATION:Mellon Square\, 6300 Fifth Ave\, Pittsburgh\, PA\, 15232\, United States
GEO:40.4528685;-79.9207289
X-APPLE-STRUCTURED-LOCATION;VALUE=URI;X-ADDRESS=Mellon Square 6300 Fifth Ave Pittsburgh PA 15232 United States;X-APPLE-RADIUS=500;X-TITLE=6300 Fifth Ave:geo:-79.9207289,40.4528685
END:VEVENT
BEGIN:VEVENT
DTSTART;TZID=America/New_York:20160812T100000
DTEND;TZID=America/New_York:20160812T140000
DTSTAMP:20260421T191939
CREATED:20160729T141303Z
LAST-MODIFIED:20160729T141303Z
UID:10057-1470996000-1471010400@playpittsburgh.com
SUMMARY:Mellon Park Farmers Market
DESCRIPTION:Wide variety of farm-fresh fruits\, vegetables\, meats\, cheese and baked goods conveniently located in the city! Visit the Farmers Market every Friday morning and afternoon in Mellon Park through November 18th.
URL:https://playpittsburgh.com/event/mellon-park-farmers-market/2016-08-12/
LOCATION:Mellon Square\, 6300 Fifth Ave\, Pittsburgh\, PA\, 15232\, United States
GEO:40.4528685;-79.9207289
X-APPLE-STRUCTURED-LOCATION;VALUE=URI;X-ADDRESS=Mellon Square 6300 Fifth Ave Pittsburgh PA 15232 United States;X-APPLE-RADIUS=500;X-TITLE=6300 Fifth Ave:geo:-79.9207289,40.4528685
END:VEVENT
BEGIN:VEVENT
DTSTART;TZID=America/New_York:20160812T100000
DTEND;TZID=America/New_York:20160812T140000
DTSTAMP:20260421T191939
CREATED:20160729T141303Z
LAST-MODIFIED:20160729T141303Z
UID:10059-1470996000-1471010400@playpittsburgh.com
SUMMARY:Mellon Park Farmers Market
DESCRIPTION:Wide variety of farm-fresh fruits\, vegetables\, meats\, cheese and baked goods conveniently located in the city! Visit the Farmers Market every Friday morning and afternoon in Mellon Park through November 18th.
URL:https://playpittsburgh.com/event/mellon-park-farmers-market/2016-08-12/
LOCATION:Mellon Square\, 6300 Fifth Ave\, Pittsburgh\, PA\, 15232\, United States
GEO:40.4528685;-79.9207289
X-APPLE-STRUCTURED-LOCATION;VALUE=URI;X-ADDRESS=Mellon Square 6300 Fifth Ave Pittsburgh PA 15232 United States;X-APPLE-RADIUS=500;X-TITLE=6300 Fifth Ave:geo:-79.9207289,40.4528685
END:VEVENT
BEGIN:VEVENT
DTSTART;TZID=America/New_York:20160805T100000
DTEND;TZID=America/New_York:20160805T140000
DTSTAMP:20260421T191939
CREATED:20160729T141303Z
LAST-MODIFIED:20160729T141304Z
UID:10055-1470391200-1470405600@playpittsburgh.com
SUMMARY:Mellon Park Farmers Market
DESCRIPTION:Wide variety of farm-fresh fruits\, vegetables\, meats\, cheese and baked goods conveniently located in the city! Visit the Farmers Market every Friday morning and afternoon in Mellon Park through November 18th.
URL:https://playpittsburgh.com/event/mellon-park-farmers-market/2016-08-05/
LOCATION:Mellon Square\, 6300 Fifth Ave\, Pittsburgh\, PA\, 15232\, United States
GEO:40.4528685;-79.9207289
X-APPLE-STRUCTURED-LOCATION;VALUE=URI;X-ADDRESS=Mellon Square 6300 Fifth Ave Pittsburgh PA 15232 United States;X-APPLE-RADIUS=500;X-TITLE=6300 Fifth Ave:geo:-79.9207289,40.4528685
END:VEVENT
BEGIN:VEVENT
DTSTART;TZID=America/New_York:20140529T120000
DTEND;TZID=America/New_York:20140529T133000
DTSTAMP:20260421T191939
CREATED:20140422T021640Z
LAST-MODIFIED:20140422T021640Z
UID:711-1401364800-1401370200@playpittsburgh.com
SUMMARY:Mellon Square Re-dedication
DESCRIPTION:Join in rededicating Mellon Square\, Downtown Pittsburgh’s emerald oasis! The Pittsburgh Parks Conservancy\, the City of Pittsburgh\, the Pittsburgh Parking Authority\, the Pittsburgh History & Landmarks Foundation\, and BNY Mellon invite you to witness history with the re-dedication of Downtown Pittsburgh’s iconic Mellon Square. Experience the new life of this historic Downtown green-space with a public re-dedication and the kick-off of the summer concert series!
URL:https://playpittsburgh.com/event/mellon-square-re-dedication/
LOCATION:Mellon Square\, 6300 Fifth Ave\, Pittsburgh\, PA\, 15232\, United States
CATEGORIES:Free,Outdoor
GEO:40.4528685;-79.9207289
X-APPLE-STRUCTURED-LOCATION;VALUE=URI;X-ADDRESS=Mellon Square 6300 Fifth Ave Pittsburgh PA 15232 United States;X-APPLE-RADIUS=500;X-TITLE=6300 Fifth Ave:geo:-79.9207289,40.4528685
END:VEVENT
END:VCALENDAR