BEGIN:VCALENDAR
VERSION:2.0
PRODID:-//Play Pittsburgh - ECPv6.15.20//NONSGML v1.0//EN
CALSCALE:GREGORIAN
METHOD:PUBLISH
X-WR-CALNAME:Play Pittsburgh
X-ORIGINAL-URL:https://playpittsburgh.com
X-WR-CALDESC:Events for Play Pittsburgh
REFRESH-INTERVAL;VALUE=DURATION:PT1H
X-Robots-Tag:noindex
X-PUBLISHED-TTL:PT1H
BEGIN:VTIMEZONE
TZID:America/New_York
BEGIN:DAYLIGHT
TZOFFSETFROM:-0500
TZOFFSETTO:-0400
TZNAME:EDT
DTSTART:20130310T070000
END:DAYLIGHT
BEGIN:STANDARD
TZOFFSETFROM:-0400
TZOFFSETTO:-0500
TZNAME:EST
DTSTART:20131103T060000
END:STANDARD
BEGIN:DAYLIGHT
TZOFFSETFROM:-0500
TZOFFSETTO:-0400
TZNAME:EDT
DTSTART:20140309T070000
END:DAYLIGHT
BEGIN:STANDARD
TZOFFSETFROM:-0400
TZOFFSETTO:-0500
TZNAME:EST
DTSTART:20141102T060000
END:STANDARD
BEGIN:DAYLIGHT
TZOFFSETFROM:-0500
TZOFFSETTO:-0400
TZNAME:EDT
DTSTART:20150308T070000
END:DAYLIGHT
BEGIN:STANDARD
TZOFFSETFROM:-0400
TZOFFSETTO:-0500
TZNAME:EST
DTSTART:20151101T060000
END:STANDARD
END:VTIMEZONE
BEGIN:VEVENT
DTSTART;TZID=America/New_York:20141015T100000
DTEND;TZID=America/New_York:20141015T113000
DTSTAMP:20260422T052814
CREATED:20140717T163412Z
LAST-MODIFIED:20140717T171741Z
UID:2689-1413367200-1413372600@playpittsburgh.com
SUMMARY:Tyke Hike @ Mellon Park
DESCRIPTION:Come and join Venture Outdoors for a Tyke Hike! They welcome parents or caregivers with children–newborn to 5 years old. Explore nature\, touch the trees and look for little critters on these easy walks in the park. Adults and children can make new play date friends! Hikes will be trail-friendly for strollers\, slings\, child-carriers or on foot. Strollers must be able to maneuver off road. Children on foot should wear tennis shoes. Craft and snacks provided after the hike! Weather permitting. Pre-registration requested. Walk-ups are welcome at $12 per child. \nRegister here. 
URL:https://playpittsburgh.com/event/tyke-hyke-mellon-park-2/
LOCATION:Mellon Park\, 6300 Fifth Ave\, Pittsburgh \, PA\, 15232\, United States
CATEGORIES:Outdoor
GEO:40.4528685;-79.9207289
X-APPLE-STRUCTURED-LOCATION;VALUE=URI;X-ADDRESS=Mellon Park 6300 Fifth Ave Pittsburgh  PA 15232 United States;X-APPLE-RADIUS=500;X-TITLE=6300 Fifth Ave:geo:-79.9207289,40.4528685
END:VEVENT
BEGIN:VEVENT
DTSTART;TZID=America/New_York:20140917T100000
DTEND;TZID=America/New_York:20140917T113000
DTSTAMP:20260422T052814
CREATED:20140717T163159Z
LAST-MODIFIED:20140717T171951Z
UID:2688-1410948000-1410953400@playpittsburgh.com
SUMMARY:Tyke Hike @ Mellon Park
DESCRIPTION:Come and join Venture Outdoors for a Tyke Hike! They welcome parents or caregivers with children–newborn to 5 years old. Explore nature\, touch the trees and look for little critters on these easy walks in the park. Adults and children can make new play date friends! Hikes will be trail-friendly for strollers\, slings\, child-carriers or on foot. Strollers must be able to maneuver off road. Children on foot should wear tennis shoes. Craft and snacks provided after the hike! Weather permitting. Pre-registration requested. Walk-ups are welcome at $12 per child. \nRegister here. 
URL:https://playpittsburgh.com/event/tyke-hyke-mellon-park/
LOCATION:Mellon Park\, 6300 Fifth Ave\, Pittsburgh \, PA\, 15232\, United States
CATEGORIES:Outdoor
GEO:40.4528685;-79.9207289
X-APPLE-STRUCTURED-LOCATION;VALUE=URI;X-ADDRESS=Mellon Park 6300 Fifth Ave Pittsburgh  PA 15232 United States;X-APPLE-RADIUS=500;X-TITLE=6300 Fifth Ave:geo:-79.9207289,40.4528685
END:VEVENT
BEGIN:VEVENT
DTSTART;TZID=America/New_York:20140719T100000
DTEND;TZID=America/New_York:20140719T113000
DTSTAMP:20260422T052814
CREATED:20140717T190543Z
LAST-MODIFIED:20140717T220319Z
UID:2776-1405764000-1405769400@playpittsburgh.com
SUMMARY:Incredible Edible Garden Tyke Hike @ Mellon Park
DESCRIPTION:Explore the herb garden in Mellon Park and learn about all the delicious herbs that can be grown at home. Tyke Hikers will smell and touch herbs\, and learn about all the healthy benefits of using herbs in food. We will then make a delicious pasta recipe that includes some of the herbs seen in the garden and eat it right afterward as a snack. Sponsored by the East End Food Coop. \nRead more about Tyke Hikes HERE. \nRegister here. 
URL:https://playpittsburgh.com/event/incredible-edible-garden-tyke-hike-mellon-park/
LOCATION:Mellon Park\, 6300 Fifth Ave\, Pittsburgh \, PA\, 15232\, United States
GEO:40.4528685;-79.9207289
X-APPLE-STRUCTURED-LOCATION;VALUE=URI;X-ADDRESS=Mellon Park 6300 Fifth Ave Pittsburgh  PA 15232 United States;X-APPLE-RADIUS=500;X-TITLE=6300 Fifth Ave:geo:-79.9207289,40.4528685
END:VEVENT
BEGIN:VEVENT
DTSTART;TZID=America/New_York:20140507T100000
DTEND;TZID=America/New_York:20140507T113000
DTSTAMP:20260422T052814
CREATED:20140507T172237Z
LAST-MODIFIED:20140717T171911Z
UID:1209-1399456800-1399462200@playpittsburgh.com
SUMMARY:Tyke Hike at Mellon Park
DESCRIPTION:Come and join Venture Outdoors for a Tyke Hike! Parents and caregivers with children: newborn to 5 years old are welcome. Explore nature\, touch the trees and look for little critters on these easy walks in the park. Hikes will be trail-friendly for strollers\, slings\, child-carriers or on foot. Strollers must be able to maneuver off road. Children on foot should wear tennis shoes. Crafts and snacks provided after the hike! Weather permitting. Pre-registration requested. Walk-ups are welcome at $12 per child. 
URL:https://playpittsburgh.com/event/tyke-hyke-at-mellon-park/
LOCATION:Mellon Park\, 6300 Fifth Ave\, Pittsburgh \, PA\, 15232\, United States
CATEGORIES:Outdoor
ORGANIZER;CN="Venture Outdoors":MAILTO:nfo@ventureoutdoors.org
GEO:40.4528685;-79.9207289
X-APPLE-STRUCTURED-LOCATION;VALUE=URI;X-ADDRESS=Mellon Park 6300 Fifth Ave Pittsburgh  PA 15232 United States;X-APPLE-RADIUS=500;X-TITLE=6300 Fifth Ave:geo:-79.9207289,40.4528685
END:VEVENT
END:VCALENDAR