BEGIN:VCALENDAR
VERSION:2.0
PRODID:-//Play Pittsburgh - ECPv6.15.20//NONSGML v1.0//EN
CALSCALE:GREGORIAN
METHOD:PUBLISH
X-ORIGINAL-URL:https://playpittsburgh.com
X-WR-CALDESC:Events for Play Pittsburgh
REFRESH-INTERVAL;VALUE=DURATION:PT1H
X-Robots-Tag:noindex
X-PUBLISHED-TTL:PT1H
BEGIN:VTIMEZONE
TZID:America/New_York
BEGIN:DAYLIGHT
TZOFFSETFROM:-0500
TZOFFSETTO:-0400
TZNAME:EDT
DTSTART:20130310T070000
END:DAYLIGHT
BEGIN:STANDARD
TZOFFSETFROM:-0400
TZOFFSETTO:-0500
TZNAME:EST
DTSTART:20131103T060000
END:STANDARD
BEGIN:DAYLIGHT
TZOFFSETFROM:-0500
TZOFFSETTO:-0400
TZNAME:EDT
DTSTART:20140309T070000
END:DAYLIGHT
BEGIN:STANDARD
TZOFFSETFROM:-0400
TZOFFSETTO:-0500
TZNAME:EST
DTSTART:20141102T060000
END:STANDARD
BEGIN:DAYLIGHT
TZOFFSETFROM:-0500
TZOFFSETTO:-0400
TZNAME:EDT
DTSTART:20150308T070000
END:DAYLIGHT
BEGIN:STANDARD
TZOFFSETFROM:-0400
TZOFFSETTO:-0500
TZNAME:EST
DTSTART:20151101T060000
END:STANDARD
END:VTIMEZONE
BEGIN:VEVENT
DTSTART;TZID=America/New_York:20141011T170000
DTEND;TZID=America/New_York:20141011T191500
DTSTAMP:20260422T030846
CREATED:20140904T174828Z
LAST-MODIFIED:20140904T174828Z
UID:3695-1413046800-1413054900@playpittsburgh.com
SUMMARY:MCG Jazz and Youth & Arts Festival
DESCRIPTION:Expand your creative horizons with MCG Youth & Arts’ demonstrations and projects! Eat desserts prepared by Bidwell Training Center’s culinary students! Visit the store for orchids\, artwork\, and more. Groove to award winning Bob Mintzer and his R&Big Band’s open rehearsal at 6:30 pm in the MCG Jazz concert hall!
URL:https://playpittsburgh.com/event/mcg-jazz-and-youth-arts-festival/
LOCATION:MCG Jazz\, 1815 Metropolitan St\, Pittsburgh\, PA\, 15233\, United States
CATEGORIES:Free,Performing Arts,RADical Days
GEO:40.45731;-80.032478
X-APPLE-STRUCTURED-LOCATION;VALUE=URI;X-ADDRESS=MCG Jazz 1815 Metropolitan St Pittsburgh PA 15233 United States;X-APPLE-RADIUS=500;X-TITLE=1815 Metropolitan St:geo:-80.032478,40.45731
END:VEVENT
BEGIN:VEVENT
DTSTART;TZID=America/New_York:20141011T170000
DTEND;TZID=America/New_York:20141011T191500
DTSTAMP:20260422T030846
CREATED:20140904T174828Z
LAST-MODIFIED:20140904T174828Z
UID:6736-1413046800-1413054900@playpittsburgh.com
SUMMARY:MCG Jazz and Youth & Arts Festival
DESCRIPTION:Expand your creative horizons with MCG Youth & Arts’ demonstrations and projects! Eat desserts prepared by Bidwell Training Center’s culinary students! Visit the store for orchids\, artwork\, and more. Groove to award winning Bob Mintzer and his R&Big Band’s open rehearsal at 6:30 pm in the MCG Jazz concert hall!
URL:https://playpittsburgh.com/event/mcg-jazz-and-youth-arts-festival-2/
LOCATION:MCG Jazz\, 1815 Metropolitan St\, Pittsburgh\, PA\, 15233\, United States
CATEGORIES:Free,Performing Arts,RADical Days
GEO:40.45731;-80.032478
X-APPLE-STRUCTURED-LOCATION;VALUE=URI;X-ADDRESS=MCG Jazz 1815 Metropolitan St Pittsburgh PA 15233 United States;X-APPLE-RADIUS=500;X-TITLE=1815 Metropolitan St:geo:-80.032478,40.45731
END:VEVENT
END:VCALENDAR