BEGIN:VCALENDAR
VERSION:2.0
PRODID:-//Play Pittsburgh - ECPv6.15.20//NONSGML v1.0//EN
CALSCALE:GREGORIAN
METHOD:PUBLISH
X-ORIGINAL-URL:https://playpittsburgh.com
X-WR-CALDESC:Events for Play Pittsburgh
REFRESH-INTERVAL;VALUE=DURATION:PT1H
X-Robots-Tag:noindex
X-PUBLISHED-TTL:PT1H
BEGIN:VTIMEZONE
TZID:America/New_York
BEGIN:DAYLIGHT
TZOFFSETFROM:-0500
TZOFFSETTO:-0400
TZNAME:EDT
DTSTART:20130310T070000
END:DAYLIGHT
BEGIN:STANDARD
TZOFFSETFROM:-0400
TZOFFSETTO:-0500
TZNAME:EST
DTSTART:20131103T060000
END:STANDARD
BEGIN:DAYLIGHT
TZOFFSETFROM:-0500
TZOFFSETTO:-0400
TZNAME:EDT
DTSTART:20140309T070000
END:DAYLIGHT
BEGIN:STANDARD
TZOFFSETFROM:-0400
TZOFFSETTO:-0500
TZNAME:EST
DTSTART:20141102T060000
END:STANDARD
BEGIN:DAYLIGHT
TZOFFSETFROM:-0500
TZOFFSETTO:-0400
TZNAME:EDT
DTSTART:20150308T070000
END:DAYLIGHT
BEGIN:STANDARD
TZOFFSETFROM:-0400
TZOFFSETTO:-0500
TZNAME:EST
DTSTART:20151101T060000
END:STANDARD
BEGIN:DAYLIGHT
TZOFFSETFROM:-0500
TZOFFSETTO:-0400
TZNAME:EDT
DTSTART:20160313T070000
END:DAYLIGHT
BEGIN:STANDARD
TZOFFSETFROM:-0400
TZOFFSETTO:-0500
TZNAME:EST
DTSTART:20161106T060000
END:STANDARD
END:VTIMEZONE
BEGIN:VEVENT
DTSTART;TZID=America/New_York:20150509T100000
DTEND;TZID=America/New_York:20150509T110000
DTSTAMP:20260422T013738
CREATED:20150508T200704Z
LAST-MODIFIED:20150508T200704Z
UID:6033-1431165600-1431169200@playpittsburgh.com
SUMMARY:Mini-Factory at the Mattress Factory
DESCRIPTION:A series of programs for children ages 3-5 years old and their parents or caregivers. Young children explore a variety of themes and installations at the Mattress Factory\, participate in story time and work on a collaborative hands-on project. \n 
URL:https://playpittsburgh.com/event/mini-factory-at-the-mattress-factory-4/
LOCATION:Mattress Factory Art Museum\, 500 Sampsonia Way\, Pittsburgh\, PA\, 15212\, United States
GEO:40.4571477;-80.012187
X-APPLE-STRUCTURED-LOCATION;VALUE=URI;X-ADDRESS=Mattress Factory Art Museum 500 Sampsonia Way Pittsburgh PA 15212 United States;X-APPLE-RADIUS=500;X-TITLE=500 Sampsonia Way:geo:-80.012187,40.4571477
END:VEVENT
BEGIN:VEVENT
DTSTART;TZID=America/New_York:20150425T100000
DTEND;TZID=America/New_York:20150425T110000
DTSTAMP:20260422T013738
CREATED:20150325T000849Z
LAST-MODIFIED:20150325T000849Z
UID:5596-1429956000-1429959600@playpittsburgh.com
SUMMARY:Mini-Factory at the Mattress Factory
DESCRIPTION:The Mattress Factory Art Museum has created an interactive learning program designed specifically for children ages 3-5 years old and their parents and/or caregivers that uses contemporary installation art as the basis for enabling exploration. \nFREE + museum admission not required. RSVP to education@mattress.org as space is limited.
URL:https://playpittsburgh.com/event/mini-factory-at-the-mattress-factory-3/
LOCATION:Mattress Factory Art Museum\, 500 Sampsonia Way\, Pittsburgh\, PA\, 15212\, United States
GEO:40.4571477;-80.012187
X-APPLE-STRUCTURED-LOCATION;VALUE=URI;X-ADDRESS=Mattress Factory Art Museum 500 Sampsonia Way Pittsburgh PA 15212 United States;X-APPLE-RADIUS=500;X-TITLE=500 Sampsonia Way:geo:-80.012187,40.4571477
END:VEVENT
BEGIN:VEVENT
DTSTART;TZID=America/New_York:20150418T130000
DTEND;TZID=America/New_York:20150418T160000
DTSTAMP:20260422T013738
CREATED:20150328T222123Z
LAST-MODIFIED:20150328T222123Z
UID:5934-1429362000-1429372800@playpittsburgh.com
SUMMARY:ArtLab at the Mattress Factory
DESCRIPTION:ARTLab is a fun\, hands-on workshop designed for guests of all ages to explore\, create and learn about installations at the Mattress Factory Museum. The tour is free with admission.
URL:https://playpittsburgh.com/event/artlab-at-the-mattress-factory-2/
LOCATION:Mattress Factory Art Museum\, 500 Sampsonia Way\, Pittsburgh\, PA\, 15212\, United States
GEO:40.4571477;-80.012187
X-APPLE-STRUCTURED-LOCATION;VALUE=URI;X-ADDRESS=Mattress Factory Art Museum 500 Sampsonia Way Pittsburgh PA 15212 United States;X-APPLE-RADIUS=500;X-TITLE=500 Sampsonia Way:geo:-80.012187,40.4571477
END:VEVENT
BEGIN:VEVENT
DTSTART;TZID=America/New_York:20150411T100000
DTEND;TZID=America/New_York:20150411T110000
DTSTAMP:20260422T013738
CREATED:20150325T000747Z
LAST-MODIFIED:20150325T000747Z
UID:5595-1428746400-1428750000@playpittsburgh.com
SUMMARY:Mini-Factory at the Mattress Factory
DESCRIPTION:The Mattress Factory Art Museum has created an interactive learning program designed specifically for children ages 3-5 years old and their parents and/or caregivers that uses contemporary installation art as the basis for enabling exploration. \nFREE + museum admission not required. RSVP to education@mattress.org as space is limited.
URL:https://playpittsburgh.com/event/mini-factory-at-the-mattress-factory-2/
LOCATION:Mattress Factory Art Museum\, 500 Sampsonia Way\, Pittsburgh\, PA\, 15212\, United States
GEO:40.4571477;-80.012187
X-APPLE-STRUCTURED-LOCATION;VALUE=URI;X-ADDRESS=Mattress Factory Art Museum 500 Sampsonia Way Pittsburgh PA 15212 United States;X-APPLE-RADIUS=500;X-TITLE=500 Sampsonia Way:geo:-80.012187,40.4571477
END:VEVENT
BEGIN:VEVENT
DTSTART;TZID=America/New_York:20150404T130000
DTEND;TZID=America/New_York:20150404T160000
DTSTAMP:20260422T013738
CREATED:20150328T222019Z
LAST-MODIFIED:20150328T222019Z
UID:5933-1428152400-1428163200@playpittsburgh.com
SUMMARY:ArtLab at the Mattress Factory
DESCRIPTION:ARTLab is a fun\, hands-on workshop designed for guests of all ages to explore\, create and learn about installations at the Mattress Factory Museum. The tour is free with admission.
URL:https://playpittsburgh.com/event/artlab-at-the-mattress-factory/
LOCATION:Mattress Factory Art Museum\, 500 Sampsonia Way\, Pittsburgh\, PA\, 15212\, United States
GEO:40.4571477;-80.012187
X-APPLE-STRUCTURED-LOCATION;VALUE=URI;X-ADDRESS=Mattress Factory Art Museum 500 Sampsonia Way Pittsburgh PA 15212 United States;X-APPLE-RADIUS=500;X-TITLE=500 Sampsonia Way:geo:-80.012187,40.4571477
END:VEVENT
BEGIN:VEVENT
DTSTART;TZID=America/New_York:20150330T120000
DTEND;TZID=America/New_York:20150330T160000
DTSTAMP:20260422T013738
CREATED:20150325T223045Z
LAST-MODIFIED:20150325T223045Z
UID:5712-1427716800-1427731200@playpittsburgh.com
SUMMARY:Spring Break Family Day at the Mattress Factory
DESCRIPTION:Check out the installations\, participate in some hands-on projects with your family and celebrate spring! Give what you can admission. \nRead more about our visit and see more pictures here!
URL:https://playpittsburgh.com/event/spring-break-family-day-at-the-mattress-factory/
LOCATION:Mattress Factory Art Museum\, 500 Sampsonia Way\, Pittsburgh\, PA\, 15212\, United States
GEO:40.4571477;-80.012187
X-APPLE-STRUCTURED-LOCATION;VALUE=URI;X-ADDRESS=Mattress Factory Art Museum 500 Sampsonia Way Pittsburgh PA 15212 United States;X-APPLE-RADIUS=500;X-TITLE=500 Sampsonia Way:geo:-80.012187,40.4571477
END:VEVENT
BEGIN:VEVENT
DTSTART;TZID=America/New_York:20150328T100000
DTEND;TZID=America/New_York:20150328T110000
DTSTAMP:20260422T013738
CREATED:20150325T000621Z
LAST-MODIFIED:20150325T000621Z
UID:5594-1427536800-1427540400@playpittsburgh.com
SUMMARY:Mini-Factory at the Mattress Factory
DESCRIPTION:The Mattress Factory Art Museum has created an interactive learning program designed specifically for children ages 3-5 years old and their parents and/or caregivers that uses contemporary installation art as the basis for enabling exploration. \nFREE + museum admission not required. RSVP to education@mattress.org as space is limited.
URL:https://playpittsburgh.com/event/mini-factory-at-the-mattress-factory/
LOCATION:Mattress Factory Art Museum\, 500 Sampsonia Way\, Pittsburgh\, PA\, 15212\, United States
CATEGORIES:Free,Museums
GEO:40.4571477;-80.012187
X-APPLE-STRUCTURED-LOCATION;VALUE=URI;X-ADDRESS=Mattress Factory Art Museum 500 Sampsonia Way Pittsburgh PA 15212 United States;X-APPLE-RADIUS=500;X-TITLE=500 Sampsonia Way:geo:-80.012187,40.4571477
END:VEVENT
BEGIN:VEVENT
DTSTART;TZID=America/New_York:20141227T100000
DTEND;TZID=America/New_York:20141227T110000
DTSTAMP:20260422T013738
CREATED:20141205T074016Z
LAST-MODIFIED:20141205T074016Z
UID:5204-1419674400-1419678000@playpittsburgh.com
SUMMARY:Mini-Factory at The Mattress Factory Museum
DESCRIPTION:FREE! (museum admission not required) \nA series of programs for children ages 3-5 years old and their parents or caregivers. Young children explore a variety of themes and installations at the Mattress Factory\, participate in story time and work on a collaborative hands-on project. Mini-Factory is a mobile\, adaptable pop-up space students can help to build and we use to explore new ideas and concepts.
URL:https://playpittsburgh.com/event/mini-factory-at-the-mattress-factory-museum-2/
LOCATION:Mattress Factory Art Museum\, 500 Sampsonia Way\, Pittsburgh\, PA\, 15212\, United States
GEO:40.4571477;-80.012187
X-APPLE-STRUCTURED-LOCATION;VALUE=URI;X-ADDRESS=Mattress Factory Art Museum 500 Sampsonia Way Pittsburgh PA 15212 United States;X-APPLE-RADIUS=500;X-TITLE=500 Sampsonia Way:geo:-80.012187,40.4571477
END:VEVENT
BEGIN:VEVENT
DTSTART;TZID=America/New_York:20141213T100000
DTEND;TZID=America/New_York:20141213T110000
DTSTAMP:20260422T013738
CREATED:20141204T000128Z
LAST-MODIFIED:20141204T000128Z
UID:5072-1418464800-1418468400@playpittsburgh.com
SUMMARY:Mini Factory at the Mattress Factory Museum
DESCRIPTION:Big ideas for small people! An interactive learning program designed specifically for children ages 3-5 years old and their parents and/or caregivers that uses contemporary installation art as the basis for enabling exploration.
URL:https://playpittsburgh.com/event/mini-factory-at-the-mattress-factory-museum/
LOCATION:Mattress Factory Art Museum\, 500 Sampsonia Way\, Pittsburgh\, PA\, 15212\, United States
GEO:40.4571477;-80.012187
X-APPLE-STRUCTURED-LOCATION;VALUE=URI;X-ADDRESS=Mattress Factory Art Museum 500 Sampsonia Way Pittsburgh PA 15212 United States;X-APPLE-RADIUS=500;X-TITLE=500 Sampsonia Way:geo:-80.012187,40.4571477
END:VEVENT
BEGIN:VEVENT
DTSTART;TZID=America/New_York:20141128T080000
DTEND;TZID=America/New_York:20141128T170000
DTSTAMP:20260422T013738
CREATED:20141104T072033Z
LAST-MODIFIED:20141104T072033Z
UID:6935-1417161600-1417194000@playpittsburgh.com
SUMMARY:Family Day at the Mattress Factory
DESCRIPTION:ENJOY Awesome Hands-On Art Activities with the Entire Family! \nCOLLABORATE on a folk art circus with Artists in Residence artist Benjamin Sota. You can learn German wheel\, trapeze\, juggling and tight wire. Learn about the social circus movement and how circus has been used by communities to inspire home and convey change. Discover a new skill and create a performance as a gift for a loved one. \nATTEND a mask-making party! \nEXPLORE all three buildings of the museum on a scavenger hunt! \nCREATE word balloon magnets + a collaborative stamped cityscape! \nDELIGHT in fresh hot cider + popcorn! \nFamily and community programs are made possible by the generous support of Allegheny Regional Asset District\, the Grable Foundation\, the Milton & Sally Avery Arts Foundation\, the Jack Buncher Foundation\, the Pennsylvania Council on the Arts\, PNC Community Development\, the Sheila Fortune Foundation and the Surdna Foundation.
URL:https://playpittsburgh.com/event/family-day-at-the-mattress-factory/
LOCATION:Mattress Factory Art Museum\, 500 Sampsonia Way\, Pittsburgh\, PA\, 15212\, United States
ATTACH;FMTTYPE=:
GEO:40.4571477;-80.012187
X-APPLE-STRUCTURED-LOCATION;VALUE=URI;X-ADDRESS=Mattress Factory Art Museum 500 Sampsonia Way Pittsburgh PA 15212 United States;X-APPLE-RADIUS=500;X-TITLE=500 Sampsonia Way:geo:-80.012187,40.4571477
END:VEVENT
BEGIN:VEVENT
DTSTART;TZID=America/New_York:20141012T130000
DTEND;TZID=America/New_York:20141012T170000
DTSTAMP:20260422T013738
CREATED:20140904T180328Z
LAST-MODIFIED:20140904T180328Z
UID:3700-1413118800-1413133200@playpittsburgh.com
SUMMARY:FREE Admission @ The Mattress Factory
DESCRIPTION:A contemporary art museum + experimental lab featuring site-specific installations created by artists in residence from around the world. Located in the Mexican War Streets of Pittsburgh’s North Side since 1977\, the Mattress Factory is hailed as the best facility for installation art in the United States. Accessibility: The Mattress Factory’s facility at 500 Sampsonia Way is fully accessible; enter from free parking lot at 505 Jacksonia Street. Facilities at 516 Sampsonia Way and 1414 Monterey Street are partially accessible. Wheelchairs are available upon request at 500 Sampsonia Way.
URL:https://playpittsburgh.com/event/free-admission-the-mattress-factory/
LOCATION:Mattress Factory Art Museum\, 500 Sampsonia Way\, Pittsburgh\, PA\, 15212\, United States
CATEGORIES:Free,Museums,RADical Days
GEO:40.4571477;-80.012187
X-APPLE-STRUCTURED-LOCATION;VALUE=URI;X-ADDRESS=Mattress Factory Art Museum 500 Sampsonia Way Pittsburgh PA 15212 United States;X-APPLE-RADIUS=500;X-TITLE=500 Sampsonia Way:geo:-80.012187,40.4571477
END:VEVENT
BEGIN:VEVENT
DTSTART;TZID=America/New_York:20140521T100000
DTEND;TZID=America/New_York:20140521T110000
DTSTAMP:20260422T013738
CREATED:20140422T155632Z
LAST-MODIFIED:20140422T155632Z
UID:793-1400666400-1400670000@playpittsburgh.com
SUMMARY:Mini-Factory Preschool Workshop
DESCRIPTION:Mini-Factory is a FREE interactive learning program designed specifically for children ages 3-6 years old and their parents and/or caregivers that uses contemporary installation art as the basis for enabling parents and educators to explore education ideas. \nYoung children will explore a variety of themes and installations at the Mattress Factory\, participate in story time with our partners form Reading is FUNdamental and the Carnegie Library of Pittsburgh – Allegheny and work on a collaborative project in our Mini-Factory. The Mini-Factory is a mobile\, adaptable pop-up space that children can help to build and use to explore new ideas and concepts. Young artists will participate in projects that promote making and sharing. \nMINI-FACTORY is FREE but you must RSVP to felice[at]mattress.org or at 412.231.3169 because space is limited.
URL:https://playpittsburgh.com/event/mini-factory-preschool-workshop/
LOCATION:Mattress Factory Art Museum\, 500 Sampsonia Way\, Pittsburgh\, PA\, 15212\, United States
GEO:40.4571477;-80.012187
X-APPLE-STRUCTURED-LOCATION;VALUE=URI;X-ADDRESS=Mattress Factory Art Museum 500 Sampsonia Way Pittsburgh PA 15212 United States;X-APPLE-RADIUS=500;X-TITLE=500 Sampsonia Way:geo:-80.012187,40.4571477
END:VEVENT
BEGIN:VEVENT
DTSTART;TZID=America/New_York:20140501T100000
DTEND;TZID=America/New_York:20140501T120000
DTSTAMP:20260422T013738
CREATED:20140422T155100Z
LAST-MODIFIED:20140422T155753Z
UID:790-1398938400-1398945600@playpittsburgh.com
SUMMARY:Mini-Factory Preschool Workshop
DESCRIPTION:Mini-Factory is a FREE interactive learning program at the Mattress Factory Museum. It’s designed specifically for children ages 3-6 years old and their parents and/or caregivers that uses contemporary installation art as the basis for enabling parents and educators to explore education ideas. \nYoung children will explore a variety of themes and installations at the Mattress Factory\, participate in story time with our partners form Reading is FUNdamental and the Carnegie Library of Pittsburgh – Allegheny and work on a collaborative project in our Mini-Factory. The Mini-Factory is a mobile\, adaptable pop-up space that children can help to build and use to explore new ideas and concepts. Young artists will participate in projects that promote making and sharing. \n\nMini-Factory : COLOR @ 10am\nMini-Factory : MY FACTORY @ 10am\nMini-Factory : VIEWPOINT @ 11am\n\nMINI-FACTORY is FREE but you must RSVP to felice[at]mattress.org or at 412.231.3169 because space is limited. \nYou can sign up for workshops individually. Please let us know if you are unable to attend so we can contact those people on our waiting list. Parents must accompany children and participate in the activities with their child. \n  \n 
URL:https://playpittsburgh.com/event/mini-factory-color/
LOCATION:Mattress Factory Art Museum\, 500 Sampsonia Way\, Pittsburgh\, PA\, 15212\, United States
CATEGORIES:Free,Museums
GEO:40.4571477;-80.012187
X-APPLE-STRUCTURED-LOCATION;VALUE=URI;X-ADDRESS=Mattress Factory Art Museum 500 Sampsonia Way Pittsburgh PA 15212 United States;X-APPLE-RADIUS=500;X-TITLE=500 Sampsonia Way:geo:-80.012187,40.4571477
END:VEVENT
END:VCALENDAR