BEGIN:VCALENDAR
VERSION:2.0
PRODID:-//Play Pittsburgh - ECPv6.15.20//NONSGML v1.0//EN
CALSCALE:GREGORIAN
METHOD:PUBLISH
X-WR-CALNAME:Play Pittsburgh
X-ORIGINAL-URL:https://playpittsburgh.com
X-WR-CALDESC:Events for Play Pittsburgh
REFRESH-INTERVAL;VALUE=DURATION:PT1H
X-Robots-Tag:noindex
X-PUBLISHED-TTL:PT1H
BEGIN:VTIMEZONE
TZID:America/New_York
BEGIN:DAYLIGHT
TZOFFSETFROM:-0500
TZOFFSETTO:-0400
TZNAME:EDT
DTSTART:20140309T070000
END:DAYLIGHT
BEGIN:STANDARD
TZOFFSETFROM:-0400
TZOFFSETTO:-0500
TZNAME:EST
DTSTART:20141102T060000
END:STANDARD
BEGIN:DAYLIGHT
TZOFFSETFROM:-0500
TZOFFSETTO:-0400
TZNAME:EDT
DTSTART:20150308T070000
END:DAYLIGHT
BEGIN:STANDARD
TZOFFSETFROM:-0400
TZOFFSETTO:-0500
TZNAME:EST
DTSTART:20151101T060000
END:STANDARD
BEGIN:DAYLIGHT
TZOFFSETFROM:-0500
TZOFFSETTO:-0400
TZNAME:EDT
DTSTART:20160313T070000
END:DAYLIGHT
BEGIN:STANDARD
TZOFFSETFROM:-0400
TZOFFSETTO:-0500
TZNAME:EST
DTSTART:20161106T060000
END:STANDARD
END:VTIMEZONE
BEGIN:VEVENT
DTSTART;TZID=America/New_York:20150328T140000
DTEND;TZID=America/New_York:20150328T160000
DTSTAMP:20260422T173945
CREATED:20150325T004505Z
LAST-MODIFIED:20150325T004505Z
UID:5621-1427551200-1427558400@playpittsburgh.com
SUMMARY:Indoor Easter Egg'stravaganza at Mars High School
DESCRIPTION:This is an INDOOR\, carnival style event where your child will get loaded up with candy filled eggs as prizes for the carnival games they play! \nCarnival Games • ELF Inflatables • Face Painting\nHot Dogs • Popcorn • Cotton Candy • Subway\nChick-fil-A • Texas Roadhouse Wings • Prospect Pizza\nAnd of course… the Easter Bunny! \nNo Registration is Required. COST IS FREE! \nCome and see why more than 2\,500 of people attended this event last year! Bring as many friends as you want and a bucket or basket for your eggs!
URL:https://playpittsburgh.com/event/indoor-easter-eggstravaganza-at-mars-high-school/
LOCATION:Mars High School\, 520 Pennsylvania 228\, Mars\, PA\, 16046\, United States
GEO:40.6970272;-79.9771452
X-APPLE-STRUCTURED-LOCATION;VALUE=URI;X-ADDRESS=Mars High School 520 Pennsylvania 228 Mars PA 16046 United States;X-APPLE-RADIUS=500;X-TITLE=520 Pennsylvania 228:geo:-79.9771452,40.6970272
END:VEVENT
END:VCALENDAR