BEGIN:VCALENDAR
VERSION:2.0
PRODID:-//Play Pittsburgh - ECPv6.15.20//NONSGML v1.0//EN
CALSCALE:GREGORIAN
METHOD:PUBLISH
X-ORIGINAL-URL:https://playpittsburgh.com
X-WR-CALDESC:Events for Play Pittsburgh
REFRESH-INTERVAL;VALUE=DURATION:PT1H
X-Robots-Tag:noindex
X-PUBLISHED-TTL:PT1H
BEGIN:VTIMEZONE
TZID:America/New_York
BEGIN:DAYLIGHT
TZOFFSETFROM:-0500
TZOFFSETTO:-0400
TZNAME:EDT
DTSTART:20130310T070000
END:DAYLIGHT
BEGIN:STANDARD
TZOFFSETFROM:-0400
TZOFFSETTO:-0500
TZNAME:EST
DTSTART:20131103T060000
END:STANDARD
BEGIN:DAYLIGHT
TZOFFSETFROM:-0500
TZOFFSETTO:-0400
TZNAME:EDT
DTSTART:20140309T070000
END:DAYLIGHT
BEGIN:STANDARD
TZOFFSETFROM:-0400
TZOFFSETTO:-0500
TZNAME:EST
DTSTART:20141102T060000
END:STANDARD
BEGIN:DAYLIGHT
TZOFFSETFROM:-0500
TZOFFSETTO:-0400
TZNAME:EDT
DTSTART:20150308T070000
END:DAYLIGHT
BEGIN:STANDARD
TZOFFSETFROM:-0400
TZOFFSETTO:-0500
TZNAME:EST
DTSTART:20151101T060000
END:STANDARD
END:VTIMEZONE
BEGIN:VEVENT
DTSTART;TZID=America/New_York:20140920T110000
DTEND;TZID=America/New_York:20140920T180000
DTSTAMP:20260422T082427
CREATED:20140829T233505Z
LAST-MODIFIED:20140829T233505Z
UID:3311-1411210800-1411236000@playpittsburgh.com
SUMMARY:36th Annual Butler Fall Festival
DESCRIPTION:Family-oriented festival featuring regional crafters\, children’s activities\, food vendors and entertainment. Classic car show sponsored by the Rodfathers. Event is free. Main St.\, Butler from Diamond Park to Brady St. 1 \nEach year\, an estimated 20\,000 to 30\,000 people are drawn to our community’s Main Street in Butler to\nexperience a fabulous array of entertainment\, food\, crafts\, art\, children’s activities\, and lots of cars during\nButler’s annual Fall Festival. This year\, the festival is scheduled for September 20\, 2014\, 11:00 a.m. to 6:00 p.m.\, rain or shine. This event is run by volunteers and funding is from the generous donations of our sponsors
URL:https://playpittsburgh.com/event/36th-annual-butler-fall-festival/
LOCATION:Main St. in Butler\, Butler\, PA\, 16001\, United States
CATEGORIES:Festivals,Outdoor
GEO:40.9013998;-79.9416549
END:VEVENT
END:VCALENDAR