BEGIN:VCALENDAR
VERSION:2.0
PRODID:-//Play Pittsburgh - ECPv6.15.20//NONSGML v1.0//EN
CALSCALE:GREGORIAN
METHOD:PUBLISH
X-WR-CALNAME:Play Pittsburgh
X-ORIGINAL-URL:https://playpittsburgh.com
X-WR-CALDESC:Events for Play Pittsburgh
REFRESH-INTERVAL;VALUE=DURATION:PT1H
X-Robots-Tag:noindex
X-PUBLISHED-TTL:PT1H
BEGIN:VTIMEZONE
TZID:America/New_York
BEGIN:DAYLIGHT
TZOFFSETFROM:-0500
TZOFFSETTO:-0400
TZNAME:EDT
DTSTART:20140309T070000
END:DAYLIGHT
BEGIN:STANDARD
TZOFFSETFROM:-0400
TZOFFSETTO:-0500
TZNAME:EST
DTSTART:20141102T060000
END:STANDARD
BEGIN:DAYLIGHT
TZOFFSETFROM:-0500
TZOFFSETTO:-0400
TZNAME:EDT
DTSTART:20150308T070000
END:DAYLIGHT
BEGIN:STANDARD
TZOFFSETFROM:-0400
TZOFFSETTO:-0500
TZNAME:EST
DTSTART:20151101T060000
END:STANDARD
BEGIN:DAYLIGHT
TZOFFSETFROM:-0500
TZOFFSETTO:-0400
TZNAME:EDT
DTSTART:20160313T070000
END:DAYLIGHT
BEGIN:STANDARD
TZOFFSETFROM:-0400
TZOFFSETTO:-0500
TZNAME:EST
DTSTART:20161106T060000
END:STANDARD
END:VTIMEZONE
BEGIN:VEVENT
DTSTART;TZID=America/New_York:20150407T180000
DTEND;TZID=America/New_York:20150407T210000
DTSTAMP:20260422T144438
CREATED:20150401T223150Z
LAST-MODIFIED:20150401T223150Z
UID:5986-1428429600-1428440400@playpittsburgh.com
SUMMARY:Growing Up Together for Daughters and Parents
DESCRIPTION:Designed for parents and their 8 to 11-year-old daughters\, Growing Up Together for Daughters is a three-hour discussion session that covers the physical and emotional changes accompanying reproductive development\, provides mature information about male and female anatomy\, reproduction (including brief definitions of intercourse)\, and healthy lifestyles habits\, and opens the door to further communication at home.
URL:https://playpittsburgh.com/event/growing-up-together-for-daughters-and-parents/
LOCATION:Magee Women’s Hospital of UPMC\, 300 Halket Street\, Pittsburgh\, PA\, 15213\, United States
GEO:40.4370751;-79.9609635
X-APPLE-STRUCTURED-LOCATION;VALUE=URI;X-ADDRESS=Magee Women’s Hospital of UPMC 300 Halket Street Pittsburgh PA 15213 United States;X-APPLE-RADIUS=500;X-TITLE=300 Halket Street:geo:-79.9609635,40.4370751
END:VEVENT
END:VCALENDAR