BEGIN:VCALENDAR
VERSION:2.0
PRODID:-//Play Pittsburgh - ECPv6.15.20//NONSGML v1.0//EN
CALSCALE:GREGORIAN
METHOD:PUBLISH
X-ORIGINAL-URL:https://playpittsburgh.com
X-WR-CALDESC:Events for Play Pittsburgh
REFRESH-INTERVAL;VALUE=DURATION:PT1H
X-Robots-Tag:noindex
X-PUBLISHED-TTL:PT1H
BEGIN:VTIMEZONE
TZID:America/New_York
BEGIN:DAYLIGHT
TZOFFSETFROM:-0500
TZOFFSETTO:-0400
TZNAME:EDT
DTSTART:20130310T070000
END:DAYLIGHT
BEGIN:STANDARD
TZOFFSETFROM:-0400
TZOFFSETTO:-0500
TZNAME:EST
DTSTART:20131103T060000
END:STANDARD
BEGIN:DAYLIGHT
TZOFFSETFROM:-0500
TZOFFSETTO:-0400
TZNAME:EDT
DTSTART:20140309T070000
END:DAYLIGHT
BEGIN:STANDARD
TZOFFSETFROM:-0400
TZOFFSETTO:-0500
TZNAME:EST
DTSTART:20141102T060000
END:STANDARD
BEGIN:DAYLIGHT
TZOFFSETFROM:-0500
TZOFFSETTO:-0400
TZNAME:EDT
DTSTART:20150308T070000
END:DAYLIGHT
BEGIN:STANDARD
TZOFFSETFROM:-0400
TZOFFSETTO:-0500
TZNAME:EST
DTSTART:20151101T060000
END:STANDARD
END:VTIMEZONE
BEGIN:VEVENT
DTSTART;TZID=America/New_York:20141004T100000
DTEND;TZID=America/New_York:20141004T170000
DTSTAMP:20260421T201132
CREATED:20140929T233529Z
LAST-MODIFIED:20140929T233529Z
UID:3919-1412416800-1412442000@playpittsburgh.com
SUMMARY:Night at the Zoo at Living Treasures Animal Park
DESCRIPTION:October is an exciting time at Living Treasures! “Night at the Zoo” event runs every Thursday\, Friday\, and Saturday in October from 7-11pm\, weather permitting. \nThis a non-scary family event where you are invited to take a walk in the dark through our torch-lit walkways to view the wild and interesting behaviors that many wild animals have at night. Hear the calls of many vocal animals\, and spot the glowing eyes of the big cats and alligators. \nThis is a rare opportunity to observe over 70 species of animals\, many of which are nocturnal. \nTHE DETAILS:\n• Children ages 3-11 accompanied by an adult will receive FREE ADMISSION from 7-11pm when they bring a jack-o-lantern.**\n• Jack-o-lanterns will be entered into a weekly contest\, where 1 winner from each age group will be chosen each week.\n• All guests are invited to come in costume!! (Please no scary costumes.)\n• Guests who get their photo taken at our photo center will automatically be entered into a weekly contest\, where 1 winner is chosen weekly.\n• Get your family’s Halloween photo holding a live snake or alligator while our trained staff controls the “business end” of these reptiles!\n• “Treat” bags will be given to every guest in costume before they leave the park.\n• Pumpkins and refreshments will be available.\n• Flashlights are available for purchase in the gift shop to help you spot our animals. \nNote: Living Treasures remains open daily from 10:00am-6:00pm in addition to the Night at the Zoo event. \n**For free admission\, we will accept carved pumpkins and decorated pumpkins. \n 
URL:https://playpittsburgh.com/event/night-at-the-zoo-at-living-treasures-animal-park-3/2014-10-04/
LOCATION:Living Treasures Animal Park (Moraine)\, 268 Fox Rd\, New Caslte\, 16101\, United States
CATEGORIES:Animal Attractions
GEO:40.968618;-80.214726
X-APPLE-STRUCTURED-LOCATION;VALUE=URI;X-ADDRESS=Living Treasures Animal Park (Moraine) 268 Fox Rd New Caslte 16101 United States;X-APPLE-RADIUS=500;X-TITLE=268 Fox Rd:geo:-80.214726,40.968618
END:VEVENT
BEGIN:VEVENT
DTSTART;TZID=America/New_York:20141003T100000
DTEND;TZID=America/New_York:20141003T220000
DTSTAMP:20260421T201132
CREATED:20140929T233427Z
LAST-MODIFIED:20140929T233427Z
UID:3914-1412330400-1412373600@playpittsburgh.com
SUMMARY:Night at the Zoo at Living Treasures Animal Park
DESCRIPTION:October is an exciting time at Living Treasures! “Night at the Zoo” event runs every Thursday\, Friday\, and Saturday in October from 7-11pm\, weather permitting. \nThis a non-scary family event where you are invited to take a walk in the dark through our torch-lit walkways to view the wild and interesting behaviors that many wild animals have at night. Hear the calls of many vocal animals\, and spot the glowing eyes of the big cats and alligators. \nThis is a rare opportunity to observe over 70 species of animals\, many of which are nocturnal. \nTHE DETAILS:\n• Children ages 3-11 accompanied by an adult will receive FREE ADMISSION from 7-11pm when they bring a jack-o-lantern.**\n• Jack-o-lanterns will be entered into a weekly contest\, where 1 winner from each age group will be chosen each week.\n• All guests are invited to come in costume!! (Please no scary costumes.)\n• Guests who get their photo taken at our photo center will automatically be entered into a weekly contest\, where 1 winner is chosen weekly.\n• Get your family’s Halloween photo holding a live snake or alligator while our trained staff controls the “business end” of these reptiles!\n• “Treat” bags will be given to every guest in costume before they leave the park.\n• Pumpkins and refreshments will be available.\n• Flashlights are available for purchase in the gift shop to help you spot our animals. \nNote: Living Treasures remains open daily from 10:00am-6:00pm in addition to the Night at the Zoo event. \n**For free admission\, we will accept carved pumpkins and decorated pumpkins. \n 
URL:https://playpittsburgh.com/event/night-at-the-zoo-at-living-treasures-animal-park-2/2014-10-03/
LOCATION:Living Treasures Animal Park (Moraine)\, 268 Fox Rd\, New Caslte\, 16101\, United States
CATEGORIES:Animal Attractions
GEO:40.968618;-80.214726
X-APPLE-STRUCTURED-LOCATION;VALUE=URI;X-ADDRESS=Living Treasures Animal Park (Moraine) 268 Fox Rd New Caslte 16101 United States;X-APPLE-RADIUS=500;X-TITLE=268 Fox Rd:geo:-80.214726,40.968618
END:VEVENT
BEGIN:VEVENT
DTSTART;TZID=America/New_York:20141002T100000
DTEND;TZID=America/New_York:20141002T220000
DTSTAMP:20260421T201132
CREATED:20140929T232806Z
LAST-MODIFIED:20140929T232806Z
UID:3908-1412244000-1412287200@playpittsburgh.com
SUMMARY:Night at the Zoo at Living Treasures Animal Park
DESCRIPTION:October is an exciting time at Living Treasures! “Night at the Zoo” event runs every Thursday\, Friday\, and Saturday in October from 7-11pm\, weather permitting. \nThis a non-scary family event where you are invited to take a walk in the dark through our torch-lit walkways to view the wild and interesting behaviors that many wild animals have at night. Hear the calls of many vocal animals\, and spot the glowing eyes of the big cats and alligators. \nThis is a rare opportunity to observe over 70 species of animals\, many of which are nocturnal. \nTHE DETAILS:\n• Children ages 3-11 accompanied by an adult will receive FREE ADMISSION from 7-11pm when they bring a jack-o-lantern.**\n• Jack-o-lanterns will be entered into a weekly contest\, where 1 winner from each age group will be chosen each week.\n• All guests are invited to come in costume!! (Please no scary costumes.)\n• Guests who get their photo taken at our photo center will automatically be entered into a weekly contest\, where 1 winner is chosen weekly.\n• Get your family’s Halloween photo holding a live snake or alligator while our trained staff controls the “business end” of these reptiles!\n• “Treat” bags will be given to every guest in costume before they leave the park.\n• Pumpkins and refreshments will be available.\n• Flashlights are available for purchase in the gift shop to help you spot our animals. \nNote: Living Treasures remains open daily from 10:00am-6:00pm in addition to the Night at the Zoo event. \n**For free admission\, we will accept carved pumpkins and decorated pumpkins. \n 
URL:https://playpittsburgh.com/event/night-at-the-zoo-at-living-treasures-animal-park/2014-10-02/
LOCATION:Living Treasures Animal Park (Moraine)\, 268 Fox Rd\, New Caslte\, 16101\, United States
CATEGORIES:Animal Attractions
GEO:40.968618;-80.214726
X-APPLE-STRUCTURED-LOCATION;VALUE=URI;X-ADDRESS=Living Treasures Animal Park (Moraine) 268 Fox Rd New Caslte 16101 United States;X-APPLE-RADIUS=500;X-TITLE=268 Fox Rd:geo:-80.214726,40.968618
END:VEVENT
END:VCALENDAR