BEGIN:VCALENDAR
VERSION:2.0
PRODID:-//Play Pittsburgh - ECPv6.15.20//NONSGML v1.0//EN
CALSCALE:GREGORIAN
METHOD:PUBLISH
X-WR-CALNAME:Play Pittsburgh
X-ORIGINAL-URL:https://playpittsburgh.com
X-WR-CALDESC:Events for Play Pittsburgh
REFRESH-INTERVAL;VALUE=DURATION:PT1H
X-Robots-Tag:noindex
X-PUBLISHED-TTL:PT1H
BEGIN:VTIMEZONE
TZID:America/New_York
BEGIN:DAYLIGHT
TZOFFSETFROM:-0500
TZOFFSETTO:-0400
TZNAME:EDT
DTSTART:20130310T070000
END:DAYLIGHT
BEGIN:STANDARD
TZOFFSETFROM:-0400
TZOFFSETTO:-0500
TZNAME:EST
DTSTART:20131103T060000
END:STANDARD
BEGIN:DAYLIGHT
TZOFFSETFROM:-0500
TZOFFSETTO:-0400
TZNAME:EDT
DTSTART:20140309T070000
END:DAYLIGHT
BEGIN:STANDARD
TZOFFSETFROM:-0400
TZOFFSETTO:-0500
TZNAME:EST
DTSTART:20141102T060000
END:STANDARD
BEGIN:DAYLIGHT
TZOFFSETFROM:-0500
TZOFFSETTO:-0400
TZNAME:EDT
DTSTART:20150308T070000
END:DAYLIGHT
BEGIN:STANDARD
TZOFFSETFROM:-0400
TZOFFSETTO:-0500
TZNAME:EST
DTSTART:20151101T060000
END:STANDARD
END:VTIMEZONE
BEGIN:VEVENT
DTSTART;TZID=America/New_York:20141011T110000
DTEND;TZID=America/New_York:20141011T130000
DTSTAMP:20260422T050114
CREATED:20140930T181452Z
LAST-MODIFIED:20140930T181452Z
UID:3958-1413025200-1413032400@playpittsburgh.com
SUMMARY:Bloomfield Columbus Day Parade
DESCRIPTION:Several thousand people will be celebrating along Liberty Avenue in Bloomfield! Celebrate Columbus Day weekend with Bloomfield’s annual Columbus Day parade on Liberty Avenue. The parade begins at 11 am. Great FREE family activity. The parade\, will follow Liberty Avenue from Baum Boulevard to the Bloomfield Bridge. \n 
URL:https://playpittsburgh.com/event/bloomfield-columbus-day-parade/
LOCATION:Liberty Avenue in Bloomfield\, Bloomfield\, PA\, 15213\, United States
CATEGORIES:Festivals,Free,Outdoor
GEO:40.4621606;-79.9444526
END:VEVENT
END:VCALENDAR