BEGIN:VCALENDAR
VERSION:2.0
PRODID:-//Play Pittsburgh - ECPv6.15.20//NONSGML v1.0//EN
CALSCALE:GREGORIAN
METHOD:PUBLISH
X-WR-CALNAME:Play Pittsburgh
X-ORIGINAL-URL:https://playpittsburgh.com
X-WR-CALDESC:Events for Play Pittsburgh
REFRESH-INTERVAL;VALUE=DURATION:PT1H
X-Robots-Tag:noindex
X-PUBLISHED-TTL:PT1H
BEGIN:VTIMEZONE
TZID:America/New_York
BEGIN:DAYLIGHT
TZOFFSETFROM:-0500
TZOFFSETTO:-0400
TZNAME:EDT
DTSTART:20130310T070000
END:DAYLIGHT
BEGIN:STANDARD
TZOFFSETFROM:-0400
TZOFFSETTO:-0500
TZNAME:EST
DTSTART:20131103T060000
END:STANDARD
BEGIN:DAYLIGHT
TZOFFSETFROM:-0500
TZOFFSETTO:-0400
TZNAME:EDT
DTSTART:20140309T070000
END:DAYLIGHT
BEGIN:STANDARD
TZOFFSETFROM:-0400
TZOFFSETTO:-0500
TZNAME:EST
DTSTART:20141102T060000
END:STANDARD
BEGIN:DAYLIGHT
TZOFFSETFROM:-0500
TZOFFSETTO:-0400
TZNAME:EDT
DTSTART:20150308T070000
END:DAYLIGHT
BEGIN:STANDARD
TZOFFSETFROM:-0400
TZOFFSETTO:-0500
TZNAME:EST
DTSTART:20151101T060000
END:STANDARD
END:VTIMEZONE
BEGIN:VEVENT
DTSTART;VALUE=DATE:20140920
DTEND;VALUE=DATE:20140922
DTSTAMP:20260424T080137
CREATED:20140917T202410Z
LAST-MODIFIED:20140917T202410Z
UID:3783-1411171200-1411343999@playpittsburgh.com
SUMMARY:Meet Olaf at Learning Express
DESCRIPTION:Meet Olaf this weekend at Learning Express in Mt. Lebanon. Saturday 9/20 at 11am & 4pm and Sunday 9/21 at 12 Noon
URL:https://playpittsburgh.com/event/meet-olaf-at-learning-express/
LOCATION:Learning Express (Mt. Lebanon)\, Galleria of Mt. Lebanon 1500 Washington Road\, Pittsburgh\, 15228\, United States
GEO:40.3570036;-80.051746
X-APPLE-STRUCTURED-LOCATION;VALUE=URI;X-ADDRESS=Learning Express (Mt. Lebanon) Galleria of Mt. Lebanon 1500 Washington Road Pittsburgh 15228 United States;X-APPLE-RADIUS=500;X-TITLE=Galleria of Mt. Lebanon 1500 Washington Road:geo:-80.051746,40.3570036
END:VEVENT
END:VCALENDAR