BEGIN:VCALENDAR
VERSION:2.0
PRODID:-//Play Pittsburgh - ECPv6.15.20//NONSGML v1.0//EN
CALSCALE:GREGORIAN
METHOD:PUBLISH
X-WR-CALNAME:Play Pittsburgh
X-ORIGINAL-URL:https://playpittsburgh.com
X-WR-CALDESC:Events for Play Pittsburgh
REFRESH-INTERVAL;VALUE=DURATION:PT1H
X-Robots-Tag:noindex
X-PUBLISHED-TTL:PT1H
BEGIN:VTIMEZONE
TZID:America/New_York
BEGIN:DAYLIGHT
TZOFFSETFROM:-0500
TZOFFSETTO:-0400
TZNAME:EDT
DTSTART:20130310T070000
END:DAYLIGHT
BEGIN:STANDARD
TZOFFSETFROM:-0400
TZOFFSETTO:-0500
TZNAME:EST
DTSTART:20131103T060000
END:STANDARD
BEGIN:DAYLIGHT
TZOFFSETFROM:-0500
TZOFFSETTO:-0400
TZNAME:EDT
DTSTART:20140309T070000
END:DAYLIGHT
BEGIN:STANDARD
TZOFFSETFROM:-0400
TZOFFSETTO:-0500
TZNAME:EST
DTSTART:20141102T060000
END:STANDARD
BEGIN:DAYLIGHT
TZOFFSETFROM:-0500
TZOFFSETTO:-0400
TZNAME:EDT
DTSTART:20150308T070000
END:DAYLIGHT
BEGIN:STANDARD
TZOFFSETFROM:-0400
TZOFFSETTO:-0500
TZNAME:EST
DTSTART:20151101T060000
END:STANDARD
END:VTIMEZONE
BEGIN:VEVENT
DTSTART;TZID=America/New_York:20141101T130000
DTEND;TZID=America/New_York:20141101T153000
DTSTAMP:20260424T062955
CREATED:20141030T185710Z
LAST-MODIFIED:20141030T185710Z
UID:4077-1414846800-1414855800@playpittsburgh.com
SUMMARY:FREE Star Wars LEGO Event at Learning Express (Monroeville) & Snapology
DESCRIPTION:Visit Learning Express in Monroeville on November 1st as they team up with Snapology to throw the ultimate Star Wars Lego Event! Call the store and reserve your spot now. Two times from 1:00pm – 2:00pm and 2:30pm – 3:30pm. This is a FREE event and space is limited.
URL:https://playpittsburgh.com/event/free-star-wars-lego-event-at-learning-express-monroeville-snapology/
LOCATION:Learning Express (Monroeville)\, 4100 William Penn Hwy\, Monroeville\, PA\, 15146\, United States
CATEGORIES:Free
ATTACH;FMTTYPE=:
GEO:40.437446;-79.7650119
X-APPLE-STRUCTURED-LOCATION;VALUE=URI;X-ADDRESS=Learning Express (Monroeville) 4100 William Penn Hwy Monroeville PA 15146 United States;X-APPLE-RADIUS=500;X-TITLE=4100 William Penn Hwy:geo:-79.7650119,40.437446
END:VEVENT
END:VCALENDAR