BEGIN:VCALENDAR
VERSION:2.0
PRODID:-//Play Pittsburgh - ECPv6.15.20//NONSGML v1.0//EN
CALSCALE:GREGORIAN
METHOD:PUBLISH
X-WR-CALNAME:Play Pittsburgh
X-ORIGINAL-URL:https://playpittsburgh.com
X-WR-CALDESC:Events for Play Pittsburgh
REFRESH-INTERVAL;VALUE=DURATION:PT1H
X-Robots-Tag:noindex
X-PUBLISHED-TTL:PT1H
BEGIN:VTIMEZONE
TZID:America/New_York
BEGIN:DAYLIGHT
TZOFFSETFROM:-0500
TZOFFSETTO:-0400
TZNAME:EDT
DTSTART:20150308T070000
END:DAYLIGHT
BEGIN:STANDARD
TZOFFSETFROM:-0400
TZOFFSETTO:-0500
TZNAME:EST
DTSTART:20151101T060000
END:STANDARD
BEGIN:DAYLIGHT
TZOFFSETFROM:-0500
TZOFFSETTO:-0400
TZNAME:EDT
DTSTART:20160313T070000
END:DAYLIGHT
BEGIN:STANDARD
TZOFFSETFROM:-0400
TZOFFSETTO:-0500
TZNAME:EST
DTSTART:20161106T060000
END:STANDARD
BEGIN:DAYLIGHT
TZOFFSETFROM:-0500
TZOFFSETTO:-0400
TZNAME:EDT
DTSTART:20170312T070000
END:DAYLIGHT
BEGIN:STANDARD
TZOFFSETFROM:-0400
TZOFFSETTO:-0500
TZNAME:EST
DTSTART:20171105T060000
END:STANDARD
END:VTIMEZONE
BEGIN:VEVENT
DTSTART;TZID=America/New_York:20160707T180000
DTEND;TZID=America/New_York:20160707T190000
DTSTAMP:20260423T063722
CREATED:20160707T013158Z
LAST-MODIFIED:20160729T180129Z
UID:9636-1467914400-1467918000@playpittsburgh.com
SUMMARY:Family Game Night at Learning Express Bakery Square
DESCRIPTION:Family Game Night is perfect for families of all ages! Every Thursday night at 6pm\, there will be two games set up to be played (for both younger and older ages). Bring your family and friends to enjoy a fun night of games! Also\, from 6pm-7pm\, all games will be 10% off. The events are completely FREE\, and reservations are NOT required. Just come on in to enjoy the fun! \nFeel free to call the store at 412-361-8697
URL:https://playpittsburgh.com/event/family-game-night-learning-express-bakery-square/2016-07-07/
LOCATION:Learning Express (Bakery Square)\, 172 Bakery Square Blvd\, Pittsburgh\, Pittsburgh\, PA\, 15206\, United States
GEO:40.4564611;-79.915057
X-APPLE-STRUCTURED-LOCATION;VALUE=URI;X-ADDRESS=Learning Express (Bakery Square) 172 Bakery Square Blvd Pittsburgh Pittsburgh PA 15206 United States;X-APPLE-RADIUS=500;X-TITLE=172 Bakery Square Blvd\, Pittsburgh:geo:-79.915057,40.4564611
END:VEVENT
BEGIN:VEVENT
DTSTART;TZID=America/New_York:20160703T110000
DTEND;TZID=America/New_York:20160703T150000
DTSTAMP:20260423T063722
CREATED:20160701T024758Z
LAST-MODIFIED:20160701T024758Z
UID:9345-1467543600-1467558000@playpittsburgh.com
SUMMARY:Meet and Greet with Peppa Pig and Chase from Paw Patrol
DESCRIPTION:Both Peppa Pig\, and Chase from Paw Patrol will be visiting Learning Express in Bakery Square!! There are no reservations required for this event. Come in at anytime from 11am-3pm to meet Peppa and Chase. Don’t forget your cameras! \nFeel free to call the store for more information at 412-361-8697
URL:https://playpittsburgh.com/event/meet-greet-peppa-pig-chase-paw-patrol/
LOCATION:Learning Express (Bakery Square)\, 172 Bakery Square Blvd\, Pittsburgh\, Pittsburgh\, PA\, 15206\, United States
CATEGORIES:Free
GEO:40.4564611;-79.915057
X-APPLE-STRUCTURED-LOCATION;VALUE=URI;X-ADDRESS=Learning Express (Bakery Square) 172 Bakery Square Blvd Pittsburgh Pittsburgh PA 15206 United States;X-APPLE-RADIUS=500;X-TITLE=172 Bakery Square Blvd\, Pittsburgh:geo:-79.915057,40.4564611
END:VEVENT
END:VCALENDAR