BEGIN:VCALENDAR
VERSION:2.0
PRODID:-//Play Pittsburgh - ECPv6.15.20//NONSGML v1.0//EN
CALSCALE:GREGORIAN
METHOD:PUBLISH
X-WR-CALNAME:Play Pittsburgh
X-ORIGINAL-URL:https://playpittsburgh.com
X-WR-CALDESC:Events for Play Pittsburgh
REFRESH-INTERVAL;VALUE=DURATION:PT1H
X-Robots-Tag:noindex
X-PUBLISHED-TTL:PT1H
BEGIN:VTIMEZONE
TZID:America/New_York
BEGIN:DAYLIGHT
TZOFFSETFROM:-0500
TZOFFSETTO:-0400
TZNAME:EDT
DTSTART:20140309T070000
END:DAYLIGHT
BEGIN:STANDARD
TZOFFSETFROM:-0400
TZOFFSETTO:-0500
TZNAME:EST
DTSTART:20141102T060000
END:STANDARD
BEGIN:DAYLIGHT
TZOFFSETFROM:-0500
TZOFFSETTO:-0400
TZNAME:EDT
DTSTART:20150308T070000
END:DAYLIGHT
BEGIN:STANDARD
TZOFFSETFROM:-0400
TZOFFSETTO:-0500
TZNAME:EST
DTSTART:20151101T060000
END:STANDARD
BEGIN:DAYLIGHT
TZOFFSETFROM:-0500
TZOFFSETTO:-0400
TZNAME:EDT
DTSTART:20160313T070000
END:DAYLIGHT
BEGIN:STANDARD
TZOFFSETFROM:-0400
TZOFFSETTO:-0500
TZNAME:EST
DTSTART:20161106T060000
END:STANDARD
END:VTIMEZONE
BEGIN:VEVENT
DTSTART;TZID=America/New_York:20150411T110000
DTEND;TZID=America/New_York:20150411T140000
DTSTAMP:20260422T055701
CREATED:20150410T053759Z
LAST-MODIFIED:20150410T053759Z
UID:5995-1428750000-1428760800@playpittsburgh.com
SUMMARY:Let’s Move! Family Dance Party
DESCRIPTION:Welcome the spring season with kid-friendly music spun by DJ\, dancing\, hands-on art activities\, and more. \nToddlers and families can put a little spring in their step with: \n\nJump rope and hula hoop games\nPerformances by Trevor C. Dance Collective and Sankofa Village for the Arts\nFamily-friendly music with special guest DJ and emcee Lauren Bethea\nPhoto booth and craft corner\nDoor prizes and raffles\nA KST’s giant\, friendly puppets
URL:https://playpittsburgh.com/event/lets-move-family-dance-party/
LOCATION:Kelly Strayhorn Theater\, 5941 Penn Ave\, Pittsburgh\, 15206\, United States
GEO:40.4618791;-79.9252673
X-APPLE-STRUCTURED-LOCATION;VALUE=URI;X-ADDRESS=Kelly Strayhorn Theater 5941 Penn Ave Pittsburgh 15206 United States;X-APPLE-RADIUS=500;X-TITLE=5941 Penn Ave:geo:-79.9252673,40.4618791
END:VEVENT
END:VCALENDAR