BEGIN:VCALENDAR
VERSION:2.0
PRODID:-//Play Pittsburgh - ECPv6.15.20//NONSGML v1.0//EN
CALSCALE:GREGORIAN
METHOD:PUBLISH
X-WR-CALNAME:Play Pittsburgh
X-ORIGINAL-URL:https://playpittsburgh.com
X-WR-CALDESC:Events for Play Pittsburgh
REFRESH-INTERVAL;VALUE=DURATION:PT1H
X-Robots-Tag:noindex
X-PUBLISHED-TTL:PT1H
BEGIN:VTIMEZONE
TZID:America/New_York
BEGIN:DAYLIGHT
TZOFFSETFROM:-0500
TZOFFSETTO:-0400
TZNAME:EDT
DTSTART:20130310T070000
END:DAYLIGHT
BEGIN:STANDARD
TZOFFSETFROM:-0400
TZOFFSETTO:-0500
TZNAME:EST
DTSTART:20131103T060000
END:STANDARD
BEGIN:DAYLIGHT
TZOFFSETFROM:-0500
TZOFFSETTO:-0400
TZNAME:EDT
DTSTART:20140309T070000
END:DAYLIGHT
BEGIN:STANDARD
TZOFFSETFROM:-0400
TZOFFSETTO:-0500
TZNAME:EST
DTSTART:20141102T060000
END:STANDARD
BEGIN:DAYLIGHT
TZOFFSETFROM:-0500
TZOFFSETTO:-0400
TZNAME:EDT
DTSTART:20150308T070000
END:DAYLIGHT
BEGIN:STANDARD
TZOFFSETFROM:-0400
TZOFFSETTO:-0500
TZNAME:EST
DTSTART:20151101T060000
END:STANDARD
END:VTIMEZONE
BEGIN:VEVENT
DTSTART;TZID=America/New_York:20141206T080000
DTEND;TZID=America/New_York:20141206T170000
DTSTAMP:20260422T045939
CREATED:20141115T062710Z
LAST-MODIFIED:20141115T062710Z
UID:4503-1417852800-1417885200@playpittsburgh.com
SUMMARY:Singin' With Santa
DESCRIPTION:PITTSBURGH (Nov. 3\, 2014) — The first-ever Singin’ With Santa concert will be presented at 11 a.m. Saturday\, \nDec. 6\, in Ingomar United Methodist Church. This new event is geared especially for little ones and features a \nvisit from Santa himself! \n“We are really excited about this concert. The holidays are all about family\, and this will be a great \nchance for parents and grandparents to enjoy a musical treat with the youngsters in their lives\,” Music Director \nSusan Medley said. “We’ve put together some musical selections that will bring out the kid in all of us! Don’t \nmiss this event – whether you’ve been naughty or nice!” \nThe performance will feature child-friendly holiday tunes\, and audience members will be invited to sing- \nalong. As a special treat\, Santa is scheduled to come visit the children and families may take their own pictures \nwith the “old man from the north.” Children will receive a goodie bag to take home. \nTickets are just $5 for a parent & child\, or $10 for a family; details are on the PCC Website at \nwww.pccsing.org or by calling the PCC office at 412-635-7654. Late-comers are welcome; tickets will be sold at \nthe door. The “Singin’ With Santa” concert is part of the 2014-2015 30th Anniversary Season. \n“Pittsburgh Concert Chorale:  Raising Voices\, Raising Spirits” \nAbout the Pittsburgh Concert Chorale:  Founded in 1985\, the Pittsburgh Concert Chorale continues to build bridges of \nmusic throughout western Pennsylvania. The mission of the 100-member chorus\, under the leadership of its Music Director\, \nSusan Medley\, is to provide a diverse repertoire of choral music for a growing audience. \nContact:   Krista Ream\, Pittsburgh Concert Chorale\, 412.635.7654\,
URL:https://playpittsburgh.com/event/singin-with-santa/
LOCATION:Ingomar United Methodist Church\, 1501 W Ingomar Rd\, Pittsburgh\, PA\, 15237\, United States
ATTACH;FMTTYPE=:
GEO:40.5847489;-80.0671077
X-APPLE-STRUCTURED-LOCATION;VALUE=URI;X-ADDRESS=Ingomar United Methodist Church 1501 W Ingomar Rd Pittsburgh PA 15237 United States;X-APPLE-RADIUS=500;X-TITLE=1501 W Ingomar Rd:geo:-80.0671077,40.5847489
END:VEVENT
END:VCALENDAR