BEGIN:VCALENDAR
VERSION:2.0
PRODID:-//Play Pittsburgh - ECPv6.15.20//NONSGML v1.0//EN
CALSCALE:GREGORIAN
METHOD:PUBLISH
X-WR-CALNAME:Play Pittsburgh
X-ORIGINAL-URL:https://playpittsburgh.com
X-WR-CALDESC:Events for Play Pittsburgh
REFRESH-INTERVAL;VALUE=DURATION:PT1H
X-Robots-Tag:noindex
X-PUBLISHED-TTL:PT1H
BEGIN:VTIMEZONE
TZID:America/New_York
BEGIN:DAYLIGHT
TZOFFSETFROM:-0500
TZOFFSETTO:-0400
TZNAME:EDT
DTSTART:20130310T070000
END:DAYLIGHT
BEGIN:STANDARD
TZOFFSETFROM:-0400
TZOFFSETTO:-0500
TZNAME:EST
DTSTART:20131103T060000
END:STANDARD
BEGIN:DAYLIGHT
TZOFFSETFROM:-0500
TZOFFSETTO:-0400
TZNAME:EDT
DTSTART:20140309T070000
END:DAYLIGHT
BEGIN:STANDARD
TZOFFSETFROM:-0400
TZOFFSETTO:-0500
TZNAME:EST
DTSTART:20141102T060000
END:STANDARD
BEGIN:DAYLIGHT
TZOFFSETFROM:-0500
TZOFFSETTO:-0400
TZNAME:EDT
DTSTART:20150308T070000
END:DAYLIGHT
BEGIN:STANDARD
TZOFFSETFROM:-0400
TZOFFSETTO:-0500
TZNAME:EST
DTSTART:20151101T060000
END:STANDARD
END:VTIMEZONE
BEGIN:VEVENT
DTSTART;TZID=America/New_York:20140726T093000
DTEND;TZID=America/New_York:20140726T200000
DTSTAMP:20260422T041733
CREATED:20140725T154835Z
LAST-MODIFIED:20140725T154853Z
UID:2793-1406367000-1406404800@playpittsburgh.com
SUMMARY:Kids & Family Fun Saturday @ IKEA
DESCRIPTION:Balloon animals\, games\, prizes and more! IKEA’s children’s area will be open as well.\n\n9:30am – 3:00 pm – Gift card giveaway\nJoin IKEA FAMILY or scan your card at any kiosk for a chance to win one of 5 $250 IKEA gift cards. Drawings are at 11:00am\, 12:00pm\, 1:00pm\, 2:00pm and 3:00pm.10:00am – 3:00pm – Balloon Art\nJoin IKEA for fun with “Mike the Balloon Guy”12:00pm – 2:00pm – BOB FM\nShow your IKEA FAMILY card at the BOB FM table and play plinko for a chance to win some fun prizes. \nAll Day\n● Play IKEA Twitter picture hunt for an additional chance to win a $250 gift card. \n\n 
URL:https://playpittsburgh.com/event/kids-family-fun-saturday/
LOCATION:IKEA\, 2001 Park Manor Blvd\, 15205
CATEGORIES:Free,Indoor Play
GEO:40.4519006;-80.1679928
X-APPLE-STRUCTURED-LOCATION;VALUE=URI;X-ADDRESS=IKEA 2001 Park Manor Blvd 15205;X-APPLE-RADIUS=500;X-TITLE=2001 Park Manor Blvd:geo:-80.1679928,40.4519006
END:VEVENT
BEGIN:VEVENT
DTSTART;TZID=America/New_York:20140726T093000
DTEND;TZID=America/New_York:20140726T200000
DTSTAMP:20260422T041733
CREATED:20140725T154835Z
LAST-MODIFIED:20140725T154835Z
UID:6410-1406367000-1406404800@playpittsburgh.com
SUMMARY:Kids & Family Fun Saturday @ IKEA
DESCRIPTION:Balloon animals\, games\, prizes and more! IKEA’s children’s area will be open as well.\n\n9:30am – 3:00 pm – Gift card giveaway\nJoin IKEA FAMILY or scan your card at any kiosk for a chance to win one of 5 $250 IKEA gift cards. Drawings are at 11:00am\, 12:00pm\, 1:00pm\, 2:00pm and 3:00pm.10:00am – 3:00pm – Balloon Art\nJoin IKEA for fun with “Mike the Balloon Guy”12:00pm – 2:00pm – BOB FM\nShow your IKEA FAMILY card at the BOB FM table and play plinko for a chance to win some fun prizes. \nAll Day\n● Play IKEA Twitter picture hunt for an additional chance to win a $250 gift card. \n\n 
URL:https://playpittsburgh.com/event/kids-family-fun-saturday-2/
LOCATION:IKEA\, 2001 Park Manor Blvd\, 15205
CATEGORIES:Free,Indoor Play
GEO:40.4519006;-80.1679928
X-APPLE-STRUCTURED-LOCATION;VALUE=URI;X-ADDRESS=IKEA 2001 Park Manor Blvd 15205;X-APPLE-RADIUS=500;X-TITLE=2001 Park Manor Blvd:geo:-80.1679928,40.4519006
END:VEVENT
END:VCALENDAR