BEGIN:VCALENDAR
VERSION:2.0
PRODID:-//Play Pittsburgh - ECPv6.15.20//NONSGML v1.0//EN
CALSCALE:GREGORIAN
METHOD:PUBLISH
X-WR-CALNAME:Play Pittsburgh
X-ORIGINAL-URL:https://playpittsburgh.com
X-WR-CALDESC:Events for Play Pittsburgh
REFRESH-INTERVAL;VALUE=DURATION:PT1H
X-Robots-Tag:noindex
X-PUBLISHED-TTL:PT1H
BEGIN:VTIMEZONE
TZID:America/New_York
BEGIN:DAYLIGHT
TZOFFSETFROM:-0500
TZOFFSETTO:-0400
TZNAME:EDT
DTSTART:20130310T070000
END:DAYLIGHT
BEGIN:STANDARD
TZOFFSETFROM:-0400
TZOFFSETTO:-0500
TZNAME:EST
DTSTART:20131103T060000
END:STANDARD
BEGIN:DAYLIGHT
TZOFFSETFROM:-0500
TZOFFSETTO:-0400
TZNAME:EDT
DTSTART:20140309T070000
END:DAYLIGHT
BEGIN:STANDARD
TZOFFSETFROM:-0400
TZOFFSETTO:-0500
TZNAME:EST
DTSTART:20141102T060000
END:STANDARD
BEGIN:DAYLIGHT
TZOFFSETFROM:-0500
TZOFFSETTO:-0400
TZNAME:EDT
DTSTART:20150308T070000
END:DAYLIGHT
BEGIN:STANDARD
TZOFFSETFROM:-0400
TZOFFSETTO:-0500
TZNAME:EST
DTSTART:20151101T060000
END:STANDARD
BEGIN:DAYLIGHT
TZOFFSETFROM:-0500
TZOFFSETTO:-0400
TZNAME:EDT
DTSTART:20160313T070000
END:DAYLIGHT
BEGIN:STANDARD
TZOFFSETFROM:-0400
TZOFFSETTO:-0500
TZNAME:EST
DTSTART:20161106T060000
END:STANDARD
END:VTIMEZONE
BEGIN:VEVENT
DTSTART;TZID=America/New_York:20150328T100000
DTEND;TZID=America/New_York:20150328T170000
DTSTAMP:20260424T083221
CREATED:20150325T002257Z
LAST-MODIFIED:20150325T002257Z
UID:5611-1427536800-1427562000@playpittsburgh.com
SUMMARY:Frontier Women's Day at Heinz History Center
DESCRIPTION:Partnering with the Girl Scouts of Western Pennsylvania\, Fort Pitt will host Frontier Women’s Day where Brownie and Junior Girl Scouts will learn about 18th century women\, games\, toys\, trades\, and lifestyles to work on badge activities. \nGirl Scouts must register by March 15th through the Girl Scouts of Western Pennsylvania here.
URL:https://playpittsburgh.com/event/frontier-womens-day-at-heinz-history-center/
LOCATION:Heinz History Center & Western Pennsylvania Sports Museum\, 1212 Smallman Street\, Pittsburgh\, PA\, 15222\, United States
GEO:40.4463499;-79.9925008
X-APPLE-STRUCTURED-LOCATION;VALUE=URI;X-ADDRESS=Heinz History Center & Western Pennsylvania Sports Museum 1212 Smallman Street Pittsburgh PA 15222 United States;X-APPLE-RADIUS=500;X-TITLE=1212 Smallman Street:geo:-79.9925008,40.4463499
END:VEVENT
BEGIN:VEVENT
DTSTART;VALUE=DATE:20141114
DTEND;VALUE=DATE:20141117
DTSTAMP:20260424T083221
CREATED:20141115T064716Z
LAST-MODIFIED:20141115T064716Z
UID:4538-1415923200-1416182399@playpittsburgh.com
SUMMARY:FREE Admission at the Heinz History Center
DESCRIPTION:Join the History Center and Fort Pitt Museum for free admission days\, sponsored by the Jack Buncher Foundation\, on Nov. 14\, 15\, and 16. \nAll visitors will receive free admission throughout the day at both museums\, including adults\, children\, and seniors. \nAt the History Center\, visitors will enjoy all six floors of this Smithsonian-affiliated museum\, including our newest exhibitions\, Pittsburgh’s Lost Steamboat: Treasures of the Arabia on the first floor and Heinz on the fourth floor\, as well as the Western Pennsylvania Sports Museum on the second and third floors. On Saturday\, Nov. 15\, visitors can enjoy the National Pickle Day celebration at the History Center featuring historic pickle displays\, samplings from the Pittsburgh Pickle Company\, docent-led exhibit tours\, and much more. Click here for more information. \nAt the Fort Pitt Museum\, visitors can explore the birthplace of Pittsburgh at this 12\,000-square-foot museum\, which provides a rich understanding of the world-changing events that occurred right here in Western Pennsylvania\, including the French & Indian War and the pre-Colonial eras. \nThe History Center gratefully acknowledges the Jack Buncher Foundation for their generous support of the free admission days on Nov. 14-16. For more information about this special weekend\, please call 412-454-6000.
URL:https://playpittsburgh.com/event/free-admission-at-the-heinz-history-center/
LOCATION:Heinz History Center & Western Pennsylvania Sports Museum\, 1212 Smallman Street\, Pittsburgh\, PA\, 15222\, United States
ATTACH;FMTTYPE=:
GEO:40.4463499;-79.9925008
X-APPLE-STRUCTURED-LOCATION;VALUE=URI;X-ADDRESS=Heinz History Center & Western Pennsylvania Sports Museum 1212 Smallman Street Pittsburgh PA 15222 United States;X-APPLE-RADIUS=500;X-TITLE=1212 Smallman Street:geo:-79.9925008,40.4463499
END:VEVENT
BEGIN:VEVENT
DTSTART;TZID=America/New_York:20141012T100000
DTEND;TZID=America/New_York:20141012T170000
DTSTAMP:20260424T083221
CREATED:20140904T175849Z
LAST-MODIFIED:20140930T001655Z
UID:3698-1413108000-1413133200@playpittsburgh.com
SUMMARY:FREE Admission @ Sen. John Heinz History Center and Western PA Sports Museum
DESCRIPTION:Relive a few classic battles at the Heinz History Center and Western Pennsylvania Sports Museum. Enjoy all six floors of this Smithsonian-affiliated museum\, presenting American history with a Western Pennsylvania connection. Feel the pride of our region by exploring the lives of Pittsburghers who have changed the world through a variety of engaging exhibitions. Performances by Allegheny Brass Band (1:30)\, Children’s Festival Chorus (2:30) and South Hills Chorale (3pm).
URL:https://playpittsburgh.com/event/free-admission-sen-john-heinz-history-center-and-western-pa-sports-museum/
LOCATION:Heinz History Center & Western Pennsylvania Sports Museum\, 1212 Smallman Street\, Pittsburgh\, PA\, 15222\, United States
CATEGORIES:Free,Museums,RADical Days
GEO:40.4463499;-79.9925008
X-APPLE-STRUCTURED-LOCATION;VALUE=URI;X-ADDRESS=Heinz History Center & Western Pennsylvania Sports Museum 1212 Smallman Street Pittsburgh PA 15222 United States;X-APPLE-RADIUS=500;X-TITLE=1212 Smallman Street:geo:-79.9925008,40.4463499
END:VEVENT
END:VCALENDAR