BEGIN:VCALENDAR
VERSION:2.0
PRODID:-//Play Pittsburgh - ECPv6.15.20//NONSGML v1.0//EN
CALSCALE:GREGORIAN
METHOD:PUBLISH
X-WR-CALNAME:Play Pittsburgh
X-ORIGINAL-URL:https://playpittsburgh.com
X-WR-CALDESC:Events for Play Pittsburgh
REFRESH-INTERVAL;VALUE=DURATION:PT1H
X-Robots-Tag:noindex
X-PUBLISHED-TTL:PT1H
BEGIN:VTIMEZONE
TZID:America/New_York
BEGIN:DAYLIGHT
TZOFFSETFROM:-0500
TZOFFSETTO:-0400
TZNAME:EDT
DTSTART:20130310T070000
END:DAYLIGHT
BEGIN:STANDARD
TZOFFSETFROM:-0400
TZOFFSETTO:-0500
TZNAME:EST
DTSTART:20131103T060000
END:STANDARD
BEGIN:DAYLIGHT
TZOFFSETFROM:-0500
TZOFFSETTO:-0400
TZNAME:EDT
DTSTART:20140309T070000
END:DAYLIGHT
BEGIN:STANDARD
TZOFFSETFROM:-0400
TZOFFSETTO:-0500
TZNAME:EST
DTSTART:20141102T060000
END:STANDARD
BEGIN:DAYLIGHT
TZOFFSETFROM:-0500
TZOFFSETTO:-0400
TZNAME:EDT
DTSTART:20150308T070000
END:DAYLIGHT
BEGIN:STANDARD
TZOFFSETFROM:-0400
TZOFFSETTO:-0500
TZNAME:EST
DTSTART:20151101T060000
END:STANDARD
END:VTIMEZONE
BEGIN:VEVENT
DTSTART;TZID=America/New_York:20141108T100000
DTEND;TZID=America/New_York:20141108T190000
DTSTAMP:20260422T100901
CREATED:20141103T000513Z
LAST-MODIFIED:20141103T000513Z
UID:4303-1415440800-1415473200@playpittsburgh.com
SUMMARY:Christmas in the Park at Grove City Memorial Park
DESCRIPTION:Saint Nick arrives in a horse drawn carriage beginning the Old fashioned Christmas season. Enjoy breakfast\, pictures with Santa\, strolling carolers\, musicians\, & carriage rides. \nDates: November 8th\, 2014\nTime: 10 AM – 7 PM\nLocation: Main Street\, Volant\, PA 16156\nAdmission: Free\nFor more information: 724-533-5611
URL:https://playpittsburgh.com/event/christmas-in-the-park-at-grove-city-memorial-park/
LOCATION:Grove City Memorial Park\, Main Street\, Volant\, 16156
ATTACH;FMTTYPE=:
GEO:41.112972;-80.2578459
X-APPLE-STRUCTURED-LOCATION;VALUE=URI;X-ADDRESS=Grove City Memorial Park Main Street Volant 16156;X-APPLE-RADIUS=500;X-TITLE=Main Street:geo:-80.2578459,41.112972
END:VEVENT
END:VCALENDAR