BEGIN:VCALENDAR
VERSION:2.0
PRODID:-//Play Pittsburgh - ECPv6.15.20//NONSGML v1.0//EN
CALSCALE:GREGORIAN
METHOD:PUBLISH
X-WR-CALNAME:Play Pittsburgh
X-ORIGINAL-URL:https://playpittsburgh.com
X-WR-CALDESC:Events for Play Pittsburgh
REFRESH-INTERVAL;VALUE=DURATION:PT1H
X-Robots-Tag:noindex
X-PUBLISHED-TTL:PT1H
BEGIN:VTIMEZONE
TZID:America/New_York
BEGIN:DAYLIGHT
TZOFFSETFROM:-0500
TZOFFSETTO:-0400
TZNAME:EDT
DTSTART:20130310T070000
END:DAYLIGHT
BEGIN:STANDARD
TZOFFSETFROM:-0400
TZOFFSETTO:-0500
TZNAME:EST
DTSTART:20131103T060000
END:STANDARD
BEGIN:DAYLIGHT
TZOFFSETFROM:-0500
TZOFFSETTO:-0400
TZNAME:EDT
DTSTART:20140309T070000
END:DAYLIGHT
BEGIN:STANDARD
TZOFFSETFROM:-0400
TZOFFSETTO:-0500
TZNAME:EST
DTSTART:20141102T060000
END:STANDARD
BEGIN:DAYLIGHT
TZOFFSETFROM:-0500
TZOFFSETTO:-0400
TZNAME:EDT
DTSTART:20150308T070000
END:DAYLIGHT
BEGIN:STANDARD
TZOFFSETFROM:-0400
TZOFFSETTO:-0500
TZNAME:EST
DTSTART:20151101T060000
END:STANDARD
END:VTIMEZONE
BEGIN:VEVENT
DTSTART;VALUE=DATE:20140718
DTEND;VALUE=DATE:20140721
DTSTAMP:20260422T192102
CREATED:20140626T071601Z
LAST-MODIFIED:20140626T071601Z
UID:2162-1405641600-1405900799@playpittsburgh.com
SUMMARY:East Brady Area Riverfest
DESCRIPTION:Annual East Brady Area Riverfest will be held July 16\, 17\, & 18\, at Graham Field (old high school football field)\, East Brady\, PA.We will kick things off with our firemen’s parade on Friday evening at 6:30 p.m. There will be food and craft vendors all weekend\, live music\, rides\, inflatables\, games\, and a craft corner for children\, a magician\, fireworks\, auction\, three point basketball shoot tournament to benefit Muscular Dystrophy\, motorcycle show and dice run.
URL:https://playpittsburgh.com/event/east-brady-area-riverfest/
LOCATION:Graham Field\, Verner St.\, East Brady\, PA\, 16028\, United States
CATEGORIES:Festivals,Free,Outdoor
GEO:40.976709;-79.615799
X-APPLE-STRUCTURED-LOCATION;VALUE=URI;X-ADDRESS=Graham Field Verner St. East Brady PA 16028 United States;X-APPLE-RADIUS=500;X-TITLE=Verner St.:geo:-79.615799,40.976709
END:VEVENT
END:VCALENDAR