BEGIN:VCALENDAR
VERSION:2.0
PRODID:-//Play Pittsburgh - ECPv6.15.20//NONSGML v1.0//EN
CALSCALE:GREGORIAN
METHOD:PUBLISH
X-WR-CALNAME:Play Pittsburgh
X-ORIGINAL-URL:https://playpittsburgh.com
X-WR-CALDESC:Events for Play Pittsburgh
REFRESH-INTERVAL;VALUE=DURATION:PT1H
X-Robots-Tag:noindex
X-PUBLISHED-TTL:PT1H
BEGIN:VTIMEZONE
TZID:America/New_York
BEGIN:DAYLIGHT
TZOFFSETFROM:-0500
TZOFFSETTO:-0400
TZNAME:EDT
DTSTART:20130310T070000
END:DAYLIGHT
BEGIN:STANDARD
TZOFFSETFROM:-0400
TZOFFSETTO:-0500
TZNAME:EST
DTSTART:20131103T060000
END:STANDARD
BEGIN:DAYLIGHT
TZOFFSETFROM:-0500
TZOFFSETTO:-0400
TZNAME:EDT
DTSTART:20140309T070000
END:DAYLIGHT
BEGIN:STANDARD
TZOFFSETFROM:-0400
TZOFFSETTO:-0500
TZNAME:EST
DTSTART:20141102T060000
END:STANDARD
BEGIN:DAYLIGHT
TZOFFSETFROM:-0500
TZOFFSETTO:-0400
TZNAME:EDT
DTSTART:20150308T070000
END:DAYLIGHT
BEGIN:STANDARD
TZOFFSETFROM:-0400
TZOFFSETTO:-0500
TZNAME:EST
DTSTART:20151101T060000
END:STANDARD
END:VTIMEZONE
BEGIN:VEVENT
DTSTART;VALUE=DATE:20141228
DTEND;VALUE=DATE:20141229
DTSTAMP:20260422T030715
CREATED:20141203T053638Z
LAST-MODIFIED:20141203T053638Z
UID:8144-1419724800-1419811199@playpittsburgh.com
SUMMARY:Gemini Children’s Theater presents The Gift of the Ice Queen
DESCRIPTION:Join Gemini Children’s Theater for an original holiday adventure in interactive\, musical theater production. \nPlease remember that first row bench seating is reserved for children 8 and under and all children must be accompanied by an adult. Enjoy the show!
URL:https://playpittsburgh.com/event/gemini-childrens-theater-presents-the-gift-of-the-ice-queen-2/2014-12-28/
LOCATION:Gemini Children’s Theater\, 7501 Penn Ave\, Pittsburgh \, PA\, 15208\, United States
GEO:40.447942;-79.895957
X-APPLE-STRUCTURED-LOCATION;VALUE=URI;X-ADDRESS=Gemini Children’s Theater 7501 Penn Ave Pittsburgh  PA 15208 United States;X-APPLE-RADIUS=500;X-TITLE=7501 Penn Ave:geo:-79.895957,40.447942
END:VEVENT
BEGIN:VEVENT
DTSTART;VALUE=DATE:20141221
DTEND;VALUE=DATE:20141222
DTSTAMP:20260422T030715
CREATED:20141203T053638Z
LAST-MODIFIED:20141203T053638Z
UID:8143-1419120000-1419206399@playpittsburgh.com
SUMMARY:Gemini Children’s Theater presents The Gift of the Ice Queen
DESCRIPTION:Join Gemini Children’s Theater for an original holiday adventure in interactive\, musical theater production. \nPlease remember that first row bench seating is reserved for children 8 and under and all children must be accompanied by an adult. Enjoy the show!
URL:https://playpittsburgh.com/event/gemini-childrens-theater-presents-the-gift-of-the-ice-queen-2/2014-12-21/
LOCATION:Gemini Children’s Theater\, 7501 Penn Ave\, Pittsburgh \, PA\, 15208\, United States
GEO:40.447942;-79.895957
X-APPLE-STRUCTURED-LOCATION;VALUE=URI;X-ADDRESS=Gemini Children’s Theater 7501 Penn Ave Pittsburgh  PA 15208 United States;X-APPLE-RADIUS=500;X-TITLE=7501 Penn Ave:geo:-79.895957,40.447942
END:VEVENT
BEGIN:VEVENT
DTSTART;VALUE=DATE:20141220
DTEND;VALUE=DATE:20141221
DTSTAMP:20260422T030715
CREATED:20141203T053239Z
LAST-MODIFIED:20141203T053239Z
UID:8141-1419033600-1419119999@playpittsburgh.com
SUMMARY:Gemini Children’s Theater presents The Gift of the Ice Queen
DESCRIPTION:Join Gemini Children’s Theater for an original holiday adventure in interactive\, musical theater production. \nPlease remember that first row bench seating is reserved for children 8 and under and all children must be accompanied by an adult. Enjoy the show!
URL:https://playpittsburgh.com/event/gemini-childrens-theater-presents-the-gift-of-the-ice-queen/2014-12-20/
LOCATION:Gemini Children’s Theater\, 7501 Penn Ave\, Pittsburgh \, PA\, 15208\, United States
GEO:40.447942;-79.895957
X-APPLE-STRUCTURED-LOCATION;VALUE=URI;X-ADDRESS=Gemini Children’s Theater 7501 Penn Ave Pittsburgh  PA 15208 United States;X-APPLE-RADIUS=500;X-TITLE=7501 Penn Ave:geo:-79.895957,40.447942
END:VEVENT
BEGIN:VEVENT
DTSTART;VALUE=DATE:20141214
DTEND;VALUE=DATE:20141215
DTSTAMP:20260422T030715
CREATED:20141203T053638Z
LAST-MODIFIED:20141203T053638Z
UID:8142-1418515200-1418601599@playpittsburgh.com
SUMMARY:Gemini Children’s Theater presents The Gift of the Ice Queen
DESCRIPTION:Join Gemini Children’s Theater for an original holiday adventure in interactive\, musical theater production. \nPlease remember that first row bench seating is reserved for children 8 and under and all children must be accompanied by an adult. Enjoy the show!
URL:https://playpittsburgh.com/event/gemini-childrens-theater-presents-the-gift-of-the-ice-queen-2/2014-12-14/
LOCATION:Gemini Children’s Theater\, 7501 Penn Ave\, Pittsburgh \, PA\, 15208\, United States
GEO:40.447942;-79.895957
X-APPLE-STRUCTURED-LOCATION;VALUE=URI;X-ADDRESS=Gemini Children’s Theater 7501 Penn Ave Pittsburgh  PA 15208 United States;X-APPLE-RADIUS=500;X-TITLE=7501 Penn Ave:geo:-79.895957,40.447942
END:VEVENT
BEGIN:VEVENT
DTSTART;VALUE=DATE:20141213
DTEND;VALUE=DATE:20141214
DTSTAMP:20260422T030715
CREATED:20141203T053239Z
LAST-MODIFIED:20141203T053239Z
UID:8140-1418428800-1418515199@playpittsburgh.com
SUMMARY:Gemini Children’s Theater presents The Gift of the Ice Queen
DESCRIPTION:Join Gemini Children’s Theater for an original holiday adventure in interactive\, musical theater production. \nPlease remember that first row bench seating is reserved for children 8 and under and all children must be accompanied by an adult. Enjoy the show!
URL:https://playpittsburgh.com/event/gemini-childrens-theater-presents-the-gift-of-the-ice-queen/2014-12-13/
LOCATION:Gemini Children’s Theater\, 7501 Penn Ave\, Pittsburgh \, PA\, 15208\, United States
GEO:40.447942;-79.895957
X-APPLE-STRUCTURED-LOCATION;VALUE=URI;X-ADDRESS=Gemini Children’s Theater 7501 Penn Ave Pittsburgh  PA 15208 United States;X-APPLE-RADIUS=500;X-TITLE=7501 Penn Ave:geo:-79.895957,40.447942
END:VEVENT
BEGIN:VEVENT
DTSTART;VALUE=DATE:20141207
DTEND;VALUE=DATE:20141208
DTSTAMP:20260422T030715
CREATED:20141203T053638Z
LAST-MODIFIED:20141203T053638Z
UID:5019-1417910400-1417996799@playpittsburgh.com
SUMMARY:Gemini Children’s Theater presents The Gift of the Ice Queen
DESCRIPTION:Join Gemini Children’s Theater for an original holiday adventure in interactive\, musical theater production. \nPlease remember that first row bench seating is reserved for children 8 and under and all children must be accompanied by an adult. Enjoy the show!
URL:https://playpittsburgh.com/event/gemini-childrens-theater-presents-the-gift-of-the-ice-queen-2/2014-12-07/
LOCATION:Gemini Children’s Theater\, 7501 Penn Ave\, Pittsburgh \, PA\, 15208\, United States
GEO:40.447942;-79.895957
X-APPLE-STRUCTURED-LOCATION;VALUE=URI;X-ADDRESS=Gemini Children’s Theater 7501 Penn Ave Pittsburgh  PA 15208 United States;X-APPLE-RADIUS=500;X-TITLE=7501 Penn Ave:geo:-79.895957,40.447942
END:VEVENT
BEGIN:VEVENT
DTSTART;VALUE=DATE:20141206
DTEND;VALUE=DATE:20141207
DTSTAMP:20260422T030715
CREATED:20141203T053239Z
LAST-MODIFIED:20141203T053239Z
UID:5016-1417824000-1417910399@playpittsburgh.com
SUMMARY:Gemini Children’s Theater presents The Gift of the Ice Queen
DESCRIPTION:Join Gemini Children’s Theater for an original holiday adventure in interactive\, musical theater production. \nPlease remember that first row bench seating is reserved for children 8 and under and all children must be accompanied by an adult. Enjoy the show!
URL:https://playpittsburgh.com/event/gemini-childrens-theater-presents-the-gift-of-the-ice-queen/2014-12-06/
LOCATION:Gemini Children’s Theater\, 7501 Penn Ave\, Pittsburgh \, PA\, 15208\, United States
GEO:40.447942;-79.895957
X-APPLE-STRUCTURED-LOCATION;VALUE=URI;X-ADDRESS=Gemini Children’s Theater 7501 Penn Ave Pittsburgh  PA 15208 United States;X-APPLE-RADIUS=500;X-TITLE=7501 Penn Ave:geo:-79.895957,40.447942
END:VEVENT
BEGIN:VEVENT
DTSTART;TZID=America/New_York:20140921T130000
DTEND;TZID=America/New_York:20140921T153000
DTSTAMP:20260422T030715
CREATED:20140901T224359Z
LAST-MODIFIED:20140901T224359Z
UID:3585-1411304400-1411313400@playpittsburgh.com
SUMMARY:Gemini Children's Theater Presents Peter Pan
DESCRIPTION:Join Gemini Children’s Theater for an adventure to Never\, Neverland in this classic Gemini Children’s Theater original\, interactive\, musical theater production. \nAll performances are Saturdays & Sundays at 1:00pm & 3:30pm;\nFlex Pass Subscriptions available soon;\n$2.00 service charge on all orders (Box Office and Online);\nBench seating is for children 8 and under only. No adults permitted;\nPlease note that all children MUST be accompanied by an adult;\n$2.00 additional charge per order for mailing tickets;\nAll performances are held at the Gemini Theater; \nShowtimes\n\nSat Sep 20\, 2014 1PM\nSat Sep 20\, 2014 3:30PM\nSun Sep 21\, 2014 1PM\nSun Sep 21\, 2014 3:30PM\nSat Sep 27\, 2014 1PM\nSat Sep 27\, 2014 3:30PM\nSun Sep 28\, 2014 1PM\nSun Sep 28\, 2014 3:30PM\nSat Oct 4\, 2014 1PM\nSat Oct 4\, 2014 3:30PM\nSun Oct 5\, 2014 1PM\nSun Oct 5\, 2014 3:30PM\nSat Oct 11\, 2014 1PM\nSat Oct 11\, 2014 3:30PM\nSun Oct 12\, 2014 1PM\nSun Oct 12\, 2014 3:30PM
URL:https://playpittsburgh.com/event/gemini-childrens-theater-presents-peter-pan-2/2014-09-21/
LOCATION:Gemini Children’s Theater\, 7501 Penn Ave\, Pittsburgh \, PA\, 15208\, United States
CATEGORIES:Performing Arts
GEO:40.447942;-79.895957
X-APPLE-STRUCTURED-LOCATION;VALUE=URI;X-ADDRESS=Gemini Children’s Theater 7501 Penn Ave Pittsburgh  PA 15208 United States;X-APPLE-RADIUS=500;X-TITLE=7501 Penn Ave:geo:-79.895957,40.447942
END:VEVENT
BEGIN:VEVENT
DTSTART;TZID=America/New_York:20140921T130000
DTEND;TZID=America/New_York:20140921T153000
DTSTAMP:20260422T030715
CREATED:20140901T224359Z
LAST-MODIFIED:20140901T224359Z
UID:6718-1411304400-1411313400@playpittsburgh.com
SUMMARY:Gemini Children's Theater Presents Peter Pan
DESCRIPTION:Join Gemini Children’s Theater for an adventure to Never\, Neverland in this classic Gemini Children’s Theater original\, interactive\, musical theater production. \nAll performances are Saturdays & Sundays at 1:00pm & 3:30pm;\nFlex Pass Subscriptions available soon;\n$2.00 service charge on all orders (Box Office and Online);\nBench seating is for children 8 and under only. No adults permitted;\nPlease note that all children MUST be accompanied by an adult;\n$2.00 additional charge per order for mailing tickets;\nAll performances are held at the Gemini Theater; \nShowtimes\n\nSat Sep 20\, 2014 1PM\nSat Sep 20\, 2014 3:30PM\nSun Sep 21\, 2014 1PM\nSun Sep 21\, 2014 3:30PM\nSat Sep 27\, 2014 1PM\nSat Sep 27\, 2014 3:30PM\nSun Sep 28\, 2014 1PM\nSun Sep 28\, 2014 3:30PM\nSat Oct 4\, 2014 1PM\nSat Oct 4\, 2014 3:30PM\nSun Oct 5\, 2014 1PM\nSun Oct 5\, 2014 3:30PM\nSat Oct 11\, 2014 1PM\nSat Oct 11\, 2014 3:30PM\nSun Oct 12\, 2014 1PM\nSun Oct 12\, 2014 3:30PM
URL:https://playpittsburgh.com/event/gemini-childrens-theater-presents-peter-pan-2-2/2014-09-21/
LOCATION:Gemini Children’s Theater\, 7501 Penn Ave\, Pittsburgh \, PA\, 15208\, United States
CATEGORIES:Performing Arts
GEO:40.447942;-79.895957
X-APPLE-STRUCTURED-LOCATION;VALUE=URI;X-ADDRESS=Gemini Children’s Theater 7501 Penn Ave Pittsburgh  PA 15208 United States;X-APPLE-RADIUS=500;X-TITLE=7501 Penn Ave:geo:-79.895957,40.447942
END:VEVENT
BEGIN:VEVENT
DTSTART;TZID=America/New_York:20140920T130000
DTEND;TZID=America/New_York:20140921T150000
DTSTAMP:20260422T030715
CREATED:20140901T224209Z
LAST-MODIFIED:20140901T224209Z
UID:3580-1411218000-1411311600@playpittsburgh.com
SUMMARY:Gemini Children's Theater Presents Peter Pan
DESCRIPTION:Join Gemini Children’s Theater for an adventure to Never\, Neverland in this classic Gemini Children’s Theater original\, interactive\, musical theater production. \nAll performances are Saturdays & Sundays at 1:00pm & 3:30pm;\nFlex Pass Subscriptions available soon;\n$2.00 service charge on all orders (Box Office and Online);\nBench seating is for children 8 and under only. No adults permitted;\nPlease note that all children MUST be accompanied by an adult;\n$2.00 additional charge per order for mailing tickets;\nAll performances are held at the Gemini Theater; \nShowtimes\n\nSat Sep 20\, 2014 1PM\nSat Sep 20\, 2014 3:30PM\nSun Sep 21\, 2014 1PM\nSun Sep 21\, 2014 3:30PM\nSat Sep 27\, 2014 1PM\nSat Sep 27\, 2014 3:30PM\nSun Sep 28\, 2014 1PM\nSun Sep 28\, 2014 3:30PM\nSat Oct 4\, 2014 1PM\nSat Oct 4\, 2014 3:30PM\nSun Oct 5\, 2014 1PM\nSun Oct 5\, 2014 3:30PM\nSat Oct 11\, 2014 1PM\nSat Oct 11\, 2014 3:30PM\nSun Oct 12\, 2014 1PM\nSun Oct 12\, 2014 3:30PM
URL:https://playpittsburgh.com/event/gemini-childrens-theater-presents-peter-pan/2014-09-20/
LOCATION:Gemini Children’s Theater\, 7501 Penn Ave\, Pittsburgh \, PA\, 15208\, United States
CATEGORIES:Performing Arts
GEO:40.447942;-79.895957
X-APPLE-STRUCTURED-LOCATION;VALUE=URI;X-ADDRESS=Gemini Children’s Theater 7501 Penn Ave Pittsburgh  PA 15208 United States;X-APPLE-RADIUS=500;X-TITLE=7501 Penn Ave:geo:-79.895957,40.447942
END:VEVENT
BEGIN:VEVENT
DTSTART;TZID=America/New_York:20140920T130000
DTEND;TZID=America/New_York:20140921T150000
DTSTAMP:20260422T030715
CREATED:20140901T224209Z
LAST-MODIFIED:20140901T224209Z
UID:6714-1411218000-1411311600@playpittsburgh.com
SUMMARY:Gemini Children's Theater Presents Peter Pan
DESCRIPTION:Join Gemini Children’s Theater for an adventure to Never\, Neverland in this classic Gemini Children’s Theater original\, interactive\, musical theater production. \nAll performances are Saturdays & Sundays at 1:00pm & 3:30pm;\nFlex Pass Subscriptions available soon;\n$2.00 service charge on all orders (Box Office and Online);\nBench seating is for children 8 and under only. No adults permitted;\nPlease note that all children MUST be accompanied by an adult;\n$2.00 additional charge per order for mailing tickets;\nAll performances are held at the Gemini Theater; \nShowtimes\n\nSat Sep 20\, 2014 1PM\nSat Sep 20\, 2014 3:30PM\nSun Sep 21\, 2014 1PM\nSun Sep 21\, 2014 3:30PM\nSat Sep 27\, 2014 1PM\nSat Sep 27\, 2014 3:30PM\nSun Sep 28\, 2014 1PM\nSun Sep 28\, 2014 3:30PM\nSat Oct 4\, 2014 1PM\nSat Oct 4\, 2014 3:30PM\nSun Oct 5\, 2014 1PM\nSun Oct 5\, 2014 3:30PM\nSat Oct 11\, 2014 1PM\nSat Oct 11\, 2014 3:30PM\nSun Oct 12\, 2014 1PM\nSun Oct 12\, 2014 3:30PM
URL:https://playpittsburgh.com/event/gemini-childrens-theater-presents-peter-pan-3/2014-09-20/
LOCATION:Gemini Children’s Theater\, 7501 Penn Ave\, Pittsburgh \, PA\, 15208\, United States
CATEGORIES:Performing Arts
GEO:40.447942;-79.895957
X-APPLE-STRUCTURED-LOCATION;VALUE=URI;X-ADDRESS=Gemini Children’s Theater 7501 Penn Ave Pittsburgh  PA 15208 United States;X-APPLE-RADIUS=500;X-TITLE=7501 Penn Ave:geo:-79.895957,40.447942
END:VEVENT
END:VCALENDAR