BEGIN:VCALENDAR
VERSION:2.0
PRODID:-//Play Pittsburgh - ECPv6.15.20//NONSGML v1.0//EN
CALSCALE:GREGORIAN
METHOD:PUBLISH
X-WR-CALNAME:Play Pittsburgh
X-ORIGINAL-URL:https://playpittsburgh.com
X-WR-CALDESC:Events for Play Pittsburgh
REFRESH-INTERVAL;VALUE=DURATION:PT1H
X-Robots-Tag:noindex
X-PUBLISHED-TTL:PT1H
BEGIN:VTIMEZONE
TZID:America/New_York
BEGIN:DAYLIGHT
TZOFFSETFROM:-0500
TZOFFSETTO:-0400
TZNAME:EDT
DTSTART:20130310T070000
END:DAYLIGHT
BEGIN:STANDARD
TZOFFSETFROM:-0400
TZOFFSETTO:-0500
TZNAME:EST
DTSTART:20131103T060000
END:STANDARD
BEGIN:DAYLIGHT
TZOFFSETFROM:-0500
TZOFFSETTO:-0400
TZNAME:EDT
DTSTART:20140309T070000
END:DAYLIGHT
BEGIN:STANDARD
TZOFFSETFROM:-0400
TZOFFSETTO:-0500
TZNAME:EST
DTSTART:20141102T060000
END:STANDARD
BEGIN:DAYLIGHT
TZOFFSETFROM:-0500
TZOFFSETTO:-0400
TZNAME:EDT
DTSTART:20150308T070000
END:DAYLIGHT
BEGIN:STANDARD
TZOFFSETFROM:-0400
TZOFFSETTO:-0500
TZNAME:EST
DTSTART:20151101T060000
END:STANDARD
END:VTIMEZONE
BEGIN:VEVENT
DTSTART;TZID=America/New_York:20141221T133000
DTEND;TZID=America/New_York:20141221T150000
DTSTAMP:20260421T142455
CREATED:20141204T233548Z
LAST-MODIFIED:20141204T233548Z
UID:8208-1419168600-1419174000@playpittsburgh.com
SUMMARY:Santa Fun Cruise on the Gateway Clipper
DESCRIPTION:HO HO HO\, Santa Claus is coming to town – aboard this Pittsburgh holiday tradition. Bring the whole family down for a special meet and greet with Santa Claus and his closest buddies! The kids can get up and dance with all their new friends when the DJ dance party starts. And Santa even has a special treat for all you good boys and girls! So kids get your Christmas List in order and we’ll see ya on the boat! \nTickets \nAdult: $25\nChild: $12 \nCruise Dates & Times \nDec 6 2014 1:30 PM SANTA FUN CRUISE\nDec 7 2014 1:30 PM SANTA FUN CRUISE\nDec 13 2014 9:30 AM BREAKFAST WITH SANTA CRUISE\nDec 13 2014 1:30 PM SANTA FUN CRUISE\nDec 14 2014 1:30 PM SANTA FUN CRUISE\nDec 20 2014 9:30 AM BREAKFAST WITH SANTA CRUISE\nDec 20 2014 1:30 PM SANTA FUN CRUISE\nDec 21 2014 1:30 PM SANTA FUN CRUISE
URL:https://playpittsburgh.com/event/santa-fun-cruise-on-the-gateway-clipper-2/2014-12-21/
LOCATION:Gateway Clipper\, 350 W Station Square Dr\, Pittsburgh\, PA\, 15219\, United States
GEO:40.4332991;-80.0042611
X-APPLE-STRUCTURED-LOCATION;VALUE=URI;X-ADDRESS=Gateway Clipper 350 W Station Square Dr Pittsburgh PA 15219 United States;X-APPLE-RADIUS=500;X-TITLE=350 W Station Square Dr:geo:-80.0042611,40.4332991
END:VEVENT
BEGIN:VEVENT
DTSTART;TZID=America/New_York:20141220T013000
DTEND;TZID=America/New_York:20141220T150000
DTSTAMP:20260421T142455
CREATED:20141204T233448Z
LAST-MODIFIED:20141204T233448Z
UID:8206-1419039000-1419087600@playpittsburgh.com
SUMMARY:Santa Fun Cruise on the Gateway Clipper
DESCRIPTION:HO HO HO\, Santa Claus is coming to town – aboard this Pittsburgh holiday tradition. Bring the whole family down for a special meet and greet with Santa Claus and his closest buddies! The kids can get up and dance with all their new friends when the DJ dance party starts. And Santa even has a special treat for all you good boys and girls! So kids get your Christmas List in order and we’ll see ya on the boat! \nTickets \nAdult: $25\nChild: $12 \nCruise Dates & Times \nDec 6 2014 1:30 PM SANTA FUN CRUISE\nDec 7 2014 1:30 PM SANTA FUN CRUISE\nDec 13 2014 9:30 AM BREAKFAST WITH SANTA CRUISE\nDec 13 2014 1:30 PM SANTA FUN CRUISE\nDec 14 2014 1:30 PM SANTA FUN CRUISE\nDec 20 2014 9:30 AM BREAKFAST WITH SANTA CRUISE\nDec 20 2014 1:30 PM SANTA FUN CRUISE\nDec 21 2014 1:30 PM SANTA FUN CRUISE
URL:https://playpittsburgh.com/event/santa-fun-cruise-on-the-gateway-clipper/2014-12-20/
LOCATION:Gateway Clipper\, 350 W Station Square Dr\, Pittsburgh\, PA\, 15219\, United States
GEO:40.4332991;-80.0042611
X-APPLE-STRUCTURED-LOCATION;VALUE=URI;X-ADDRESS=Gateway Clipper 350 W Station Square Dr Pittsburgh PA 15219 United States;X-APPLE-RADIUS=500;X-TITLE=350 W Station Square Dr:geo:-80.0042611,40.4332991
END:VEVENT
BEGIN:VEVENT
DTSTART;TZID=America/New_York:20141220T013000
DTEND;TZID=America/New_York:20141220T150000
DTSTAMP:20260421T142455
CREATED:20141204T233448Z
LAST-MODIFIED:20141204T233448Z
UID:5146-1419039000-1419087600@playpittsburgh.com
SUMMARY:Santa Fun Cruise on the Gateway Clipper
DESCRIPTION:HO HO HO\, Santa Claus is coming to town – aboard this Pittsburgh holiday tradition. Bring the whole family down for a special meet and greet with Santa Claus and his closest buddies! The kids can get up and dance with all their new friends when the DJ dance party starts. And Santa even has a special treat for all you good boys and girls! So kids get your Christmas List in order and we’ll see ya on the boat! \nTickets \nAdult: $25\nChild: $12 \nCruise Dates & Times \nDec 6 2014 1:30 PM SANTA FUN CRUISE\nDec 7 2014 1:30 PM SANTA FUN CRUISE\nDec 13 2014 9:30 AM BREAKFAST WITH SANTA CRUISE\nDec 13 2014 1:30 PM SANTA FUN CRUISE\nDec 14 2014 1:30 PM SANTA FUN CRUISE\nDec 20 2014 9:30 AM BREAKFAST WITH SANTA CRUISE\nDec 20 2014 1:30 PM SANTA FUN CRUISE\nDec 21 2014 1:30 PM SANTA FUN CRUISE
URL:https://playpittsburgh.com/event/santa-fun-cruise-on-the-gateway-clipper/2014-12-20/
LOCATION:Gateway Clipper\, 350 W Station Square Dr\, Pittsburgh\, PA\, 15219\, United States
GEO:40.4332991;-80.0042611
X-APPLE-STRUCTURED-LOCATION;VALUE=URI;X-ADDRESS=Gateway Clipper 350 W Station Square Dr Pittsburgh PA 15219 United States;X-APPLE-RADIUS=500;X-TITLE=350 W Station Square Dr:geo:-80.0042611,40.4332991
END:VEVENT
BEGIN:VEVENT
DTSTART;TZID=America/New_York:20141214T133000
DTEND;TZID=America/New_York:20141214T150000
DTSTAMP:20260421T142455
CREATED:20141204T233548Z
LAST-MODIFIED:20141204T233548Z
UID:5148-1418563800-1418569200@playpittsburgh.com
SUMMARY:Santa Fun Cruise on the Gateway Clipper
DESCRIPTION:HO HO HO\, Santa Claus is coming to town – aboard this Pittsburgh holiday tradition. Bring the whole family down for a special meet and greet with Santa Claus and his closest buddies! The kids can get up and dance with all their new friends when the DJ dance party starts. And Santa even has a special treat for all you good boys and girls! So kids get your Christmas List in order and we’ll see ya on the boat! \nTickets \nAdult: $25\nChild: $12 \nCruise Dates & Times \nDec 6 2014 1:30 PM SANTA FUN CRUISE\nDec 7 2014 1:30 PM SANTA FUN CRUISE\nDec 13 2014 9:30 AM BREAKFAST WITH SANTA CRUISE\nDec 13 2014 1:30 PM SANTA FUN CRUISE\nDec 14 2014 1:30 PM SANTA FUN CRUISE\nDec 20 2014 9:30 AM BREAKFAST WITH SANTA CRUISE\nDec 20 2014 1:30 PM SANTA FUN CRUISE\nDec 21 2014 1:30 PM SANTA FUN CRUISE
URL:https://playpittsburgh.com/event/santa-fun-cruise-on-the-gateway-clipper-2/2014-12-14/
LOCATION:Gateway Clipper\, 350 W Station Square Dr\, Pittsburgh\, PA\, 15219\, United States
GEO:40.4332991;-80.0042611
X-APPLE-STRUCTURED-LOCATION;VALUE=URI;X-ADDRESS=Gateway Clipper 350 W Station Square Dr Pittsburgh PA 15219 United States;X-APPLE-RADIUS=500;X-TITLE=350 W Station Square Dr:geo:-80.0042611,40.4332991
END:VEVENT
BEGIN:VEVENT
DTSTART;TZID=America/New_York:20141214T133000
DTEND;TZID=America/New_York:20141214T150000
DTSTAMP:20260421T142455
CREATED:20141204T233548Z
LAST-MODIFIED:20141204T233548Z
UID:8207-1418563800-1418569200@playpittsburgh.com
SUMMARY:Santa Fun Cruise on the Gateway Clipper
DESCRIPTION:HO HO HO\, Santa Claus is coming to town – aboard this Pittsburgh holiday tradition. Bring the whole family down for a special meet and greet with Santa Claus and his closest buddies! The kids can get up and dance with all their new friends when the DJ dance party starts. And Santa even has a special treat for all you good boys and girls! So kids get your Christmas List in order and we’ll see ya on the boat! \nTickets \nAdult: $25\nChild: $12 \nCruise Dates & Times \nDec 6 2014 1:30 PM SANTA FUN CRUISE\nDec 7 2014 1:30 PM SANTA FUN CRUISE\nDec 13 2014 9:30 AM BREAKFAST WITH SANTA CRUISE\nDec 13 2014 1:30 PM SANTA FUN CRUISE\nDec 14 2014 1:30 PM SANTA FUN CRUISE\nDec 20 2014 9:30 AM BREAKFAST WITH SANTA CRUISE\nDec 20 2014 1:30 PM SANTA FUN CRUISE\nDec 21 2014 1:30 PM SANTA FUN CRUISE
URL:https://playpittsburgh.com/event/santa-fun-cruise-on-the-gateway-clipper-2/2014-12-14/
LOCATION:Gateway Clipper\, 350 W Station Square Dr\, Pittsburgh\, PA\, 15219\, United States
GEO:40.4332991;-80.0042611
X-APPLE-STRUCTURED-LOCATION;VALUE=URI;X-ADDRESS=Gateway Clipper 350 W Station Square Dr Pittsburgh PA 15219 United States;X-APPLE-RADIUS=500;X-TITLE=350 W Station Square Dr:geo:-80.0042611,40.4332991
END:VEVENT
BEGIN:VEVENT
DTSTART;TZID=America/New_York:20141213T013000
DTEND;TZID=America/New_York:20141213T150000
DTSTAMP:20260421T142455
CREATED:20141204T233448Z
LAST-MODIFIED:20141204T233448Z
UID:8205-1418434200-1418482800@playpittsburgh.com
SUMMARY:Santa Fun Cruise on the Gateway Clipper
DESCRIPTION:HO HO HO\, Santa Claus is coming to town – aboard this Pittsburgh holiday tradition. Bring the whole family down for a special meet and greet with Santa Claus and his closest buddies! The kids can get up and dance with all their new friends when the DJ dance party starts. And Santa even has a special treat for all you good boys and girls! So kids get your Christmas List in order and we’ll see ya on the boat! \nTickets \nAdult: $25\nChild: $12 \nCruise Dates & Times \nDec 6 2014 1:30 PM SANTA FUN CRUISE\nDec 7 2014 1:30 PM SANTA FUN CRUISE\nDec 13 2014 9:30 AM BREAKFAST WITH SANTA CRUISE\nDec 13 2014 1:30 PM SANTA FUN CRUISE\nDec 14 2014 1:30 PM SANTA FUN CRUISE\nDec 20 2014 9:30 AM BREAKFAST WITH SANTA CRUISE\nDec 20 2014 1:30 PM SANTA FUN CRUISE\nDec 21 2014 1:30 PM SANTA FUN CRUISE
URL:https://playpittsburgh.com/event/santa-fun-cruise-on-the-gateway-clipper/2014-12-13/
LOCATION:Gateway Clipper\, 350 W Station Square Dr\, Pittsburgh\, PA\, 15219\, United States
GEO:40.4332991;-80.0042611
X-APPLE-STRUCTURED-LOCATION;VALUE=URI;X-ADDRESS=Gateway Clipper 350 W Station Square Dr Pittsburgh PA 15219 United States;X-APPLE-RADIUS=500;X-TITLE=350 W Station Square Dr:geo:-80.0042611,40.4332991
END:VEVENT
BEGIN:VEVENT
DTSTART;TZID=America/New_York:20141213T013000
DTEND;TZID=America/New_York:20141213T150000
DTSTAMP:20260421T142455
CREATED:20141204T233448Z
LAST-MODIFIED:20141204T233448Z
UID:5145-1418434200-1418482800@playpittsburgh.com
SUMMARY:Santa Fun Cruise on the Gateway Clipper
DESCRIPTION:HO HO HO\, Santa Claus is coming to town – aboard this Pittsburgh holiday tradition. Bring the whole family down for a special meet and greet with Santa Claus and his closest buddies! The kids can get up and dance with all their new friends when the DJ dance party starts. And Santa even has a special treat for all you good boys and girls! So kids get your Christmas List in order and we’ll see ya on the boat! \nTickets \nAdult: $25\nChild: $12 \nCruise Dates & Times \nDec 6 2014 1:30 PM SANTA FUN CRUISE\nDec 7 2014 1:30 PM SANTA FUN CRUISE\nDec 13 2014 9:30 AM BREAKFAST WITH SANTA CRUISE\nDec 13 2014 1:30 PM SANTA FUN CRUISE\nDec 14 2014 1:30 PM SANTA FUN CRUISE\nDec 20 2014 9:30 AM BREAKFAST WITH SANTA CRUISE\nDec 20 2014 1:30 PM SANTA FUN CRUISE\nDec 21 2014 1:30 PM SANTA FUN CRUISE
URL:https://playpittsburgh.com/event/santa-fun-cruise-on-the-gateway-clipper/2014-12-13/
LOCATION:Gateway Clipper\, 350 W Station Square Dr\, Pittsburgh\, PA\, 15219\, United States
GEO:40.4332991;-80.0042611
X-APPLE-STRUCTURED-LOCATION;VALUE=URI;X-ADDRESS=Gateway Clipper 350 W Station Square Dr Pittsburgh PA 15219 United States;X-APPLE-RADIUS=500;X-TITLE=350 W Station Square Dr:geo:-80.0042611,40.4332991
END:VEVENT
BEGIN:VEVENT
DTSTART;TZID=America/New_York:20141207T133000
DTEND;TZID=America/New_York:20141207T150000
DTSTAMP:20260421T142455
CREATED:20141204T233548Z
LAST-MODIFIED:20141204T233548Z
UID:5147-1417959000-1417964400@playpittsburgh.com
SUMMARY:Santa Fun Cruise on the Gateway Clipper
DESCRIPTION:HO HO HO\, Santa Claus is coming to town – aboard this Pittsburgh holiday tradition. Bring the whole family down for a special meet and greet with Santa Claus and his closest buddies! The kids can get up and dance with all their new friends when the DJ dance party starts. And Santa even has a special treat for all you good boys and girls! So kids get your Christmas List in order and we’ll see ya on the boat! \nTickets \nAdult: $25\nChild: $12 \nCruise Dates & Times \nDec 6 2014 1:30 PM SANTA FUN CRUISE\nDec 7 2014 1:30 PM SANTA FUN CRUISE\nDec 13 2014 9:30 AM BREAKFAST WITH SANTA CRUISE\nDec 13 2014 1:30 PM SANTA FUN CRUISE\nDec 14 2014 1:30 PM SANTA FUN CRUISE\nDec 20 2014 9:30 AM BREAKFAST WITH SANTA CRUISE\nDec 20 2014 1:30 PM SANTA FUN CRUISE\nDec 21 2014 1:30 PM SANTA FUN CRUISE
URL:https://playpittsburgh.com/event/santa-fun-cruise-on-the-gateway-clipper-2/2014-12-07/
LOCATION:Gateway Clipper\, 350 W Station Square Dr\, Pittsburgh\, PA\, 15219\, United States
GEO:40.4332991;-80.0042611
X-APPLE-STRUCTURED-LOCATION;VALUE=URI;X-ADDRESS=Gateway Clipper 350 W Station Square Dr Pittsburgh PA 15219 United States;X-APPLE-RADIUS=500;X-TITLE=350 W Station Square Dr:geo:-80.0042611,40.4332991
END:VEVENT
BEGIN:VEVENT
DTSTART;TZID=America/New_York:20141206T013000
DTEND;TZID=America/New_York:20141206T150000
DTSTAMP:20260421T142455
CREATED:20141204T233448Z
LAST-MODIFIED:20141204T233448Z
UID:5144-1417829400-1417878000@playpittsburgh.com
SUMMARY:Santa Fun Cruise on the Gateway Clipper
DESCRIPTION:HO HO HO\, Santa Claus is coming to town – aboard this Pittsburgh holiday tradition. Bring the whole family down for a special meet and greet with Santa Claus and his closest buddies! The kids can get up and dance with all their new friends when the DJ dance party starts. And Santa even has a special treat for all you good boys and girls! So kids get your Christmas List in order and we’ll see ya on the boat! \nTickets \nAdult: $25\nChild: $12 \nCruise Dates & Times \nDec 6 2014 1:30 PM SANTA FUN CRUISE\nDec 7 2014 1:30 PM SANTA FUN CRUISE\nDec 13 2014 9:30 AM BREAKFAST WITH SANTA CRUISE\nDec 13 2014 1:30 PM SANTA FUN CRUISE\nDec 14 2014 1:30 PM SANTA FUN CRUISE\nDec 20 2014 9:30 AM BREAKFAST WITH SANTA CRUISE\nDec 20 2014 1:30 PM SANTA FUN CRUISE\nDec 21 2014 1:30 PM SANTA FUN CRUISE
URL:https://playpittsburgh.com/event/santa-fun-cruise-on-the-gateway-clipper/2014-12-06/
LOCATION:Gateway Clipper\, 350 W Station Square Dr\, Pittsburgh\, PA\, 15219\, United States
GEO:40.4332991;-80.0042611
X-APPLE-STRUCTURED-LOCATION;VALUE=URI;X-ADDRESS=Gateway Clipper 350 W Station Square Dr Pittsburgh PA 15219 United States;X-APPLE-RADIUS=500;X-TITLE=350 W Station Square Dr:geo:-80.0042611,40.4332991
END:VEVENT
BEGIN:VEVENT
DTSTART;TZID=America/New_York:20141025T110000
DTEND;TZID=America/New_York:20141025T150000
DTSTAMP:20260421T142455
CREATED:20140929T225930Z
LAST-MODIFIED:20140929T225930Z
UID:3906-1414234800-1414249200@playpittsburgh.com
SUMMARY:Monster Party Riverboat Cruise on the Gateway Clipper
DESCRIPTION:Come aboard for a kids’ costume party with frightfully friendly characters\, tons of fun prizes and other treats!\nSATURDAY\, OCTOBER 25 (two sailing times) \n\nBoard: 10:30 am\nSail: 11:00 am – 1:00 pm\n\n  \n\nBoard: 1:15 pm\nSail: 1:30 – 3:30 pm\n\n  \nTICKETS: Adult: $25* • Child: $12*
URL:https://playpittsburgh.com/event/monster-party-riverboat-cruise-on-the-gateway-clipper/
LOCATION:Gateway Clipper\, 350 W Station Square Dr\, Pittsburgh\, PA\, 15219\, United States
GEO:40.4332991;-80.0042611
X-APPLE-STRUCTURED-LOCATION;VALUE=URI;X-ADDRESS=Gateway Clipper 350 W Station Square Dr Pittsburgh PA 15219 United States;X-APPLE-RADIUS=500;X-TITLE=350 W Station Square Dr:geo:-80.0042611,40.4332991
END:VEVENT
BEGIN:VEVENT
DTSTART;TZID=America/New_York:20140830T080000
DTEND;TZID=America/New_York:20140901T180000
DTSTAMP:20260421T142455
CREATED:20140422T015730Z
LAST-MODIFIED:20140422T015730Z
UID:707-1409385600-1409594400@playpittsburgh.com
SUMMARY:Kids $1 Weekends
DESCRIPTION:Looking for things to do in Pittsburgh on holiday weekends? Well\, celebrate the holiday on a cruise and enjoy great savings! All Kids 12 and under ride any One Hour/Evening Sightseeing\, Kings Good Ship Lollipop\, or Ice Cream Social Cruise for JUST $1 \nCheck their website for a full list of sailing time for the One Hour Sightseeing\, Ice Cream Social\, Good Ship Lollipop & Evening Sightseeing Cruises. \n 
URL:https://playpittsburgh.com/event/kids-1-weekends-3/
LOCATION:Gateway Clipper\, 350 W Station Square Dr\, Pittsburgh\, PA\, 15219\, United States
CATEGORIES:Outdoor
GEO:40.4332991;-80.0042611
X-APPLE-STRUCTURED-LOCATION;VALUE=URI;X-ADDRESS=Gateway Clipper 350 W Station Square Dr Pittsburgh PA 15219 United States;X-APPLE-RADIUS=500;X-TITLE=350 W Station Square Dr:geo:-80.0042611,40.4332991
END:VEVENT
BEGIN:VEVENT
DTSTART;TZID=America/New_York:20140823T120000
DTEND;TZID=America/New_York:20140823T150000
DTSTAMP:20260421T142455
CREATED:20140422T013626Z
LAST-MODIFIED:20140422T013626Z
UID:700-1408795200-1408806000@playpittsburgh.com
SUMMARY:Superhero Cruise
DESCRIPTION:Calling all superheroes to the Gateway Clipper Fleet! Come aboard and hang out with your favorite real life superheroes! Whether from your favorite comic book or blockbuster movie\, you’re sure to see your favorite superstar. Enjoy a DJ dance party withall your girl & boy buddies! Refreshments and souvenirs will also be available.
URL:https://playpittsburgh.com/event/superhero-cruise-3/
LOCATION:Gateway Clipper\, 350 W Station Square Dr\, Pittsburgh\, PA\, 15219\, United States
CATEGORIES:Outdoor
GEO:40.4332991;-80.0042611
X-APPLE-STRUCTURED-LOCATION;VALUE=URI;X-ADDRESS=Gateway Clipper 350 W Station Square Dr Pittsburgh PA 15219 United States;X-APPLE-RADIUS=500;X-TITLE=350 W Station Square Dr:geo:-80.0042611,40.4332991
END:VEVENT
BEGIN:VEVENT
DTSTART;TZID=America/New_York:20140809T120000
DTEND;TZID=America/New_York:20140809T150000
DTSTAMP:20260421T142455
CREATED:20140422T014158Z
LAST-MODIFIED:20140422T014158Z
UID:703-1407585600-1407596400@playpittsburgh.com
SUMMARY:Princess Cruise
DESCRIPTION:All little princesses are cordially invited to the Gateway Clipper Fleet’s Princess Cruise! Your favorite Princesses will be on board to meet all you little sweeties plus there will be a DJ dance party and more! So join us for a lovely day on the water with all your favorite heroines from screen and stage.
URL:https://playpittsburgh.com/event/princess-cruise-3/
LOCATION:Gateway Clipper\, 350 W Station Square Dr\, Pittsburgh\, PA\, 15219\, United States
CATEGORIES:Outdoor
GEO:40.4332991;-80.0042611
X-APPLE-STRUCTURED-LOCATION;VALUE=URI;X-ADDRESS=Gateway Clipper 350 W Station Square Dr Pittsburgh PA 15219 United States;X-APPLE-RADIUS=500;X-TITLE=350 W Station Square Dr:geo:-80.0042611,40.4332991
END:VEVENT
BEGIN:VEVENT
DTSTART;TZID=America/New_York:20140726T120000
DTEND;TZID=America/New_York:20140726T150000
DTSTAMP:20260421T142455
CREATED:20140419T110025Z
LAST-MODIFIED:20140422T035810Z
UID:699-1406376000-1406386800@playpittsburgh.com
SUMMARY:Superhero Cruise
DESCRIPTION:Calling all superheroes to the Gateway Clipper Fleet! Come aboard and hang out with your favorite real life superheroes! Whether from your favorite comic book or blockbuster movie\, you’re sure to see your favorite superstar. Enjoy a DJ dance party withall your girl & boy buddies! Refreshments and souvenirs will also be available.
URL:https://playpittsburgh.com/event/superhero-cruise-2/
LOCATION:Gateway Clipper\, 350 W Station Square Dr\, Pittsburgh\, PA\, 15219\, United States
CATEGORIES:Outdoor
GEO:40.4332991;-80.0042611
X-APPLE-STRUCTURED-LOCATION;VALUE=URI;X-ADDRESS=Gateway Clipper 350 W Station Square Dr Pittsburgh PA 15219 United States;X-APPLE-RADIUS=500;X-TITLE=350 W Station Square Dr:geo:-80.0042611,40.4332991
END:VEVENT
BEGIN:VEVENT
DTSTART;TZID=America/New_York:20140712T120000
DTEND;TZID=America/New_York:20140712T150000
DTSTAMP:20260421T142455
CREATED:20140419T110049Z
LAST-MODIFIED:20140422T035842Z
UID:702-1405166400-1405177200@playpittsburgh.com
SUMMARY:Princess Cruise
DESCRIPTION:All little princesses are cordially invited to the Gateway Clipper Fleet’s Princess Cruise! Your favorite Princesses will be on board to meet all you little sweeties plus there will be a DJ dance party and more! So join us for a lovely day on the water with all your favorite heroines from screen and stage.
URL:https://playpittsburgh.com/event/princess-cruise-2/
LOCATION:Gateway Clipper\, 350 W Station Square Dr\, Pittsburgh\, PA\, 15219\, United States
CATEGORIES:Outdoor
GEO:40.4332991;-80.0042611
X-APPLE-STRUCTURED-LOCATION;VALUE=URI;X-ADDRESS=Gateway Clipper 350 W Station Square Dr Pittsburgh PA 15219 United States;X-APPLE-RADIUS=500;X-TITLE=350 W Station Square Dr:geo:-80.0042611,40.4332991
END:VEVENT
BEGIN:VEVENT
DTSTART;TZID=America/New_York:20140704T190000
DTEND;TZID=America/New_York:20140704T220000
DTSTAMP:20260421T142455
CREATED:20140625T233645Z
LAST-MODIFIED:20140625T233645Z
UID:2119-1404500400-1404511200@playpittsburgh.com
SUMMARY:Gateway Clipper July 4th Dinner Cruise
DESCRIPTION:As the fireworks light up the Pittsburgh sky to celebrate the 4th of July\, you will be aboard a comfortable\,\nclimate-controlled riverboat with the best view of the colorful sky.  This birthday celebration of the U.S. A. also includes a DJ\, a wonderful buffet and the best hospitality that Pittsburgh has to offer!
URL:https://playpittsburgh.com/event/gateway-clipper-july-4th-dinner-cruise/
LOCATION:Gateway Clipper\, 350 W Station Square Dr\, Pittsburgh\, PA\, 15219\, United States
GEO:40.4332991;-80.0042611
X-APPLE-STRUCTURED-LOCATION;VALUE=URI;X-ADDRESS=Gateway Clipper 350 W Station Square Dr Pittsburgh PA 15219 United States;X-APPLE-RADIUS=500;X-TITLE=350 W Station Square Dr:geo:-80.0042611,40.4332991
END:VEVENT
BEGIN:VEVENT
DTSTART;TZID=America/New_York:20140704T080000
DTEND;TZID=America/New_York:20140706T220000
DTSTAMP:20260421T142455
CREATED:20140419T110029Z
LAST-MODIFIED:20140422T035901Z
UID:706-1404460800-1404684000@playpittsburgh.com
SUMMARY:Kids $1 Weekends
DESCRIPTION:Looking for things to do in Pittsburgh on holiday weekends? Well\, celebrate the holiday on a cruise and enjoy great savings! All Kids 12 and under ride any One Hour/Evening Sightseeing\, Kings Good Ship Lollipop\, or Ice Cream Social Cruise for JUST $1 \nCheck their website for a full list of sailing time for the One Hour Sightseeing\, Ice Cream Social\, Good Ship Lollipop & Evening Sightseeing Cruises. \n 
URL:https://playpittsburgh.com/event/kids-1-weekends-2/
LOCATION:Gateway Clipper\, 350 W Station Square Dr\, Pittsburgh\, PA\, 15219\, United States
CATEGORIES:Outdoor
GEO:40.4332991;-80.0042611
X-APPLE-STRUCTURED-LOCATION;VALUE=URI;X-ADDRESS=Gateway Clipper 350 W Station Square Dr Pittsburgh PA 15219 United States;X-APPLE-RADIUS=500;X-TITLE=350 W Station Square Dr:geo:-80.0042611,40.4332991
END:VEVENT
BEGIN:VEVENT
DTSTART;TZID=America/New_York:20140628T120000
DTEND;TZID=America/New_York:20140628T150000
DTSTAMP:20260421T142455
CREATED:20140322T110020Z
LAST-MODIFIED:20140422T035914Z
UID:697-1403956800-1403967600@playpittsburgh.com
SUMMARY:Superhero Cruise
DESCRIPTION:Calling all superheroes to the Gateway Clipper Fleet! Come aboard and hang out with your favorite real life superheroes! Whether from your favorite comic book or blockbuster movie\, you’re sure to see your favorite superstar. Enjoy a DJ dance party withall your girl & boy buddies! Refreshments and souvenirs will also be available.
URL:https://playpittsburgh.com/event/superhero-cruise/
LOCATION:Gateway Clipper\, 350 W Station Square Dr\, Pittsburgh\, PA\, 15219\, United States
CATEGORIES:Outdoor
GEO:40.4332991;-80.0042611
X-APPLE-STRUCTURED-LOCATION;VALUE=URI;X-ADDRESS=Gateway Clipper 350 W Station Square Dr Pittsburgh PA 15219 United States;X-APPLE-RADIUS=500;X-TITLE=350 W Station Square Dr:geo:-80.0042611,40.4332991
END:VEVENT
BEGIN:VEVENT
DTSTART;TZID=America/New_York:20140621T000000
DTEND;TZID=America/New_York:20140621T150000
DTSTAMP:20260421T142455
CREATED:20140322T110037Z
LAST-MODIFIED:20140422T035936Z
UID:701-1403308800-1403362800@playpittsburgh.com
SUMMARY:Princess Cruise
DESCRIPTION:All little princesses are cordially invited to the Gateway Clipper Fleet’s Princess Cruise! Your favorite Princesses will be on board to meet all you little sweeties plus there will be a DJ dance party and more! So join us for a lovely day on the water with all your favorite heroines from screen and stage.
URL:https://playpittsburgh.com/event/princess-cruise/
LOCATION:Gateway Clipper\, 350 W Station Square Dr\, Pittsburgh\, PA\, 15219\, United States
CATEGORIES:Outdoor
GEO:40.4332991;-80.0042611
X-APPLE-STRUCTURED-LOCATION;VALUE=URI;X-ADDRESS=Gateway Clipper 350 W Station Square Dr Pittsburgh PA 15219 United States;X-APPLE-RADIUS=500;X-TITLE=350 W Station Square Dr:geo:-80.0042611,40.4332991
END:VEVENT
BEGIN:VEVENT
DTSTART;TZID=America/New_York:20140524T080000
DTEND;TZID=America/New_York:20140526T220000
DTSTAMP:20260421T142455
CREATED:20140422T015144Z
LAST-MODIFIED:20140422T015144Z
UID:705-1400918400-1401141600@playpittsburgh.com
SUMMARY:Kids $1 Weekends
DESCRIPTION:Looking for things to do in Pittsburgh on holiday weekends? Well\, celebrate the holiday on a cruise and enjoy great savings! All Kids 12 and under ride any One Hour/Evening Sightseeing\, Kings Good Ship Lollipop\, or Ice Cream Social Cruise for JUST $1 \nCheck their website for a full list of sailing time for the One Hour Sightseeing\, Ice Cream Social\, Good Ship Lollipop & Evening Sightseeing Cruises. \n 
URL:https://playpittsburgh.com/event/kids-1-weekends/
LOCATION:Gateway Clipper\, 350 W Station Square Dr\, Pittsburgh\, PA\, 15219\, United States
CATEGORIES:Outdoor
GEO:40.4332991;-80.0042611
X-APPLE-STRUCTURED-LOCATION;VALUE=URI;X-ADDRESS=Gateway Clipper 350 W Station Square Dr Pittsburgh PA 15219 United States;X-APPLE-RADIUS=500;X-TITLE=350 W Station Square Dr:geo:-80.0042611,40.4332991
END:VEVENT
END:VCALENDAR