BEGIN:VCALENDAR
VERSION:2.0
PRODID:-//Play Pittsburgh - ECPv6.15.20//NONSGML v1.0//EN
CALSCALE:GREGORIAN
METHOD:PUBLISH
X-WR-CALNAME:Play Pittsburgh
X-ORIGINAL-URL:https://playpittsburgh.com
X-WR-CALDESC:Events for Play Pittsburgh
REFRESH-INTERVAL;VALUE=DURATION:PT1H
X-Robots-Tag:noindex
X-PUBLISHED-TTL:PT1H
BEGIN:VTIMEZONE
TZID:America/New_York
BEGIN:DAYLIGHT
TZOFFSETFROM:-0500
TZOFFSETTO:-0400
TZNAME:EDT
DTSTART:20130310T070000
END:DAYLIGHT
BEGIN:STANDARD
TZOFFSETFROM:-0400
TZOFFSETTO:-0500
TZNAME:EST
DTSTART:20131103T060000
END:STANDARD
BEGIN:DAYLIGHT
TZOFFSETFROM:-0500
TZOFFSETTO:-0400
TZNAME:EDT
DTSTART:20140309T070000
END:DAYLIGHT
BEGIN:STANDARD
TZOFFSETFROM:-0400
TZOFFSETTO:-0500
TZNAME:EST
DTSTART:20141102T060000
END:STANDARD
BEGIN:DAYLIGHT
TZOFFSETFROM:-0500
TZOFFSETTO:-0400
TZNAME:EDT
DTSTART:20150308T070000
END:DAYLIGHT
BEGIN:STANDARD
TZOFFSETFROM:-0400
TZOFFSETTO:-0500
TZNAME:EST
DTSTART:20151101T060000
END:STANDARD
END:VTIMEZONE
BEGIN:VEVENT
DTSTART;TZID=America/New_York:20140719T110000
DTEND;TZID=America/New_York:20140719T160000
DTSTAMP:20260424T064355
CREATED:20140718T222210Z
LAST-MODIFIED:20140718T222210Z
UID:2786-1405767600-1405785600@playpittsburgh.com
SUMMARY:Mrs. Hopscotch's Hop Along Trail @ Fun Buy the Pound
DESCRIPTION:Join Fun Buy the Pound for a chance to explore Mrs. Hopscotch’s favorite stores in Sewickley. Each participant will receive a small prize.
URL:https://playpittsburgh.com/event/mrs-hopscotchs-hop-along-trail-fun-buy-the-pound/
LOCATION:Fun Buy The Pound Toy Store\, 406 Beaver Street\, Sewickley\, PA\, 15143\, United States
GEO:40.552542;-80.190889
X-APPLE-STRUCTURED-LOCATION;VALUE=URI;X-ADDRESS=Fun Buy The Pound Toy Store 406 Beaver Street Sewickley PA 15143 United States;X-APPLE-RADIUS=500;X-TITLE=406 Beaver Street:geo:-80.190889,40.552542
END:VEVENT
BEGIN:VEVENT
DTSTART;TZID=America/New_York:20140719T110000
DTEND;TZID=America/New_York:20140719T160000
DTSTAMP:20260424T064355
CREATED:20140718T222210Z
LAST-MODIFIED:20140718T222210Z
UID:6409-1405767600-1405785600@playpittsburgh.com
SUMMARY:Mrs. Hopscotch's Hop Along Trail @ Fun Buy the Pound
DESCRIPTION:Join Fun Buy the Pound for a chance to explore Mrs. Hopscotch’s favorite stores in Sewickley. Each participant will receive a small prize.
URL:https://playpittsburgh.com/event/mrs-hopscotchs-hop-along-trail-fun-buy-the-pound-2/
LOCATION:Fun Buy The Pound Toy Store\, 406 Beaver Street\, Sewickley\, PA\, 15143\, United States
GEO:40.552542;-80.190889
X-APPLE-STRUCTURED-LOCATION;VALUE=URI;X-ADDRESS=Fun Buy The Pound Toy Store 406 Beaver Street Sewickley PA 15143 United States;X-APPLE-RADIUS=500;X-TITLE=406 Beaver Street:geo:-80.190889,40.552542
END:VEVENT
BEGIN:VEVENT
DTSTART;TZID=America/New_York:20140428T130000
DTEND;TZID=America/New_York:20140428T170000
DTSTAMP:20260424T064355
CREATED:20140422T010814Z
LAST-MODIFIED:20140425T232824Z
UID:691-1398690000-1398704400@playpittsburgh.com
SUMMARY:Fun Buy the Pound Grand Re-Opening
DESCRIPTION:Fun Buy the Pound is a toy store where you can build with LEGO or K’Nex and then buy your creation by the weight. Grand re-opening to celebrate the renovation of their play space with enlarged the play area.
URL:https://playpittsburgh.com/event/fun-buy-the-pound-grand-re-opening/
LOCATION:Fun Buy The Pound Toy Store\, 406 Beaver Street\, Sewickley\, PA\, 15143\, United States
CATEGORIES:Indoor Play
GEO:40.552542;-80.190889
X-APPLE-STRUCTURED-LOCATION;VALUE=URI;X-ADDRESS=Fun Buy The Pound Toy Store 406 Beaver Street Sewickley PA 15143 United States;X-APPLE-RADIUS=500;X-TITLE=406 Beaver Street:geo:-80.190889,40.552542
END:VEVENT
END:VCALENDAR